BEGIN:VCALENDAR
VERSION:2.0
PRODID:-//WLCN 96.3 FM - ECPv6.15.20//NONSGML v1.0//EN
CALSCALE:GREGORIAN
METHOD:PUBLISH
X-ORIGINAL-URL:https://www.wlcnonline.com
X-WR-CALDESC:Events for WLCN 96.3 FM
REFRESH-INTERVAL;VALUE=DURATION:PT1H
X-Robots-Tag:noindex
X-PUBLISHED-TTL:PT1H
BEGIN:VTIMEZONE
TZID:America/Chicago
BEGIN:DAYLIGHT
TZOFFSETFROM:-0600
TZOFFSETTO:-0500
TZNAME:CDT
DTSTART:20240310T080000
END:DAYLIGHT
BEGIN:STANDARD
TZOFFSETFROM:-0500
TZOFFSETTO:-0600
TZNAME:CST
DTSTART:20241103T070000
END:STANDARD
BEGIN:DAYLIGHT
TZOFFSETFROM:-0600
TZOFFSETTO:-0500
TZNAME:CDT
DTSTART:20250309T080000
END:DAYLIGHT
BEGIN:STANDARD
TZOFFSETFROM:-0500
TZOFFSETTO:-0600
TZNAME:CST
DTSTART:20251102T070000
END:STANDARD
BEGIN:DAYLIGHT
TZOFFSETFROM:-0600
TZOFFSETTO:-0500
TZNAME:CDT
DTSTART:20260308T080000
END:DAYLIGHT
BEGIN:STANDARD
TZOFFSETFROM:-0500
TZOFFSETTO:-0600
TZNAME:CST
DTSTART:20261101T070000
END:STANDARD
BEGIN:DAYLIGHT
TZOFFSETFROM:-0600
TZOFFSETTO:-0500
TZNAME:CDT
DTSTART:20270314T080000
END:DAYLIGHT
BEGIN:STANDARD
TZOFFSETFROM:-0500
TZOFFSETTO:-0600
TZNAME:CST
DTSTART:20271107T070000
END:STANDARD
END:VTIMEZONE
BEGIN:VEVENT
DTSTART;TZID=America/Chicago:20260207T070000
DTEND;TZID=America/Chicago:20260207T130000
DTSTAMP:20260422T080920
CREATED:20260129T144105Z
LAST-MODIFIED:20260129T144105Z
UID:10022379-1770447600-1770469200@www.wlcnonline.com
SUMMARY:50th annual Pancake & Sausage Breakfast at Zion Lutheran School in Lincoln
DESCRIPTION:This event features an all you can eat pancake breakfast\, bake sale and silent auction. \nTickets for the pancake breakfast cost $10 per person (carry out is available). \nIn addition\, frozen meat is available for pre-order . Contact the ZLS office at (217) 732-3977 to order; some may be available the day of the event but that is not guaranteed. \nEvent codes ccfb ccfdd ccrel
URL:https://www.wlcnonline.com/event/50th-annual-pancake-sausage-breakfast-at-zion-lutheran-school-in-lincoln/
LOCATION:Zion Lutheran School-Lincoln\, 1600 Woodlawn Road\, Lincoln\, IL\, 62656\, United States
END:VEVENT
BEGIN:VEVENT
DTSTART;TZID=America/Chicago:20251213T160000
DTEND;TZID=America/Chicago:20251213T180000
DTSTAMP:20260422T080920
CREATED:20251205T042948Z
LAST-MODIFIED:20251205T042948Z
UID:10021200-1765641600-1765648800@www.wlcnonline.com
SUMMARY:2025 Journey to Bethlehem event at Zion Lutheran School in Lincoln
DESCRIPTION:The public is invited to experience this free indoor interactive journey through the story of Christmas in a meaningful and unforgettable way. \nEvent codes ccff ccedu ccrel ccchr
URL:https://www.wlcnonline.com/event/2025-journey-to-bethlehem-event-at-zion-lutheran-school-in-lincoln/
LOCATION:Zion Lutheran School-Lincoln\, 1600 Woodlawn Road\, Lincoln\, IL\, 62656\, United States
END:VEVENT
BEGIN:VEVENT
DTSTART;TZID=America/Chicago:20251016T180000
DTEND;TZID=America/Chicago:20251016T193000
DTSTAMP:20260422T080920
CREATED:20251003T032204Z
LAST-MODIFIED:20251003T032204Z
UID:10020886-1760637600-1760643000@www.wlcnonline.com
SUMMARY:"Protect Young Eyes: Creating Safer Digital Spaces" free workshop for parents and caregivers at Zion Lutheran School in Lincoln
DESCRIPTION:Zion Lutheran School in Lincoln is hosting this free workshop for all adults in the Lincoln area. Those attending will learn real-world solutions\, smart strategies\, and tips to use right away about creating creating a tech-ready home in the age of Artificial Intelligence (AI). \nThe event is free and open to adults in the Lincoln area. Childcare will not be provided. RSVPs are required; click here to RSVP for the event. \nEvent codes ccpar ccedu
URL:https://www.wlcnonline.com/event/protect-young-eyes-creating-safer-digital-spaces-free-workshop-for-parents-and-caregivers-at-zion-lutheran-school-in-lincoln/
LOCATION:Zion Lutheran School-Lincoln\, 1600 Woodlawn Road\, Lincoln\, IL\, 62656\, United States
END:VEVENT
BEGIN:VEVENT
DTSTART;TZID=America/Chicago:20250907T103000
DTEND;TZID=America/Chicago:20250907T130000
DTSTAMP:20260422T080920
CREATED:20250829T030842Z
LAST-MODIFIED:20250829T030842Z
UID:10020689-1757241000-1757250000@www.wlcnonline.com
SUMMARY:50th year homecoming celebration at Zion Lutheran School in Lincoln
DESCRIPTION:The event will include time of worship\, lunch\, and a program as ZLS reflects on the past and connects with alumni as well as current and former teachers\, staff\, students\, supporters and their families. \nEvent codes ccedu ccrel ccsoc
URL:https://www.wlcnonline.com/event/50th-year-homecoming-celebration-at-zion-lutheran-school-in-lincoln/
LOCATION:Zion Lutheran School-Lincoln\, 1600 Woodlawn Road\, Lincoln\, IL\, 62656\, United States
END:VEVENT
BEGIN:VEVENT
DTSTART;TZID=America/Chicago:20250906T163000
DTEND;TZID=America/Chicago:20250906T193000
DTSTAMP:20260422T080920
CREATED:20250829T030422Z
LAST-MODIFIED:20250829T030422Z
UID:10020688-1757176200-1757187000@www.wlcnonline.com
SUMMARY:2025 ZLS Family Fall Fest at Zion Lutheran School in Lincoln
DESCRIPTION:Attendees can enjoy a delicious meal catered by Peggy’s Place by Hillary\, fall games provided by the ZLS PTL\, an old fashioned cakewalk with baked items throughout the event and the ZLS annual pie and cake auction. \nAll funds raised support the fundraising efforts of the ZLS Challenge Committee to provide for overhead costs for ZLS and help keep tuition low for families. \nTickets for the meal cost $10 catered by Peggy’s Place by Hilary and include a pulled pork sandwich\, party potatoes\, baked beans and a cookie. \nThe schedule for the evening is: \nCarnival Time: 4:30-6:30 PM\nThe Meal: 5:00-7:00 PM with carryout available\nPie & Cake Auction: Begins at 6:30 PM \nTickets can be purchased from the office or from any ZLS student. \nEvent codes ccfb ccfdd ccrel ccsro  cchall
URL:https://www.wlcnonline.com/event/2025-zls-family-fall-fest-at-zion-lutheran-school-in-lincoln/
LOCATION:Zion Lutheran School-Lincoln\, 1600 Woodlawn Road\, Lincoln\, IL\, 62656\, United States
END:VEVENT
END:VCALENDAR