BEGIN:VCALENDAR
VERSION:2.0
PRODID:-//WLCN 96.3 FM - ECPv6.15.20//NONSGML v1.0//EN
CALSCALE:GREGORIAN
METHOD:PUBLISH
X-WR-CALNAME:WLCN 96.3 FM
X-ORIGINAL-URL:https://www.wlcnonline.com
X-WR-CALDESC:Events for WLCN 96.3 FM
REFRESH-INTERVAL;VALUE=DURATION:PT1H
X-Robots-Tag:noindex
X-PUBLISHED-TTL:PT1H
BEGIN:VTIMEZONE
TZID:America/Chicago
BEGIN:DAYLIGHT
TZOFFSETFROM:-0600
TZOFFSETTO:-0500
TZNAME:CDT
DTSTART:20240310T080000
END:DAYLIGHT
BEGIN:STANDARD
TZOFFSETFROM:-0500
TZOFFSETTO:-0600
TZNAME:CST
DTSTART:20241103T070000
END:STANDARD
BEGIN:DAYLIGHT
TZOFFSETFROM:-0600
TZOFFSETTO:-0500
TZNAME:CDT
DTSTART:20250309T080000
END:DAYLIGHT
BEGIN:STANDARD
TZOFFSETFROM:-0500
TZOFFSETTO:-0600
TZNAME:CST
DTSTART:20251102T070000
END:STANDARD
BEGIN:DAYLIGHT
TZOFFSETFROM:-0600
TZOFFSETTO:-0500
TZNAME:CDT
DTSTART:20260308T080000
END:DAYLIGHT
BEGIN:STANDARD
TZOFFSETFROM:-0500
TZOFFSETTO:-0600
TZNAME:CST
DTSTART:20261101T070000
END:STANDARD
BEGIN:DAYLIGHT
TZOFFSETFROM:-0600
TZOFFSETTO:-0500
TZNAME:CDT
DTSTART:20270314T080000
END:DAYLIGHT
BEGIN:STANDARD
TZOFFSETFROM:-0500
TZOFFSETTO:-0600
TZNAME:CST
DTSTART:20271107T070000
END:STANDARD
END:VTIMEZONE
BEGIN:VEVENT
DTSTART;TZID=America/Chicago:20260401T180000
DTEND;TZID=America/Chicago:20260401T190000
DTSTAMP:20260425T171753
CREATED:20260326T173125Z
LAST-MODIFIED:20260326T173126Z
UID:10022710-1775066400-1775070000@www.wlcnonline.com
SUMMARY:Middle school/high school art club at Waynesville Township Library in Waynesville
DESCRIPTION:Attendees will work on craft projects; snacks will be available. \nEvent codes ccfk ccac
URL:https://www.wlcnonline.com/event/middle-school-high-school-art-club-at-waynesville-township-library-in-waynesville/
LOCATION:Waynesville Township Library\, 303 E. Second Street\, Waynesville\, IL\, 61778\, United States
ORGANIZER;CN="Waynesville Township Library":MAILTO:waytlib@hotmail.com
END:VEVENT
BEGIN:VEVENT
DTSTART;TZID=America/Chicago:20260214T103000
DTEND;TZID=America/Chicago:20260214T123000
DTSTAMP:20260425T171753
CREATED:20260205T180659Z
LAST-MODIFIED:20260205T180659Z
UID:10022477-1771065000-1771072200@www.wlcnonline.com
SUMMARY:Book signing by local author Linda Kropp at Waynesville Township Library
DESCRIPTION:Local author Linda Kropp will be on hand for conversation and to sign copies of her book featuring stories of her faith journey as told through her eyes as a gardener. \nEvent codes ccedu
URL:https://www.wlcnonline.com/event/book-signing-by-local-author-linda-kropp-at-waynesville-township-library/
LOCATION:Waynesville Township Library\, 303 E. Second Street\, Waynesville\, IL\, 61778\, United States
ORGANIZER;CN="Waynesville Township Library":MAILTO:waytlib@hotmail.com
END:VEVENT
BEGIN:VEVENT
DTSTART;TZID=America/Chicago:20251023T130000
DTEND;TZID=America/Chicago:20251023T170000
DTSTAMP:20260425T171753
CREATED:20251016T181003Z
LAST-MODIFIED:20251016T181003Z
UID:10020942-1761224400-1761238800@www.wlcnonline.com
SUMMARY:Pumpkin painting event at Waynesville Township Library
DESCRIPTION:Anyone is invited in to paint a pumpkin any time during open hours from October 20 to October 23. \nEvent codes ccaca cchall
URL:https://www.wlcnonline.com/event/pumpkin-painting-event-at-waynesville-township-library/2025-10-23/
LOCATION:Waynesville Township Library\, 303 E. Second Street\, Waynesville\, IL\, 61778\, United States
ORGANIZER;CN="Waynesville Township Library":MAILTO:waytlib@hotmail.com
END:VEVENT
BEGIN:VEVENT
DTSTART;TZID=America/Chicago:20251022T110000
DTEND;TZID=America/Chicago:20251022T190000
DTSTAMP:20260425T171753
CREATED:20251016T181003Z
LAST-MODIFIED:20251016T181003Z
UID:10020941-1761130800-1761159600@www.wlcnonline.com
SUMMARY:Pumpkin painting event at Waynesville Township Library
DESCRIPTION:Anyone is invited in to paint a pumpkin any time during open hours from October 20 to October 23. \nEvent codes ccaca cchall
URL:https://www.wlcnonline.com/event/pumpkin-painting-event-at-waynesville-township-library/2025-10-22/
LOCATION:Waynesville Township Library\, 303 E. Second Street\, Waynesville\, IL\, 61778\, United States
ORGANIZER;CN="Waynesville Township Library":MAILTO:waytlib@hotmail.com
END:VEVENT
BEGIN:VEVENT
DTSTART;TZID=America/Chicago:20251021T130000
DTEND;TZID=America/Chicago:20251021T170000
DTSTAMP:20260425T171753
CREATED:20251016T181003Z
LAST-MODIFIED:20251016T181003Z
UID:10020940-1761051600-1761066000@www.wlcnonline.com
SUMMARY:Pumpkin painting event at Waynesville Township Library
DESCRIPTION:Anyone is invited in to paint a pumpkin any time during open hours from October 20 to October 23. \nEvent codes ccaca cchall
URL:https://www.wlcnonline.com/event/pumpkin-painting-event-at-waynesville-township-library/2025-10-21/
LOCATION:Waynesville Township Library\, 303 E. Second Street\, Waynesville\, IL\, 61778\, United States
ORGANIZER;CN="Waynesville Township Library":MAILTO:waytlib@hotmail.com
END:VEVENT
BEGIN:VEVENT
DTSTART;TZID=America/Chicago:20251020T140000
DTEND;TZID=America/Chicago:20251020T190000
DTSTAMP:20260425T171753
CREATED:20251016T181003Z
LAST-MODIFIED:20251016T181003Z
UID:10020939-1760968800-1760986800@www.wlcnonline.com
SUMMARY:Pumpkin painting event at Waynesville Township Library
DESCRIPTION:Anyone is invited in to paint a pumpkin any time during open hours from October 20 to October 23. \nEvent codes ccaca cchall
URL:https://www.wlcnonline.com/event/pumpkin-painting-event-at-waynesville-township-library/2025-10-20/
LOCATION:Waynesville Township Library\, 303 E. Second Street\, Waynesville\, IL\, 61778\, United States
ORGANIZER;CN="Waynesville Township Library":MAILTO:waytlib@hotmail.com
END:VEVENT
END:VCALENDAR