BEGIN:VCALENDAR
VERSION:2.0
PRODID:-//WLCN 96.3 FM - ECPv6.15.20//NONSGML v1.0//EN
CALSCALE:GREGORIAN
METHOD:PUBLISH
X-WR-CALNAME:WLCN 96.3 FM
X-ORIGINAL-URL:https://www.wlcnonline.com
X-WR-CALDESC:Events for WLCN 96.3 FM
REFRESH-INTERVAL;VALUE=DURATION:PT1H
X-Robots-Tag:noindex
X-PUBLISHED-TTL:PT1H
BEGIN:VTIMEZONE
TZID:America/Chicago
BEGIN:DAYLIGHT
TZOFFSETFROM:-0600
TZOFFSETTO:-0500
TZNAME:CDT
DTSTART:20250309T080000
END:DAYLIGHT
BEGIN:STANDARD
TZOFFSETFROM:-0500
TZOFFSETTO:-0600
TZNAME:CST
DTSTART:20251102T070000
END:STANDARD
BEGIN:DAYLIGHT
TZOFFSETFROM:-0600
TZOFFSETTO:-0500
TZNAME:CDT
DTSTART:20260308T080000
END:DAYLIGHT
BEGIN:STANDARD
TZOFFSETFROM:-0500
TZOFFSETTO:-0600
TZNAME:CST
DTSTART:20261101T070000
END:STANDARD
BEGIN:DAYLIGHT
TZOFFSETFROM:-0600
TZOFFSETTO:-0500
TZNAME:CDT
DTSTART:20270314T080000
END:DAYLIGHT
BEGIN:STANDARD
TZOFFSETFROM:-0500
TZOFFSETTO:-0600
TZNAME:CST
DTSTART:20271107T070000
END:STANDARD
END:VTIMEZONE
BEGIN:VEVENT
DTSTART;TZID=America/Chicago:20260429T170000
DTEND;TZID=America/Chicago:20260429T180000
DTSTAMP:20260424T002542
CREATED:20260423T200636Z
LAST-MODIFIED:20260423T200636Z
UID:10023027-1777482000-1777485600@www.wlcnonline.com
SUMMARY:Land of Lincoln CEO Trade Show at Lincoln Depot
DESCRIPTION:This student-owned business expo features businesses created and operated by area high school juniors and seniors. The Land of Lincoln CEO Tradeshow will showcase three new student-owned and operated businesses opening in Logan County. This free event is the finale to the one-year program featuring high school students with an entrepreneurial spirit. \nStudents will showcase their companies and be available to answer questions about their products and services\, as well as speak about their experience in the CEO program. The public can support the student businesses by making purchases right at the event!\nSchedule: \n4:30 PM – CEO Class of 2025 Signing Day\, Senior Cord Presentation\, Investor Sneak Peak\, and Ribbon Cutting Ceremony\n5 PM to 6 PM – Trade Show Open to Public \nBusinesses featured include: \n\nPricked & Protected – Owner Danielle Dueringer\nCurb Care – Owner Luca Massena\nSimply YOUnique – Owner Dray’den Neal\n\nEvent codes ccedu cclbep
URL:https://www.wlcnonline.com/event/land-of-lincoln-ceo-trade-show-at-lincoln-depot/
LOCATION:Train Depot in Lincoln\, 101 N. Chicago Street\, Lincoln\, IL\, 62656\, United States
END:VEVENT
END:VCALENDAR