BEGIN:VCALENDAR
VERSION:2.0
PRODID:-//WLCN 96.3 FM - ECPv6.15.20//NONSGML v1.0//EN
CALSCALE:GREGORIAN
METHOD:PUBLISH
X-ORIGINAL-URL:https://www.wlcnonline.com
X-WR-CALDESC:Events for WLCN 96.3 FM
REFRESH-INTERVAL;VALUE=DURATION:PT1H
X-Robots-Tag:noindex
X-PUBLISHED-TTL:PT1H
BEGIN:VTIMEZONE
TZID:America/Chicago
BEGIN:DAYLIGHT
TZOFFSETFROM:-0600
TZOFFSETTO:-0500
TZNAME:CDT
DTSTART:20240310T080000
END:DAYLIGHT
BEGIN:STANDARD
TZOFFSETFROM:-0500
TZOFFSETTO:-0600
TZNAME:CST
DTSTART:20241103T070000
END:STANDARD
BEGIN:DAYLIGHT
TZOFFSETFROM:-0600
TZOFFSETTO:-0500
TZNAME:CDT
DTSTART:20250309T080000
END:DAYLIGHT
BEGIN:STANDARD
TZOFFSETFROM:-0500
TZOFFSETTO:-0600
TZNAME:CST
DTSTART:20251102T070000
END:STANDARD
BEGIN:DAYLIGHT
TZOFFSETFROM:-0600
TZOFFSETTO:-0500
TZNAME:CDT
DTSTART:20260308T080000
END:DAYLIGHT
BEGIN:STANDARD
TZOFFSETFROM:-0500
TZOFFSETTO:-0600
TZNAME:CST
DTSTART:20261101T070000
END:STANDARD
END:VTIMEZONE
BEGIN:VEVENT
DTSTART;TZID=America/Chicago:20251206T100000
DTEND;TZID=America/Chicago:20251206T160000
DTSTAMP:20260423T223523
CREATED:20251205T042331Z
LAST-MODIFIED:20251205T042331Z
UID:10021199-1765015200-1765036800@www.wlcnonline.com
SUMMARY:Christmas retail therapy event (Santa Baby edition) featuring several businesses around Lincoln
DESCRIPTION:Enjoy Retail Therapy in Charming Lincoln\, Illinois Santa Style Saturday\, December 6 from 10 AM to 4 PM.\nAttendees should wear a Santa hat to enter in exclusive drawings and giveaways at participating stores!  Participants will receive a free wrapped gift with purchase at the following stores scheduled to participate:\n1. Abe’s – 117 N Kickapoo St\n2. AP Thrift Haus – 1400 Woodlawn Rd Suite C\n3. The Bee – 121 S Kickapoo St\n4. The Copper Penny – 612 Broadway St\n5. Debbie’s Downtown Floral – 123 S Kickapoo St\n6. Guest House – 113 S Kickapoo St\n7. Indigo Quilt Studio – 628 Broadway St\n8. Ink & Imprint Books – 125 N Kickapoo St\n9. Little Barn Boutique – 1103 5th Street\n10. LuxAeterna Permanent Jewelry Boutique – 533 Woodlawn St\n11. The Overstock Outlet – 129 S Kickapoo St\n12. Podbelsek Family Creations – 1028 Broadway\n13. Prairie Threads – 429 Pulaski St\n14. Renew Consignment & Thrift – 201 S Sangamon\n15. Sir Renna Tea – 113 N Kickapoo St\n16. Small Town Creations – 115 S Kickapoo St\n17. Top Hat Creamery – 513 Pulaski St. Arcade #9\n18. Verdant Salon & Suites – 109 S Kickapoo St \nEvent codes cclbep ccvs ccchr
URL:https://www.wlcnonline.com/event/christmas-retail-therapy-event-santa-baby-edition-featuring-several-businesses-around-lincoln/
LOCATION:The Bee in Lincoln\, 121 S. Kickapoo Street\, Lincoln\, IL\, 62656\, United States
ORGANIZER;CN="The Bee Boutique in Lincoln":MAILTO:melaniemwelch@gmail.com
END:VEVENT
BEGIN:VEVENT
DTSTART;TZID=America/Chicago:20251121T100000
DTEND;TZID=America/Chicago:20251121T180000
DTSTAMP:20260423T223523
CREATED:20251120T201157Z
LAST-MODIFIED:20251120T220129Z
UID:10021080-1763719200-1763748000@www.wlcnonline.com
SUMMARY:Pink Friday event at several businesses in and near downtown Lincoln
DESCRIPTION:This event is a spin on Black Friday…Pink Friday for boutiques. Participating shops are donating 10% of their daily proceeds to the Lincoln Women’s Club\, which helps the community through educational scholarships\, programming and donations. In addition\, the Pink Friday event will include special deals\, prizes and drawings. Businesses scheduled to participate include: \n\nThe Bee\nPrairie Threads\nSmall Town Creations\nTop Hat Creamery\nthe Overstock Outlet\nIndigo Quilt Shop\nLittle Barn Boutique\nAP Thrift Haus\nInk & Imprint Books\n\nEvent codes ccchr cclbep ccvs
URL:https://www.wlcnonline.com/event/pink-friday-event-at-several-businesses-in-and-near-downtown-lincoln/
LOCATION:The Bee in Lincoln\, 121 S. Kickapoo Street\, Lincoln\, IL\, 62656\, United States
ORGANIZER;CN="Downtown Lincoln Illinois":MAILTO:info@downtownlincolnillinois.com
END:VEVENT
BEGIN:VEVENT
DTSTART;TZID=America/Chicago:20251108T080000
DTEND;TZID=America/Chicago:20251108T170000
DTSTAMP:20260423T223523
CREATED:20251023T221915Z
LAST-MODIFIED:20251023T222054Z
UID:10021008-1762588800-1762621200@www.wlcnonline.com
SUMMARY:Donations for "Nourish Together" to benefit Logan County residents at sites around Lincoln
DESCRIPTION:Donations will be collected from November 1 through November 8 for this project to benefit Logan County residents. Hours of operation for dropping off items will vary between locations; see image posted here for locations. \nIn addition\, there will be four special events to highlight and support this cause; see image posted here for additional information. \nEvent codes ccfdd
URL:https://www.wlcnonline.com/event/donations-for-nourish-together-to-benefit-logan-county-residents-at-sites-around-lincoln/2025-11-08/
LOCATION:Top Hat Creamery in Lincoln\, 513 Pulaski Street\, Lincoln\, IL\, 62656\, United States
ORGANIZER;CN="First Presbyterian Church of Lincoln":MAILTO:office@preslincoln.org
END:VEVENT
BEGIN:VEVENT
DTSTART;TZID=America/Chicago:20251107T080000
DTEND;TZID=America/Chicago:20251107T170000
DTSTAMP:20260423T223523
CREATED:20251023T221915Z
LAST-MODIFIED:20251023T222054Z
UID:10021007-1762502400-1762534800@www.wlcnonline.com
SUMMARY:Donations for "Nourish Together" to benefit Logan County residents at sites around Lincoln
DESCRIPTION:Donations will be collected from November 1 through November 8 for this project to benefit Logan County residents. Hours of operation for dropping off items will vary between locations; see image posted here for locations. \nIn addition\, there will be four special events to highlight and support this cause; see image posted here for additional information. \nEvent codes ccfdd
URL:https://www.wlcnonline.com/event/donations-for-nourish-together-to-benefit-logan-county-residents-at-sites-around-lincoln/2025-11-07/
LOCATION:Top Hat Creamery in Lincoln\, 513 Pulaski Street\, Lincoln\, IL\, 62656\, United States
ORGANIZER;CN="First Presbyterian Church of Lincoln":MAILTO:office@preslincoln.org
END:VEVENT
BEGIN:VEVENT
DTSTART;TZID=America/Chicago:20251106T080000
DTEND;TZID=America/Chicago:20251106T170000
DTSTAMP:20260423T223523
CREATED:20251023T221915Z
LAST-MODIFIED:20251023T222054Z
UID:10021006-1762416000-1762448400@www.wlcnonline.com
SUMMARY:Donations for "Nourish Together" to benefit Logan County residents at sites around Lincoln
DESCRIPTION:Donations will be collected from November 1 through November 8 for this project to benefit Logan County residents. Hours of operation for dropping off items will vary between locations; see image posted here for locations. \nIn addition\, there will be four special events to highlight and support this cause; see image posted here for additional information. \nEvent codes ccfdd
URL:https://www.wlcnonline.com/event/donations-for-nourish-together-to-benefit-logan-county-residents-at-sites-around-lincoln/2025-11-06/
LOCATION:Top Hat Creamery in Lincoln\, 513 Pulaski Street\, Lincoln\, IL\, 62656\, United States
ORGANIZER;CN="First Presbyterian Church of Lincoln":MAILTO:office@preslincoln.org
END:VEVENT
BEGIN:VEVENT
DTSTART;TZID=America/Chicago:20251105T080000
DTEND;TZID=America/Chicago:20251105T170000
DTSTAMP:20260423T223523
CREATED:20251023T221915Z
LAST-MODIFIED:20251023T222054Z
UID:10021005-1762329600-1762362000@www.wlcnonline.com
SUMMARY:Donations for "Nourish Together" to benefit Logan County residents at sites around Lincoln
DESCRIPTION:Donations will be collected from November 1 through November 8 for this project to benefit Logan County residents. Hours of operation for dropping off items will vary between locations; see image posted here for locations. \nIn addition\, there will be four special events to highlight and support this cause; see image posted here for additional information. \nEvent codes ccfdd
URL:https://www.wlcnonline.com/event/donations-for-nourish-together-to-benefit-logan-county-residents-at-sites-around-lincoln/2025-11-05/
LOCATION:Top Hat Creamery in Lincoln\, 513 Pulaski Street\, Lincoln\, IL\, 62656\, United States
ORGANIZER;CN="First Presbyterian Church of Lincoln":MAILTO:office@preslincoln.org
END:VEVENT
BEGIN:VEVENT
DTSTART;TZID=America/Chicago:20251104T080000
DTEND;TZID=America/Chicago:20251104T170000
DTSTAMP:20260423T223523
CREATED:20251023T221915Z
LAST-MODIFIED:20251023T222054Z
UID:10021004-1762243200-1762275600@www.wlcnonline.com
SUMMARY:Donations for "Nourish Together" to benefit Logan County residents at sites around Lincoln
DESCRIPTION:Donations will be collected from November 1 through November 8 for this project to benefit Logan County residents. Hours of operation for dropping off items will vary between locations; see image posted here for locations. \nIn addition\, there will be four special events to highlight and support this cause; see image posted here for additional information. \nEvent codes ccfdd
URL:https://www.wlcnonline.com/event/donations-for-nourish-together-to-benefit-logan-county-residents-at-sites-around-lincoln/2025-11-04/
LOCATION:Top Hat Creamery in Lincoln\, 513 Pulaski Street\, Lincoln\, IL\, 62656\, United States
ORGANIZER;CN="First Presbyterian Church of Lincoln":MAILTO:office@preslincoln.org
END:VEVENT
BEGIN:VEVENT
DTSTART;TZID=America/Chicago:20251103T080000
DTEND;TZID=America/Chicago:20251103T170000
DTSTAMP:20260423T223523
CREATED:20251023T221915Z
LAST-MODIFIED:20251023T222054Z
UID:10021003-1762156800-1762189200@www.wlcnonline.com
SUMMARY:Donations for "Nourish Together" to benefit Logan County residents at sites around Lincoln
DESCRIPTION:Donations will be collected from November 1 through November 8 for this project to benefit Logan County residents. Hours of operation for dropping off items will vary between locations; see image posted here for locations. \nIn addition\, there will be four special events to highlight and support this cause; see image posted here for additional information. \nEvent codes ccfdd
URL:https://www.wlcnonline.com/event/donations-for-nourish-together-to-benefit-logan-county-residents-at-sites-around-lincoln/2025-11-03/
LOCATION:Top Hat Creamery in Lincoln\, 513 Pulaski Street\, Lincoln\, IL\, 62656\, United States
ORGANIZER;CN="First Presbyterian Church of Lincoln":MAILTO:office@preslincoln.org
END:VEVENT
BEGIN:VEVENT
DTSTART;TZID=America/Chicago:20251102T080000
DTEND;TZID=America/Chicago:20251102T170000
DTSTAMP:20260423T223523
CREATED:20251023T221915Z
LAST-MODIFIED:20251023T222054Z
UID:10021002-1762070400-1762102800@www.wlcnonline.com
SUMMARY:Donations for "Nourish Together" to benefit Logan County residents at sites around Lincoln
DESCRIPTION:Donations will be collected from November 1 through November 8 for this project to benefit Logan County residents. Hours of operation for dropping off items will vary between locations; see image posted here for locations. \nIn addition\, there will be four special events to highlight and support this cause; see image posted here for additional information. \nEvent codes ccfdd
URL:https://www.wlcnonline.com/event/donations-for-nourish-together-to-benefit-logan-county-residents-at-sites-around-lincoln/2025-11-02/
LOCATION:Top Hat Creamery in Lincoln\, 513 Pulaski Street\, Lincoln\, IL\, 62656\, United States
ORGANIZER;CN="First Presbyterian Church of Lincoln":MAILTO:office@preslincoln.org
END:VEVENT
BEGIN:VEVENT
DTSTART;TZID=America/Chicago:20251101T080000
DTEND;TZID=America/Chicago:20251101T170000
DTSTAMP:20260423T223523
CREATED:20251023T221915Z
LAST-MODIFIED:20251023T222054Z
UID:10021001-1761984000-1762016400@www.wlcnonline.com
SUMMARY:Donations for "Nourish Together" to benefit Logan County residents at sites around Lincoln
DESCRIPTION:Donations will be collected from November 1 through November 8 for this project to benefit Logan County residents. Hours of operation for dropping off items will vary between locations; see image posted here for locations. \nIn addition\, there will be four special events to highlight and support this cause; see image posted here for additional information. \nEvent codes ccfdd
URL:https://www.wlcnonline.com/event/donations-for-nourish-together-to-benefit-logan-county-residents-at-sites-around-lincoln/2025-11-01/
LOCATION:Top Hat Creamery in Lincoln\, 513 Pulaski Street\, Lincoln\, IL\, 62656\, United States
ORGANIZER;CN="First Presbyterian Church of Lincoln":MAILTO:office@preslincoln.org
END:VEVENT
BEGIN:VEVENT
DTSTART;TZID=America/Chicago:20251024T170000
DTEND;TZID=America/Chicago:20251024T200000
DTSTAMP:20260423T223523
CREATED:20251017T031950Z
LAST-MODIFIED:20251017T035845Z
UID:10020950-1761325200-1761336000@www.wlcnonline.com
SUMMARY:"Ghouls" night out at businesses in and around downtown Lincoln
DESCRIPTION:Each business will be hosting their own specials so watch each page to see what’s “brewing”\nBring your ghoul friends downtown for a frightfully good time. \nBusinesses scheduled to participate include: \n\nSmall Town Creations\nSpirited Republic\nThe Bee\nPrairie Threads\nAbe’s Caramel Corn\nVerdant Salon\nSorrento’s Pizza\nThe Overstock Outlet\nTop Hat Creamery\n\nEvent codes: cclbep cchall
URL:https://www.wlcnonline.com/event/ghouls-night-out-at-businesses-in-and-around-downtown-lincoln/
LOCATION:Small Town Creations in Lincoln\, 115 S. Kickapoo Street\, Lincoln\, IL\, 62656\, United States
ORGANIZER;CN="Downtown Lincoln Illinois":MAILTO:info@downtownlincolnillinois.com
END:VEVENT
BEGIN:VEVENT
DTSTART;TZID=America/Chicago:20250927T100000
DTEND;TZID=America/Chicago:20250927T160000
DTSTAMP:20260423T223523
CREATED:20250916T172503Z
LAST-MODIFIED:20250919T033522Z
UID:10020851-1758967200-1758988800@www.wlcnonline.com
SUMMARY:Fall retail therapy event featuring several businesses around Lincoln
DESCRIPTION:Multiple Antiques\, Boutiques & Thrift stores will participate in this event. Patrons can enjoy fall flavors like apple\, pumpkin\, chai and cinnamon treats at each location. With each purchase\, participants will receive an iron-on patch that can be used to make a trucker hat or to decorate items such as denim bags\, jackets or your favorite flannel. \nClick the image included with this post for an full updated list of retailers scheduled to participate. \nEvent codes cclbep
URL:https://www.wlcnonline.com/event/fall-retail-therapy-event-featuring-several-businesses-around-lincoln/
LOCATION:The Bee in Lincoln\, 121 S. Kickapoo Street\, Lincoln\, IL\, 62656\, United States
ORGANIZER;CN="The Bee Boutique in Lincoln":MAILTO:melaniemwelch@gmail.com
END:VEVENT
BEGIN:VEVENT
DTSTART;TZID=America/Chicago:20250823T100000
DTEND;TZID=America/Chicago:20250823T170000
DTSTAMP:20260423T223523
CREATED:20250822T021619Z
LAST-MODIFIED:20250822T021619Z
UID:10020661-1755943200-1755968400@www.wlcnonline.com
SUMMARY:Birthday bash at The Bee Boutique in Lincoln
DESCRIPTION:Come help celebrate the birthdays of both Melanie and Alexis at this event featuring great deals taking place the weekend of Lincoln’s Balloons Over 66 festival. There will be cake by Missy’s Sweet Shop from Atlanta\, IL as well as punch from the Sip Shack.
URL:https://www.wlcnonline.com/event/birthday-bash-at-the-bee-boutique-in-lincoln-2/
LOCATION:The Bee in Lincoln\, 121 S. Kickapoo Street\, Lincoln\, IL\, 62656\, United States
ORGANIZER;CN="The Bee Boutique in Lincoln":MAILTO:melaniemwelch@gmail.com
END:VEVENT
BEGIN:VEVENT
DTSTART;TZID=America/Chicago:20250726T100000
DTEND;TZID=America/Chicago:20250726T160000
DTSTAMP:20260423T223523
CREATED:20250717T151816Z
LAST-MODIFIED:20250717T151816Z
UID:10020477-1753524000-1753545600@www.wlcnonline.com
SUMMARY:"Be Charmed" retail therapy event at several small businesses in and near downtown Lincoln
DESCRIPTION:Attendees are invited to a retail shopping event featuring small businesses in Lincoln. Participants can visit any or all of the participating businesses listed below and receive a free charm with purchase to make a necklace or charm bracelet. \nThere will be giveaways and promotions at each location. \nParticipating businesses include: \n\nThe Bee\, 121 S Kickapoo Street\nCopper Penny\, 612 Broadway Street\nDebbie’s Downtown Floral\, 123 S Kickapoo Street\nHighbrow Studio\, 202 S. Chicago Street\nIndigo Quilt Studio\, 628 Broadway Street\nInk & Imprint Books\, 125 N. Kickapoo Street\nLittle Barn Boutique\, 1103 5th Street\nLuxAeterna Permanent Jewelry Boutique\, 533 Woodlawn Road\nMary Todd’s Hallmark\, 610 Broadway Street\nOverstock Outlet\, 129 S. Kickapoo Street\nPodbelsek Family Creations\, 1028 Broadway Street\nPrairie Threads\, 514 Pekin Street\nRenew Consignment & Thrift\, 201 S. Sangamon Street\nSir Renna Tea\, 113 N. Kickapoo Street\nSmall Town Creations\, 115 S. Kickapoo Street\n\nEvent codes cclbep ccsoc
URL:https://www.wlcnonline.com/event/be-charmed-retail-therapy-event-at-several-small-businesses-in-and-near-downtown-lincoln-2/
LOCATION:The Bee in Lincoln\, 121 S. Kickapoo Street\, Lincoln\, IL\, 62656\, United States
ORGANIZER;CN="Downtown Lincoln Illinois":MAILTO:info@downtownlincolnillinois.com
END:VEVENT
BEGIN:VEVENT
DTSTART;TZID=America/Chicago:20250607T150000
DTEND;TZID=America/Chicago:20250607T200000
DTSTAMP:20260423T223523
CREATED:20250529T202804Z
LAST-MODIFIED:20250529T215654Z
UID:10020174-1749308400-1749326400@www.wlcnonline.com
SUMMARY:Tie dye Pride event at The Bee Boutique in Lincoln
DESCRIPTION:The Bee is partnering with Mindful Loops & Dyes for a do-it-yourself tie dye event during the Logan County Pridefest. \nThose interested should sign up in advance to ensure we The Bee has enough shirts and proper sizes. Individuals can prepay the $28 cost at The Bee or send a message through The Bee’s Facebook page and an invoice can be emailed or texted. Participants should indicate if they would like a plain T-shirt or one with The Bee’s logo. \nEvent codes cclbep ccaca
URL:https://www.wlcnonline.com/event/tie-dye-pride-event-at-the-bee-boutique-in-lincoln/
LOCATION:The Bee in Lincoln\, 121 S. Kickapoo Street\, Lincoln\, IL\, 62656\, United States
ORGANIZER;CN="The Bee Boutique in Lincoln":MAILTO:melaniemwelch@gmail.com
END:VEVENT
END:VCALENDAR