BEGIN:VCALENDAR
VERSION:2.0
PRODID:-//WLCN 96.3 FM - ECPv6.15.20//NONSGML v1.0//EN
CALSCALE:GREGORIAN
METHOD:PUBLISH
X-WR-CALNAME:WLCN 96.3 FM
X-ORIGINAL-URL:https://www.wlcnonline.com
X-WR-CALDESC:Events for WLCN 96.3 FM
REFRESH-INTERVAL;VALUE=DURATION:PT1H
X-Robots-Tag:noindex
X-PUBLISHED-TTL:PT1H
BEGIN:VTIMEZONE
TZID:America/Chicago
BEGIN:DAYLIGHT
TZOFFSETFROM:-0600
TZOFFSETTO:-0500
TZNAME:CDT
DTSTART:20250309T080000
END:DAYLIGHT
BEGIN:STANDARD
TZOFFSETFROM:-0500
TZOFFSETTO:-0600
TZNAME:CST
DTSTART:20251102T070000
END:STANDARD
BEGIN:DAYLIGHT
TZOFFSETFROM:-0600
TZOFFSETTO:-0500
TZNAME:CDT
DTSTART:20260308T080000
END:DAYLIGHT
BEGIN:STANDARD
TZOFFSETFROM:-0500
TZOFFSETTO:-0600
TZNAME:CST
DTSTART:20261101T070000
END:STANDARD
BEGIN:DAYLIGHT
TZOFFSETFROM:-0600
TZOFFSETTO:-0500
TZNAME:CDT
DTSTART:20270314T080000
END:DAYLIGHT
BEGIN:STANDARD
TZOFFSETFROM:-0500
TZOFFSETTO:-0600
TZNAME:CST
DTSTART:20271107T070000
END:STANDARD
END:VTIMEZONE
BEGIN:VEVENT
DTSTART;TZID=America/Chicago:20260411T140000
DTEND;TZID=America/Chicago:20260411T170000
DTSTAMP:20260419T145703
CREATED:20260402T202232Z
LAST-MODIFIED:20260402T202232Z
UID:10022802-1775916000-1775926800@www.wlcnonline.com
SUMMARY:Bowling fundraiser event at Logan Lanes in Lincoln for Atlanta Christian Church Alaska mission trip
DESCRIPTION:Cost is $20 per person and includes shoe rental and three hours of play. 50 percent of all purchases (bowling and food) will benefit the missions team. \nEvent codes ccfb ccfdd ccgc
URL:https://www.wlcnonline.com/event/bowling-fundraiser-event-at-logan-lanes-in-lincoln-for-atlanta-christian-church-alaska-mission-trip/
LOCATION:Logan Lanes in Lincoln\, 1700 5th Street\, Lincoln\, IL\, 62656\, United States
ORGANIZER;CN="Atlanta Christian Church":MAILTO:atlantachristianfamily@gmail.com
END:VEVENT
BEGIN:VEVENT
DTSTART;TZID=America/Chicago:20260315T110000
DTEND;TZID=America/Chicago:20260315T130000
DTSTAMP:20260419T145703
CREATED:20260306T164718Z
LAST-MODIFIED:20260306T164718Z
UID:10022600-1773572400-1773579600@www.wlcnonline.com
SUMMARY:Free bowling event sponsored by Recovery Oriented Systems of Care (ROSC) at Logan Lanes in Lincoln
DESCRIPTION:Families attending will enjoy a free bowling event\, including FREE bowling\, free shoe rental\, free food and free giveaways to promote and encourage healthy and positive lifestyle choices. \nEvent codes ccfre cchwf ccff
URL:https://www.wlcnonline.com/event/free-bowling-event-sponsored-by-recovery-oriented-systems-of-care-rosc-at-logan-lanes-in-lincoln/
LOCATION:Logan Lanes in Lincoln\, 1700 5th Street\, Lincoln\, IL\, 62656\, United States
ORGANIZER;CN="Logan County Recovery-Oriented Systems of Care (ROSC)":MAILTO:loganmasonrosc@gmail.com
END:VEVENT
BEGIN:VEVENT
DTSTART;TZID=America/Chicago:20260212T170000
DTEND;TZID=America/Chicago:20260212T200000
DTSTAMP:20260419T145703
CREATED:20260205T201024Z
LAST-MODIFIED:20260205T201024Z
UID:10022486-1770915600-1770926400@www.wlcnonline.com
SUMMARY:Bowling fundraiser event for Carroll Catholic School at Logan Lanes in Lincoln
DESCRIPTION:Cost is $20 per person for 3 hours of bowling. Logan Lanes will donate half of the proceeds to Carroll Catholic School. \nEvent codes ccfb ccsoc ccrel ccedu ccfdd ccff
URL:https://www.wlcnonline.com/event/bowling-fundraiser-event-for-carroll-catholic-school-at-logan-lanes-in-lincoln/
LOCATION:Logan Lanes in Lincoln\, 1700 5th Street\, Lincoln\, IL\, 62656\, United States
END:VEVENT
END:VCALENDAR