BEGIN:VCALENDAR
VERSION:2.0
PRODID:-//WLCN 96.3 FM - ECPv6.15.20//NONSGML v1.0//EN
CALSCALE:GREGORIAN
METHOD:PUBLISH
X-ORIGINAL-URL:https://www.wlcnonline.com
X-WR-CALDESC:Events for WLCN 96.3 FM
REFRESH-INTERVAL;VALUE=DURATION:PT1H
X-Robots-Tag:noindex
X-PUBLISHED-TTL:PT1H
BEGIN:VTIMEZONE
TZID:America/Chicago
BEGIN:DAYLIGHT
TZOFFSETFROM:-0600
TZOFFSETTO:-0500
TZNAME:CDT
DTSTART:20250309T080000
END:DAYLIGHT
BEGIN:STANDARD
TZOFFSETFROM:-0500
TZOFFSETTO:-0600
TZNAME:CST
DTSTART:20251102T070000
END:STANDARD
BEGIN:DAYLIGHT
TZOFFSETFROM:-0600
TZOFFSETTO:-0500
TZNAME:CDT
DTSTART:20260308T080000
END:DAYLIGHT
BEGIN:STANDARD
TZOFFSETFROM:-0500
TZOFFSETTO:-0600
TZNAME:CST
DTSTART:20261101T070000
END:STANDARD
BEGIN:DAYLIGHT
TZOFFSETFROM:-0600
TZOFFSETTO:-0500
TZNAME:CDT
DTSTART:20270314T080000
END:DAYLIGHT
BEGIN:STANDARD
TZOFFSETFROM:-0500
TZOFFSETTO:-0600
TZNAME:CST
DTSTART:20271107T070000
END:STANDARD
END:VTIMEZONE
BEGIN:VEVENT
DTSTART;TZID=America/Chicago:20260120T180000
DTEND;TZID=America/Chicago:20260120T193000
DTSTAMP:20260420T063950
CREATED:20260115T215927Z
LAST-MODIFIED:20260115T215927Z
UID:10022327-1768932000-1768937400@www.wlcnonline.com
SUMMARY:Logan County Board regular meeting at Logan County Courthouse in Lincoln
DESCRIPTION:The regular meeting of the Logan County Board is scheduled to take place in the second floor courtroom of the Logan County Courthouse. \nEvent codes ccgov
URL:https://www.wlcnonline.com/event/logan-county-board-regular-meeting-at-logan-county-courthouse-in-lincoln/
LOCATION:Logan County Courthouse in Lincoln\, 601 Broadway Street\, Lincoln\, 62656\, United States
ORGANIZER;CN="Logan County Board":MAILTO:Logancountyboard@logancountyil.gov
END:VEVENT
END:VCALENDAR