BEGIN:VCALENDAR
VERSION:2.0
PRODID:-//WLCN 96.3 FM - ECPv6.15.20//NONSGML v1.0//EN
CALSCALE:GREGORIAN
METHOD:PUBLISH
X-ORIGINAL-URL:https://www.wlcnonline.com
X-WR-CALDESC:Events for WLCN 96.3 FM
REFRESH-INTERVAL;VALUE=DURATION:PT1H
X-Robots-Tag:noindex
X-PUBLISHED-TTL:PT1H
BEGIN:VTIMEZONE
TZID:America/Chicago
BEGIN:DAYLIGHT
TZOFFSETFROM:-0600
TZOFFSETTO:-0500
TZNAME:CDT
DTSTART:20250309T080000
END:DAYLIGHT
BEGIN:STANDARD
TZOFFSETFROM:-0500
TZOFFSETTO:-0600
TZNAME:CST
DTSTART:20251102T070000
END:STANDARD
BEGIN:DAYLIGHT
TZOFFSETFROM:-0600
TZOFFSETTO:-0500
TZNAME:CDT
DTSTART:20260308T080000
END:DAYLIGHT
BEGIN:STANDARD
TZOFFSETFROM:-0500
TZOFFSETTO:-0600
TZNAME:CST
DTSTART:20261101T070000
END:STANDARD
BEGIN:DAYLIGHT
TZOFFSETFROM:-0600
TZOFFSETTO:-0500
TZNAME:CDT
DTSTART:20270314T080000
END:DAYLIGHT
BEGIN:STANDARD
TZOFFSETFROM:-0500
TZOFFSETTO:-0600
TZNAME:CST
DTSTART:20271107T070000
END:STANDARD
END:VTIMEZONE
BEGIN:VEVENT
DTSTART;TZID=America/Chicago:20260117T170000
DTEND;TZID=America/Chicago:20260117T210000
DTSTAMP:20260420T083030
CREATED:20260108T223258Z
LAST-MODIFIED:20260108T223258Z
UID:10022248-1768669200-1768683600@www.wlcnonline.com
SUMMARY:Olympia FFA alumni dinner and auction at the Interstate Center in Bloomington
DESCRIPTION:Funds raised from this event benefit the Olympia FFA. The meal will consist of a ribeye steak dinner by Trails End. In addition\, there will be live and silent auction items\, a 50/50 drawing and other raffles. Tickets cost $50 per person; contact an Olympia FFA member or Olympia FFA alum for tickets. \nEvent codes ccag ccedu
URL:https://www.wlcnonline.com/event/olympia-ffa-alumni-dinner-and-auction-at-the-interstate-center-in-bloomington/
LOCATION:Interstate Center in Bloomington\, 1106 Interstate Drive\, Bloomington\, 61705\, United States
ORGANIZER;CN="Olympia FFA Alumni":MAILTO:olympiaffaalumni@gmail.com
END:VEVENT
END:VCALENDAR