BEGIN:VCALENDAR
VERSION:2.0
PRODID:-//WLCN 96.3 FM - ECPv6.15.20//NONSGML v1.0//EN
CALSCALE:GREGORIAN
METHOD:PUBLISH
X-ORIGINAL-URL:https://www.wlcnonline.com
X-WR-CALDESC:Events for WLCN 96.3 FM
REFRESH-INTERVAL;VALUE=DURATION:PT1H
X-Robots-Tag:noindex
X-PUBLISHED-TTL:PT1H
BEGIN:VTIMEZONE
TZID:America/Chicago
BEGIN:DAYLIGHT
TZOFFSETFROM:-0600
TZOFFSETTO:-0500
TZNAME:CDT
DTSTART:20240310T080000
END:DAYLIGHT
BEGIN:STANDARD
TZOFFSETFROM:-0500
TZOFFSETTO:-0600
TZNAME:CST
DTSTART:20241103T070000
END:STANDARD
BEGIN:DAYLIGHT
TZOFFSETFROM:-0600
TZOFFSETTO:-0500
TZNAME:CDT
DTSTART:20250309T080000
END:DAYLIGHT
BEGIN:STANDARD
TZOFFSETFROM:-0500
TZOFFSETTO:-0600
TZNAME:CST
DTSTART:20251102T070000
END:STANDARD
BEGIN:DAYLIGHT
TZOFFSETFROM:-0600
TZOFFSETTO:-0500
TZNAME:CDT
DTSTART:20260308T080000
END:DAYLIGHT
BEGIN:STANDARD
TZOFFSETFROM:-0500
TZOFFSETTO:-0600
TZNAME:CST
DTSTART:20261101T070000
END:STANDARD
END:VTIMEZONE
BEGIN:VEVENT
DTSTART;TZID=America/Chicago:20251220T120000
DTEND;TZID=America/Chicago:20251220T150000
DTSTAMP:20260422T055937
CREATED:20251120T225746Z
LAST-MODIFIED:20251120T225746Z
UID:10021156-1766232000-1766242800@www.wlcnonline.com
SUMMARY:2025 horse-drawn carriage rides around the square in downtown Lincoln
DESCRIPTION:Get into the holiday spirit with a *free* ride around the historic Logan County Courthouse on the square in downtown Lincoln. \nPick up and drop off will be in front of the Arcade on Pulaski Street. A sign-up sheet will be available at the pick-up and drop-off location. Once checked in\, you can shop local downtown businesses and enjoy the decorated trees on the square until their scheduled ride time. click here to learn more. \nEvent codes ccchr ccfre ccff
URL:https://www.wlcnonline.com/event/2025-horse-drawn-carriage-rides-around-the-square-in-downtown-lincoln/2025-12-20/
LOCATION:In front of the Arcade Building in Downtown Lincoln\, 513 Pulaski Street\, Lincoln\, IL\, 62656\, United States
ORGANIZER;CN="Downtown Lincoln Illinois":MAILTO:info@downtownlincolnillinois.com
END:VEVENT
BEGIN:VEVENT
DTSTART;TZID=America/Chicago:20251219T170000
DTEND;TZID=America/Chicago:20251219T200000
DTSTAMP:20260422T055937
CREATED:20251120T225746Z
LAST-MODIFIED:20251120T225746Z
UID:10021155-1766163600-1766174400@www.wlcnonline.com
SUMMARY:2025 horse-drawn carriage rides around the square in downtown Lincoln
DESCRIPTION:Get into the holiday spirit with a *free* ride around the historic Logan County Courthouse on the square in downtown Lincoln. \nPick up and drop off will be in front of the Arcade on Pulaski Street. A sign-up sheet will be available at the pick-up and drop-off location. Once checked in\, you can shop local downtown businesses and enjoy the decorated trees on the square until their scheduled ride time. click here to learn more. \nEvent codes ccchr ccfre ccff
URL:https://www.wlcnonline.com/event/2025-horse-drawn-carriage-rides-around-the-square-in-downtown-lincoln/2025-12-19/
LOCATION:In front of the Arcade Building in Downtown Lincoln\, 513 Pulaski Street\, Lincoln\, IL\, 62656\, United States
ORGANIZER;CN="Downtown Lincoln Illinois":MAILTO:info@downtownlincolnillinois.com
END:VEVENT
BEGIN:VEVENT
DTSTART;TZID=America/Chicago:20251213T120000
DTEND;TZID=America/Chicago:20251213T150000
DTSTAMP:20260422T055938
CREATED:20251120T225746Z
LAST-MODIFIED:20251120T225746Z
UID:10021154-1765627200-1765638000@www.wlcnonline.com
SUMMARY:2025 horse-drawn carriage rides around the square in downtown Lincoln
DESCRIPTION:Get into the holiday spirit with a *free* ride around the historic Logan County Courthouse on the square in downtown Lincoln. \nPick up and drop off will be in front of the Arcade on Pulaski Street. A sign-up sheet will be available at the pick-up and drop-off location. Once checked in\, you can shop local downtown businesses and enjoy the decorated trees on the square until their scheduled ride time. click here to learn more. \nEvent codes ccchr ccfre ccff
URL:https://www.wlcnonline.com/event/2025-horse-drawn-carriage-rides-around-the-square-in-downtown-lincoln/2025-12-13/
LOCATION:In front of the Arcade Building in Downtown Lincoln\, 513 Pulaski Street\, Lincoln\, IL\, 62656\, United States
ORGANIZER;CN="Downtown Lincoln Illinois":MAILTO:info@downtownlincolnillinois.com
END:VEVENT
BEGIN:VEVENT
DTSTART;TZID=America/Chicago:20251212T170000
DTEND;TZID=America/Chicago:20251212T200000
DTSTAMP:20260422T055938
CREATED:20251120T225746Z
LAST-MODIFIED:20251120T225746Z
UID:10021153-1765558800-1765569600@www.wlcnonline.com
SUMMARY:2025 horse-drawn carriage rides around the square in downtown Lincoln
DESCRIPTION:Get into the holiday spirit with a *free* ride around the historic Logan County Courthouse on the square in downtown Lincoln. \nPick up and drop off will be in front of the Arcade on Pulaski Street. A sign-up sheet will be available at the pick-up and drop-off location. Once checked in\, you can shop local downtown businesses and enjoy the decorated trees on the square until their scheduled ride time. click here to learn more. \nEvent codes ccchr ccfre ccff
URL:https://www.wlcnonline.com/event/2025-horse-drawn-carriage-rides-around-the-square-in-downtown-lincoln/2025-12-12/
LOCATION:In front of the Arcade Building in Downtown Lincoln\, 513 Pulaski Street\, Lincoln\, IL\, 62656\, United States
ORGANIZER;CN="Downtown Lincoln Illinois":MAILTO:info@downtownlincolnillinois.com
END:VEVENT
BEGIN:VEVENT
DTSTART;TZID=America/Chicago:20251206T120000
DTEND;TZID=America/Chicago:20251206T150000
DTSTAMP:20260422T055938
CREATED:20251120T225746Z
LAST-MODIFIED:20251120T225746Z
UID:10021152-1765022400-1765033200@www.wlcnonline.com
SUMMARY:2025 horse-drawn carriage rides around the square in downtown Lincoln
DESCRIPTION:Get into the holiday spirit with a *free* ride around the historic Logan County Courthouse on the square in downtown Lincoln. \nPick up and drop off will be in front of the Arcade on Pulaski Street. A sign-up sheet will be available at the pick-up and drop-off location. Once checked in\, you can shop local downtown businesses and enjoy the decorated trees on the square until their scheduled ride time. click here to learn more. \nEvent codes ccchr ccfre ccff
URL:https://www.wlcnonline.com/event/2025-horse-drawn-carriage-rides-around-the-square-in-downtown-lincoln/2025-12-06/
LOCATION:In front of the Arcade Building in Downtown Lincoln\, 513 Pulaski Street\, Lincoln\, IL\, 62656\, United States
ORGANIZER;CN="Downtown Lincoln Illinois":MAILTO:info@downtownlincolnillinois.com
END:VEVENT
BEGIN:VEVENT
DTSTART;TZID=America/Chicago:20251129T120000
DTEND;TZID=America/Chicago:20251129T150000
DTSTAMP:20260422T055938
CREATED:20251120T225746Z
LAST-MODIFIED:20251120T225746Z
UID:10021151-1764417600-1764428400@www.wlcnonline.com
SUMMARY:2025 horse-drawn carriage rides around the square in downtown Lincoln
DESCRIPTION:Get into the holiday spirit with a *free* ride around the historic Logan County Courthouse on the square in downtown Lincoln. \nPick up and drop off will be in front of the Arcade on Pulaski Street. A sign-up sheet will be available at the pick-up and drop-off location. Once checked in\, you can shop local downtown businesses and enjoy the decorated trees on the square until their scheduled ride time. click here to learn more. \nEvent codes ccchr ccfre ccff
URL:https://www.wlcnonline.com/event/2025-horse-drawn-carriage-rides-around-the-square-in-downtown-lincoln/2025-11-29/
LOCATION:In front of the Arcade Building in Downtown Lincoln\, 513 Pulaski Street\, Lincoln\, IL\, 62656\, United States
ORGANIZER;CN="Downtown Lincoln Illinois":MAILTO:info@downtownlincolnillinois.com
END:VEVENT
BEGIN:VEVENT
DTSTART;TZID=America/Chicago:20251128T180000
DTEND;TZID=America/Chicago:20251128T210000
DTSTAMP:20260422T055938
CREATED:20251120T225746Z
LAST-MODIFIED:20251120T225746Z
UID:10021150-1764352800-1764363600@www.wlcnonline.com
SUMMARY:2025 horse-drawn carriage rides around the square in downtown Lincoln
DESCRIPTION:Get into the holiday spirit with a *free* ride around the historic Logan County Courthouse on the square in downtown Lincoln. \nPick up and drop off will be in front of the Arcade on Pulaski Street. A sign-up sheet will be available at the pick-up and drop-off location. Once checked in\, you can shop local downtown businesses and enjoy the decorated trees on the square until their scheduled ride time. click here to learn more. \nEvent codes ccchr ccfre ccff
URL:https://www.wlcnonline.com/event/2025-horse-drawn-carriage-rides-around-the-square-in-downtown-lincoln/2025-11-28/
LOCATION:In front of the Arcade Building in Downtown Lincoln\, 513 Pulaski Street\, Lincoln\, IL\, 62656\, United States
ORGANIZER;CN="Downtown Lincoln Illinois":MAILTO:info@downtownlincolnillinois.com
END:VEVENT
END:VCALENDAR