BEGIN:VCALENDAR
VERSION:2.0
PRODID:-//WLCN 96.3 FM - ECPv6.15.20//NONSGML v1.0//EN
CALSCALE:GREGORIAN
METHOD:PUBLISH
X-WR-CALNAME:WLCN 96.3 FM
X-ORIGINAL-URL:https://www.wlcnonline.com
X-WR-CALDESC:Events for WLCN 96.3 FM
REFRESH-INTERVAL;VALUE=DURATION:PT1H
X-Robots-Tag:noindex
X-PUBLISHED-TTL:PT1H
BEGIN:VTIMEZONE
TZID:America/Chicago
BEGIN:DAYLIGHT
TZOFFSETFROM:-0600
TZOFFSETTO:-0500
TZNAME:CDT
DTSTART:20240310T080000
END:DAYLIGHT
BEGIN:STANDARD
TZOFFSETFROM:-0500
TZOFFSETTO:-0600
TZNAME:CST
DTSTART:20241103T070000
END:STANDARD
BEGIN:DAYLIGHT
TZOFFSETFROM:-0600
TZOFFSETTO:-0500
TZNAME:CDT
DTSTART:20250309T080000
END:DAYLIGHT
BEGIN:STANDARD
TZOFFSETFROM:-0500
TZOFFSETTO:-0600
TZNAME:CST
DTSTART:20251102T070000
END:STANDARD
BEGIN:DAYLIGHT
TZOFFSETFROM:-0600
TZOFFSETTO:-0500
TZNAME:CDT
DTSTART:20260308T080000
END:DAYLIGHT
BEGIN:STANDARD
TZOFFSETFROM:-0500
TZOFFSETTO:-0600
TZNAME:CST
DTSTART:20261101T070000
END:STANDARD
BEGIN:DAYLIGHT
TZOFFSETFROM:-0600
TZOFFSETTO:-0500
TZNAME:CDT
DTSTART:20270314T080000
END:DAYLIGHT
BEGIN:STANDARD
TZOFFSETFROM:-0500
TZOFFSETTO:-0600
TZNAME:CST
DTSTART:20271107T070000
END:STANDARD
END:VTIMEZONE
BEGIN:VEVENT
DTSTART;TZID=America/Chicago:20260320T120000
DTEND;TZID=America/Chicago:20260320T150000
DTSTAMP:20260420T034234
CREATED:20260312T211105Z
LAST-MODIFIED:20260312T211105Z
UID:10022673-1774008000-1774018800@www.wlcnonline.com
SUMMARY:Community blood drive at Hopedale Medical Complex
DESCRIPTION:Click here to register online.. \nEvent code ccbld
URL:https://www.wlcnonline.com/event/community-blood-drive-at-hopedale-medical-complex-4/
LOCATION:Hopedale Medical Complex\, 107 Tremont Street\, Hopedale\, IL\, 61747\, United States
END:VEVENT
BEGIN:VEVENT
DTSTART;TZID=America/Chicago:20251031T120000
DTEND;TZID=America/Chicago:20251031T150000
DTSTAMP:20260420T034234
CREATED:20251030T154433Z
LAST-MODIFIED:20251030T154433Z
UID:10021036-1761912000-1761922800@www.wlcnonline.com
SUMMARY:Community blood drive at Hopedale Medical Complex
DESCRIPTION:Click here to register online.. \nEvent code ccbld
URL:https://www.wlcnonline.com/event/community-blood-drive-at-hopedale-medical-complex-3/
LOCATION:Hopedale Medical Complex\, 107 Tremont Street\, Hopedale\, IL\, 61747\, United States
END:VEVENT
BEGIN:VEVENT
DTSTART;TZID=America/Chicago:20250905T120000
DTEND;TZID=America/Chicago:20250905T150000
DTSTAMP:20260420T034234
CREATED:20250828T194533Z
LAST-MODIFIED:20250828T194533Z
UID:10020673-1757073600-1757084400@www.wlcnonline.com
SUMMARY:Community blood drive at Hopedale Medical Complex
DESCRIPTION:Click here to register online.. \nEvent code ccbld
URL:https://www.wlcnonline.com/event/community-blood-drive-at-hopedale-medical-complex-2/
LOCATION:Hopedale Medical Complex\, 107 Tremont Street\, Hopedale\, IL\, 61747\, United States
END:VEVENT
BEGIN:VEVENT
DTSTART;TZID=America/Chicago:20250516T120000
DTEND;TZID=America/Chicago:20250516T150000
DTSTAMP:20260420T034234
CREATED:20250508T123719Z
LAST-MODIFIED:20250508T123719Z
UID:10020064-1747396800-1747407600@www.wlcnonline.com
SUMMARY:Community blood drive at Hopedale Medical Complex
DESCRIPTION:Click here to register online.. \nEvent code ccbld
URL:https://www.wlcnonline.com/event/community-blood-drive-at-hopedale-medical-complex/
LOCATION:Hopedale Medical Complex\, 107 Tremont Street\, Hopedale\, IL\, 61747\, United States
END:VEVENT
END:VCALENDAR