BEGIN:VCALENDAR
VERSION:2.0
PRODID:-//WLCN 96.3 FM - ECPv6.15.20//NONSGML v1.0//EN
CALSCALE:GREGORIAN
METHOD:PUBLISH
X-WR-CALNAME:WLCN 96.3 FM
X-ORIGINAL-URL:https://www.wlcnonline.com
X-WR-CALDESC:Events for WLCN 96.3 FM
REFRESH-INTERVAL;VALUE=DURATION:PT1H
X-Robots-Tag:noindex
X-PUBLISHED-TTL:PT1H
BEGIN:VTIMEZONE
TZID:America/Chicago
BEGIN:DAYLIGHT
TZOFFSETFROM:-0600
TZOFFSETTO:-0500
TZNAME:CDT
DTSTART:20240310T080000
END:DAYLIGHT
BEGIN:STANDARD
TZOFFSETFROM:-0500
TZOFFSETTO:-0600
TZNAME:CST
DTSTART:20241103T070000
END:STANDARD
BEGIN:DAYLIGHT
TZOFFSETFROM:-0600
TZOFFSETTO:-0500
TZNAME:CDT
DTSTART:20250309T080000
END:DAYLIGHT
BEGIN:STANDARD
TZOFFSETFROM:-0500
TZOFFSETTO:-0600
TZNAME:CST
DTSTART:20251102T070000
END:STANDARD
BEGIN:DAYLIGHT
TZOFFSETFROM:-0600
TZOFFSETTO:-0500
TZNAME:CDT
DTSTART:20260308T080000
END:DAYLIGHT
BEGIN:STANDARD
TZOFFSETFROM:-0500
TZOFFSETTO:-0600
TZNAME:CST
DTSTART:20261101T070000
END:STANDARD
BEGIN:DAYLIGHT
TZOFFSETFROM:-0600
TZOFFSETTO:-0500
TZNAME:CDT
DTSTART:20270314T080000
END:DAYLIGHT
BEGIN:STANDARD
TZOFFSETFROM:-0500
TZOFFSETTO:-0600
TZNAME:CST
DTSTART:20271107T070000
END:STANDARD
END:VTIMEZONE
BEGIN:VEVENT
DTSTART;TZID=America/Chicago:20260404T200000
DTEND;TZID=America/Chicago:20260404T230000
DTSTAMP:20260424T140543
CREATED:20260326T184344Z
LAST-MODIFIED:20260326T184344Z
UID:10022717-1775332800-1775343600@www.wlcnonline.com
SUMMARY:Live music by Scratching the Surface at Gracie's Sports Bar in Green Valley
DESCRIPTION:Enjoy an evening of music by Scratching the Surface featuring skate punk\, pop punk\, emo and even some oldies. \nEvent codes ccfb cclm ccent
URL:https://www.wlcnonline.com/event/live-music-by-scratching-the-surface-at-gracies-sports-bar-in-green-valley/
LOCATION:Gracie’s Sports Bar in Green Valley\, 6031 IL Route 29\, Green Valley\, IL\, 61534\, United States
ORGANIZER;CN="Gracie's Sports Bar":MAILTO:bobnbec@yahoo.com
END:VEVENT
BEGIN:VEVENT
DTSTART;TZID=America/Chicago:20260328T190000
DTEND;TZID=America/Chicago:20260328T220000
DTSTAMP:20260424T140543
CREATED:20260326T151344Z
LAST-MODIFIED:20260326T151344Z
UID:10022707-1774724400-1774735200@www.wlcnonline.com
SUMMARY:Live music by Outland at Gracie's Sports Bar in Green Valley
DESCRIPTION:Enjoy an evening of music by Outland featuring a wide variety of tunes. \nEvent codes ccfb cclm ccent
URL:https://www.wlcnonline.com/event/live-music-by-outland-at-gracies-sports-bar-in-green-valley-2/
LOCATION:Gracie’s Sports Bar in Green Valley\, 6031 IL Route 29\, Green Valley\, IL\, 61534\, United States
ORGANIZER;CN="Gracie's Sports Bar":MAILTO:bobnbec@yahoo.com
END:VEVENT
BEGIN:VEVENT
DTSTART;TZID=America/Chicago:20260314T190000
DTEND;TZID=America/Chicago:20260314T230000
DTSTAMP:20260424T140543
CREATED:20260312T151358Z
LAST-MODIFIED:20260312T151358Z
UID:10022638-1773514800-1773529200@www.wlcnonline.com
SUMMARY:St. Patrick's Day weekend event featuring live music by Passed Out Penguin at Gracie's Sports Bar in Green Valley
DESCRIPTION:Featuring music from the 1980s and 1990s\, Passed Out Penguin is scheduled to play from 7 PM to 11 PM. \nEvent codes ccsoc ccfb ccent cclm
URL:https://www.wlcnonline.com/event/st-patricks-day-weekend-event-featuring-live-music-by-passed-out-penguin-at-gracies-sports-bar-in-green-valley/
LOCATION:Gracie’s Sports Bar in Green Valley\, 6031 IL Route 29\, Green Valley\, IL\, 61534\, United States
ORGANIZER;CN="Gracie's Sports Bar":MAILTO:bobnbec@yahoo.com
END:VEVENT
BEGIN:VEVENT
DTSTART;TZID=America/Chicago:20260301T150000
DTEND;TZID=America/Chicago:20260301T190000
DTSTAMP:20260424T140543
CREATED:20260227T000012Z
LAST-MODIFIED:20260227T000012Z
UID:10022586-1772377200-1772391600@www.wlcnonline.com
SUMMARY:Live acoustic music by Kent Gray for Sunday Funday at Gracie's Sports Bar in Green Valley
DESCRIPTION:Enjoy your favorite food and beverage of choice while enjoying acoustic tunes by Kent Gray. \nEvent codes ccent cclm ccfb
URL:https://www.wlcnonline.com/event/live-acoustic-music-by-kent-gray-for-sunday-funday-at-gracies-sports-bar-in-green-valley/
LOCATION:Gracie’s Sports Bar in Green Valley\, 6031 IL Route 29\, Green Valley\, IL\, 61534\, United States
ORGANIZER;CN="Gracie's Sports Bar":MAILTO:bobnbec@yahoo.com
END:VEVENT
BEGIN:VEVENT
DTSTART;TZID=America/Chicago:20251206T200000
DTEND;TZID=America/Chicago:20251206T230000
DTSTAMP:20260424T140543
CREATED:20251126T203459Z
LAST-MODIFIED:20251126T203459Z
UID:10021175-1765051200-1765062000@www.wlcnonline.com
SUMMARY:Live music by Stone Cold Cowboys at Gracie's Sports Bar in Green Valley
DESCRIPTION:Stone Cold Cowboys feature country music and’90s favorites that are sure to be a hit with the audience. \nEvent codes ccfb cclm ccent ccsoc
URL:https://www.wlcnonline.com/event/live-music-by-stone-cold-cowboys-at-gracies-sports-bar-in-green-valley-2/
LOCATION:Gracie’s Sports Bar in Green Valley\, 6031 IL Route 29\, Green Valley\, IL\, 61534\, United States
ORGANIZER;CN="Gracie's Sports Bar":MAILTO:bobnbec@yahoo.com
END:VEVENT
BEGIN:VEVENT
DTSTART;TZID=America/Chicago:20251126T200000
DTEND;TZID=America/Chicago:20251126T230000
DTSTAMP:20260424T140543
CREATED:20251120T205045Z
LAST-MODIFIED:20251120T205045Z
UID:10021138-1764187200-1764198000@www.wlcnonline.com
SUMMARY:Night before Thanksgiving party with live music by Stereo Typical at Gracie's Sports Bar in Green Valley
DESCRIPTION:Stereo Typical is scheduled to play from 8 PM to 11 PM. \nEvent codes ccfb cclm ccent
URL:https://www.wlcnonline.com/event/night-before-thanksgiving-party-with-live-music-by-stereo-typical-at-gracies-sports-bar-in-green-valley/
LOCATION:Gracie’s Sports Bar in Green Valley\, 6031 IL Route 29\, Green Valley\, IL\, 61534\, United States
ORGANIZER;CN="Gracie's Sports Bar":MAILTO:bobnbec@yahoo.com
END:VEVENT
BEGIN:VEVENT
DTSTART;TZID=America/Chicago:20251116T150000
DTEND;TZID=America/Chicago:20251116T180000
DTSTAMP:20260424T140543
CREATED:20251113T210457Z
LAST-MODIFIED:20251113T210457Z
UID:10021070-1763305200-1763316000@www.wlcnonline.com
SUMMARY:Sunday funday with live music by Taylor Bruninga and the Bandits at Gracie's Sports Bar in Green Valley
DESCRIPTION:Enjoy an afternoon of original music and covers ranging from ’90s to outlaw country and southern rock with Taylor Bruninga and the Bandits. Bruninga has shared the stage with numerous artists\, including Chris Cagle\, Bryan Martin\, Creed Fisher and Southall. \nEvent codes ccfb cclm ccent
URL:https://www.wlcnonline.com/event/sunday-funday-with-live-music-by-taylor-bruninga-and-the-bandits-at-gracies-sports-bar-in-green-valley/
LOCATION:Gracie’s Sports Bar in Green Valley\, 6031 IL Route 29\, Green Valley\, IL\, 61534\, United States
ORGANIZER;CN="Gracie's Sports Bar":MAILTO:bobnbec@yahoo.com
END:VEVENT
BEGIN:VEVENT
DTSTART;TZID=America/Chicago:20251012T140000
DTEND;TZID=America/Chicago:20251012T170000
DTSTAMP:20260424T140543
CREATED:20251009T210327Z
LAST-MODIFIED:20251009T210327Z
UID:10020914-1760277600-1760288400@www.wlcnonline.com
SUMMARY:Sunday funday with live music by the NikBeats at Gracie's Sports Bar in Green Valley
DESCRIPTION:Enjoy an afternoon of classic oldies with the NikBeats. \nEvent codes ccfb cclm ccent
URL:https://www.wlcnonline.com/event/sunday-funday-with-live-music-by-the-nikbeats-at-gracies-sports-bar-in-green-valley/
LOCATION:Gracie’s Sports Bar in Green Valley\, 6031 IL Route 29\, Green Valley\, IL\, 61534\, United States
ORGANIZER;CN="Gracie's Sports Bar":MAILTO:bobnbec@yahoo.com
END:VEVENT
BEGIN:VEVENT
DTSTART;TZID=America/Chicago:20250926T200000
DTEND;TZID=America/Chicago:20250926T230000
DTSTAMP:20260424T140543
CREATED:20250925T155132Z
LAST-MODIFIED:20250925T155132Z
UID:10020856-1758916800-1758927600@www.wlcnonline.com
SUMMARY:Live music by the Next Thing Smokin' at Gracie's Sports Bar in Green Valley
DESCRIPTION:Next Thing Smokin’ provides a night of music at Gracie’s featuring a wide variety of tunes. \nEvent codes ccfb cclm ccent
URL:https://www.wlcnonline.com/event/live-music-by-the-next-thing-smokin-at-gracies-sports-bar-in-green-valley-2/
LOCATION:Gracie’s Sports Bar in Green Valley\, 6031 IL Route 29\, Green Valley\, IL\, 61534\, United States
ORGANIZER;CN="Gracie's Sports Bar":MAILTO:bobnbec@yahoo.com
END:VEVENT
BEGIN:VEVENT
DTSTART;TZID=America/Chicago:20250809T200000
DTEND;TZID=America/Chicago:20250809T230000
DTSTAMP:20260424T140543
CREATED:20250731T192138Z
LAST-MODIFIED:20250731T192138Z
UID:10020602-1754769600-1754780400@www.wlcnonline.com
SUMMARY:Live music by Outland at Gracie's Sports Bar in Green Valley
DESCRIPTION:Enjoy an evening of music by Outland featuring a wide variety of tunes. \nEvent codes ccfb cclm ccent
URL:https://www.wlcnonline.com/event/live-music-by-outland-at-gracies-sports-bar-in-green-valley/
LOCATION:Gracie’s Sports Bar in Green Valley\, 6031 IL Route 29\, Green Valley\, IL\, 61534\, United States
ORGANIZER;CN="Gracie's Sports Bar":MAILTO:bobnbec@yahoo.com
END:VEVENT
BEGIN:VEVENT
DTSTART;TZID=America/Chicago:20250621T200000
DTEND;TZID=America/Chicago:20250621T230000
DTSTAMP:20260424T140543
CREATED:20250619T154812Z
LAST-MODIFIED:20250619T155357Z
UID:10020295-1750536000-1750546800@www.wlcnonline.com
SUMMARY:Live music by Rewind at Gracie's Sports Bar in Green Valley
DESCRIPTION:PRewind makes its debut at Gracie’s with a night of music featuring a wide variety of tunes. \nEvent codes ccfb cclm ccent
URL:https://www.wlcnonline.com/event/live-music-by-rewind-at-gracies-sports-bar-in-green-valley/
LOCATION:Gracie’s Sports Bar in Green Valley\, 6031 IL Route 29\, Green Valley\, IL\, 61534\, United States
ORGANIZER;CN="Gracie's Sports Bar":MAILTO:bobnbec@yahoo.com
END:VEVENT
BEGIN:VEVENT
DTSTART;TZID=America/Chicago:20250517T190000
DTEND;TZID=America/Chicago:20250517T220000
DTSTAMP:20260424T140543
CREATED:20250508T135041Z
LAST-MODIFIED:20250508T135041Z
UID:10020070-1747508400-1747519200@www.wlcnonline.com
SUMMARY:Live music by Passed Out Penguin at Gracie's Sports Bar in Green Valley
DESCRIPTION:Passed Out Penguin provides a night of music at Gracie’s featuring a wide variety of tunes. \nEvent codes ccfb cclm ccent
URL:https://www.wlcnonline.com/event/live-music-by-passed-out-penguin-at-gracies-sports-bar-in-green-valley-2/
LOCATION:Gracie’s Sports Bar in Green Valley\, 6031 IL Route 29\, Green Valley\, IL\, 61534\, United States
ORGANIZER;CN="Gracie's Sports Bar":MAILTO:bobnbec@yahoo.com
END:VEVENT
BEGIN:VEVENT
DTSTART;TZID=America/Chicago:20250516T200000
DTEND;TZID=America/Chicago:20250516T230000
DTSTAMP:20260424T140543
CREATED:20250508T134923Z
LAST-MODIFIED:20250508T134923Z
UID:10020069-1747425600-1747436400@www.wlcnonline.com
SUMMARY:Live music by Taylor Bruninga and the Bandits at Gracie’s Sports Bar in Green Valley
DESCRIPTION:Taylor Bruninga and the Bandits feature a catalog of country-rock tunes. \nEvent codes ccfb cclm ccent ccsoc
URL:https://www.wlcnonline.com/event/live-music-by-taylor-bruninga-and-the-bandits-at-gracies-sports-bar-in-green-valley/
LOCATION:Gracie’s Sports Bar in Green Valley\, 6031 IL Route 29\, Green Valley\, IL\, 61534\, United States
ORGANIZER;CN="Gracie's Sports Bar":MAILTO:bobnbec@yahoo.com
END:VEVENT
BEGIN:VEVENT
DTSTART;TZID=America/Chicago:20250510T190000
DTEND;TZID=America/Chicago:20250510T220000
DTSTAMP:20260424T140543
CREATED:20250507T235719Z
LAST-MODIFIED:20250507T235719Z
UID:10020023-1746903600-1746914400@www.wlcnonline.com
SUMMARY:Live music by The Killer Riffs at Gracie's Sports Bar in Green Valley
DESCRIPTION:The Killer Riffs feature blues of the ’70s\, hits of the ’80s and tunes from the ’90s. \nEvent codes ccfb cclm ccent ccsoc
URL:https://www.wlcnonline.com/event/live-music-by-the-killer-riffs-at-gracies-sports-bar-in-green-valley/
LOCATION:Gracie’s Sports Bar in Green Valley\, 6031 IL Route 29\, Green Valley\, IL\, 61534\, United States
ORGANIZER;CN="Gracie's Sports Bar":MAILTO:bobnbec@yahoo.com
END:VEVENT
BEGIN:VEVENT
DTSTART;TZID=America/Chicago:20250503T200000
DTEND;TZID=America/Chicago:20250503T230000
DTSTAMP:20260424T140543
CREATED:20250501T210225Z
LAST-MODIFIED:20250501T210225Z
UID:10020003-1746302400-1746313200@www.wlcnonline.com
SUMMARY:Live music by Stone Cold Cowboys at Gracie's Sports Bar in Green Valley
DESCRIPTION:Stone Cold Cowboys feature ’90s favorites that are sure to be a hit with the audience. \nEvent codes ccfb cclm ccent ccsoc
URL:https://www.wlcnonline.com/event/live-music-by-stone-cold-cowboys-at-gracies-sports-bar-in-green-valley/
LOCATION:Gracie’s Sports Bar in Green Valley\, 6031 IL Route 29\, Green Valley\, IL\, 61534\, United States
ORGANIZER;CN="Gracie's Sports Bar":MAILTO:bobnbec@yahoo.com
END:VEVENT
END:VCALENDAR