BEGIN:VCALENDAR
VERSION:2.0
PRODID:-//WLCN 96.3 FM - ECPv6.15.20//NONSGML v1.0//EN
CALSCALE:GREGORIAN
METHOD:PUBLISH
X-ORIGINAL-URL:https://www.wlcnonline.com
X-WR-CALDESC:Events for WLCN 96.3 FM
REFRESH-INTERVAL;VALUE=DURATION:PT1H
X-Robots-Tag:noindex
X-PUBLISHED-TTL:PT1H
BEGIN:VTIMEZONE
TZID:America/Chicago
BEGIN:DAYLIGHT
TZOFFSETFROM:-0600
TZOFFSETTO:-0500
TZNAME:CDT
DTSTART:20240310T080000
END:DAYLIGHT
BEGIN:STANDARD
TZOFFSETFROM:-0500
TZOFFSETTO:-0600
TZNAME:CST
DTSTART:20241103T070000
END:STANDARD
BEGIN:DAYLIGHT
TZOFFSETFROM:-0600
TZOFFSETTO:-0500
TZNAME:CDT
DTSTART:20250309T080000
END:DAYLIGHT
BEGIN:STANDARD
TZOFFSETFROM:-0500
TZOFFSETTO:-0600
TZNAME:CST
DTSTART:20251102T070000
END:STANDARD
BEGIN:DAYLIGHT
TZOFFSETFROM:-0600
TZOFFSETTO:-0500
TZNAME:CDT
DTSTART:20260308T080000
END:DAYLIGHT
BEGIN:STANDARD
TZOFFSETFROM:-0500
TZOFFSETTO:-0600
TZNAME:CST
DTSTART:20261101T070000
END:STANDARD
BEGIN:DAYLIGHT
TZOFFSETFROM:-0600
TZOFFSETTO:-0500
TZNAME:CDT
DTSTART:20270314T080000
END:DAYLIGHT
BEGIN:STANDARD
TZOFFSETFROM:-0500
TZOFFSETTO:-0600
TZNAME:CST
DTSTART:20271107T070000
END:STANDARD
END:VTIMEZONE
BEGIN:VEVENT
DTSTART;TZID=America/Chicago:20260210T090000
DTEND;TZID=America/Chicago:20260210T120000
DTSTAMP:20260422T093850
CREATED:20260205T194632Z
LAST-MODIFIED:20260205T194632Z
UID:10022484-1770714000-1770724800@www.wlcnonline.com
SUMMARY:Community blood drive at Good Shepherd Lutheran Church in Minier
DESCRIPTION:Donations can be made between 9 AM and noon. Click here to reserve a time online. \nEvent codes: ccbld\, ccserv
URL:https://www.wlcnonline.com/event/community-blood-drive-at-good-shepherd-lutheran-church-in-minier-4/
LOCATION:Good Shepherd Lutheran Church in Minier\, 101 E. Garfield Street\, Minier\, 61759\, United States
END:VEVENT
BEGIN:VEVENT
DTSTART;TZID=America/Chicago:20250819T090000
DTEND;TZID=America/Chicago:20250819T120000
DTSTAMP:20260422T093850
CREATED:20250815T034947Z
LAST-MODIFIED:20250815T034947Z
UID:10020656-1755594000-1755604800@www.wlcnonline.com
SUMMARY:Community blood drive at Good Shepherd Lutheran Church in Minier
DESCRIPTION:Donations can be made between 9 AM and noon. Click here to reserve a time online. \nEvent codes: ccbld\, ccserv
URL:https://www.wlcnonline.com/event/community-blood-drive-at-good-shepherd-lutheran-church-in-minier-3/
LOCATION:Good Shepherd Lutheran Church in Minier\, 101 E. Garfield Street\, Minier\, 61759\, United States
END:VEVENT
BEGIN:VEVENT
DTSTART;TZID=America/Chicago:20250617T090000
DTEND;TZID=America/Chicago:20250617T120000
DTSTAMP:20260422T093850
CREATED:20250612T213321Z
LAST-MODIFIED:20250612T213321Z
UID:10020261-1750150800-1750161600@www.wlcnonline.com
SUMMARY:Community blood drive at Good Shepherd Lutheran Church in Minier
DESCRIPTION:Donations can be made between 9 AM and noon. Click here to reserve a time online. \nEvent codes: ccbld\, ccserv
URL:https://www.wlcnonline.com/event/community-blood-drive-at-good-shepherd-lutheran-church-in-minier-2/
LOCATION:Good Shepherd Lutheran Church in Minier\, 101 E. Garfield Street\, Minier\, 61759\, United States
END:VEVENT
BEGIN:VEVENT
DTSTART;TZID=America/Chicago:20250422T090000
DTEND;TZID=America/Chicago:20250422T120000
DTSTAMP:20260422T093850
CREATED:20250410T211754Z
LAST-MODIFIED:20250410T211754Z
UID:10019897-1745312400-1745323200@www.wlcnonline.com
SUMMARY:Community blood drive at Good Shepherd Lutheran Church in Minier
DESCRIPTION:Donations can be made between 9 AM and noon. Click here to reserve a time online. \nEvent codes: ccbld\, ccserv
URL:https://www.wlcnonline.com/event/community-blood-drive-at-good-shepherd-lutheran-church-in-minier/
LOCATION:Good Shepherd Lutheran Church in Minier\, 101 E. Garfield Street\, Minier\, 61759\, United States
END:VEVENT
END:VCALENDAR