BEGIN:VCALENDAR
VERSION:2.0
PRODID:-//WLCN 96.3 FM - ECPv6.15.20//NONSGML v1.0//EN
CALSCALE:GREGORIAN
METHOD:PUBLISH
X-ORIGINAL-URL:https://www.wlcnonline.com
X-WR-CALDESC:Events for WLCN 96.3 FM
REFRESH-INTERVAL;VALUE=DURATION:PT1H
X-Robots-Tag:noindex
X-PUBLISHED-TTL:PT1H
BEGIN:VTIMEZONE
TZID:America/Chicago
BEGIN:DAYLIGHT
TZOFFSETFROM:-0600
TZOFFSETTO:-0500
TZNAME:CDT
DTSTART:20240310T080000
END:DAYLIGHT
BEGIN:STANDARD
TZOFFSETFROM:-0500
TZOFFSETTO:-0600
TZNAME:CST
DTSTART:20241103T070000
END:STANDARD
BEGIN:DAYLIGHT
TZOFFSETFROM:-0600
TZOFFSETTO:-0500
TZNAME:CDT
DTSTART:20250309T080000
END:DAYLIGHT
BEGIN:STANDARD
TZOFFSETFROM:-0500
TZOFFSETTO:-0600
TZNAME:CST
DTSTART:20251102T070000
END:STANDARD
BEGIN:DAYLIGHT
TZOFFSETFROM:-0600
TZOFFSETTO:-0500
TZNAME:CDT
DTSTART:20260308T080000
END:DAYLIGHT
BEGIN:STANDARD
TZOFFSETFROM:-0500
TZOFFSETTO:-0600
TZNAME:CST
DTSTART:20261101T070000
END:STANDARD
BEGIN:DAYLIGHT
TZOFFSETFROM:-0600
TZOFFSETTO:-0500
TZNAME:CDT
DTSTART:20270314T080000
END:DAYLIGHT
BEGIN:STANDARD
TZOFFSETFROM:-0500
TZOFFSETTO:-0600
TZNAME:CST
DTSTART:20271107T070000
END:STANDARD
END:VTIMEZONE
BEGIN:VEVENT
DTSTART;TZID=America/Chicago:20260312T180000
DTEND;TZID=America/Chicago:20260312T193000
DTSTAMP:20260420T045409
CREATED:20260311T153140Z
LAST-MODIFIED:20260311T153140Z
UID:10022627-1773338400-1773343800@www.wlcnonline.com
SUMMARY:Presentation on "Using Native Plants to Support Bees" at Danvers Township Library in Danvers
DESCRIPTION:This presentation will provide information on what plants to use to support bees\, how to design space for those plants and best practices to maintain and manage native plants in your landscape. \nThe class is free and intended for adults and teens. \nAdvance registration is required and can be done by phone (309-963-4269)\, by email (danvers.tl.rsa@gmail.com) or in person by stopping by the library. \nEvent codes ccfre ccedu ccenv
URL:https://www.wlcnonline.com/event/presentation-on-using-native-plants-to-support-bees-at-danvers-township-library-in-danvers/
LOCATION:Danvers Township Library\, 117 E. Exchange Street\, Danvers\, IL\, 61732\, United States
ORGANIZER;CN="Danvers Township Library":MAILTO:danvers.tl.rsa@gmail.com
END:VEVENT
BEGIN:VEVENT
DTSTART;TZID=America/Chicago:20251031T100000
DTEND;TZID=America/Chicago:20251031T160000
DTSTAMP:20260420T045409
CREATED:20251029T215946Z
LAST-MODIFIED:20251029T215946Z
UID:10021019-1761904800-1761926400@www.wlcnonline.com
SUMMARY:Halloween Day activities at Danvers Township Library in Danvers
DESCRIPTION:A variety of activities are scheduled to take place Halloween day at the library\, including: \n\n10 AM to noon – Pumpkin dissection and pumpkin life cycle bracelets\nNoon to 2 PM – Halloween cookie decorating and air-dry clay ghosts\n2 PM to 4 PM – Design your own Trick-or-Treat bag with the Cricut maker\n\nAdvance registration is requested so ample supplies and materials are available. Register in person at the library\, send an email to danvers.tl.rsa@gmail.com or call (309) 963-4269. \nEvent codes ccaca ccfk
URL:https://www.wlcnonline.com/event/halloween-day-activities-at-danvers-township-library-in-danvers/
LOCATION:Danvers Township Library\, 117 E. Exchange Street\, Danvers\, IL\, 61732\, United States
ORGANIZER;CN="Danvers Township Library":MAILTO:danvers.tl.rsa@gmail.com
END:VEVENT
END:VCALENDAR