BEGIN:VCALENDAR
VERSION:2.0
PRODID:-//WLCN 96.3 FM - ECPv6.15.20//NONSGML v1.0//EN
CALSCALE:GREGORIAN
METHOD:PUBLISH
X-WR-CALNAME:WLCN 96.3 FM
X-ORIGINAL-URL:https://www.wlcnonline.com
X-WR-CALDESC:Events for WLCN 96.3 FM
REFRESH-INTERVAL;VALUE=DURATION:PT1H
X-Robots-Tag:noindex
X-PUBLISHED-TTL:PT1H
BEGIN:VTIMEZONE
TZID:America/Chicago
BEGIN:DAYLIGHT
TZOFFSETFROM:-0600
TZOFFSETTO:-0500
TZNAME:CDT
DTSTART:20240310T080000
END:DAYLIGHT
BEGIN:STANDARD
TZOFFSETFROM:-0500
TZOFFSETTO:-0600
TZNAME:CST
DTSTART:20241103T070000
END:STANDARD
BEGIN:DAYLIGHT
TZOFFSETFROM:-0600
TZOFFSETTO:-0500
TZNAME:CDT
DTSTART:20250309T080000
END:DAYLIGHT
BEGIN:STANDARD
TZOFFSETFROM:-0500
TZOFFSETTO:-0600
TZNAME:CST
DTSTART:20251102T070000
END:STANDARD
BEGIN:DAYLIGHT
TZOFFSETFROM:-0600
TZOFFSETTO:-0500
TZNAME:CDT
DTSTART:20260308T080000
END:DAYLIGHT
BEGIN:STANDARD
TZOFFSETFROM:-0500
TZOFFSETTO:-0600
TZNAME:CST
DTSTART:20261101T070000
END:STANDARD
BEGIN:DAYLIGHT
TZOFFSETFROM:-0600
TZOFFSETTO:-0500
TZNAME:CDT
DTSTART:20270314T080000
END:DAYLIGHT
BEGIN:STANDARD
TZOFFSETFROM:-0500
TZOFFSETTO:-0600
TZNAME:CST
DTSTART:20271107T070000
END:STANDARD
END:VTIMEZONE
BEGIN:VEVENT
DTSTART;TZID=America/Chicago:20260416T143000
DTEND;TZID=America/Chicago:20260416T173000
DTSTAMP:20260419T103545
CREATED:20260409T222456Z
LAST-MODIFIED:20260409T222456Z
UID:10022915-1776349800-1776360600@www.wlcnonline.com
SUMMARY:Community blood drive at Crosswalk Fellowship in Delavan
DESCRIPTION:The drive runs from 2:30 PM to 5:30 PM. Click here to register online for a donation appointment time. \nEvent codes ccbld
URL:https://www.wlcnonline.com/event/community-blood-drive-at-crosswalk-fellowship-in-delavan-6/
LOCATION:Crosswalk Fellowship in Delavan\, 712 E. Fourth Street\, Delavan\, IL\, 61734\, United States
END:VEVENT
BEGIN:VEVENT
DTSTART;TZID=America/Chicago:20260223T130000
DTEND;TZID=America/Chicago:20260223T180000
DTSTAMP:20260419T103545
CREATED:20260219T230004Z
LAST-MODIFIED:20260219T230004Z
UID:10022569-1771851600-1771869600@www.wlcnonline.com
SUMMARY:Community blood drive at United Methodist Church in Delavan
DESCRIPTION:The drive runs from 1 PM to 6 PM. Click here to view available donation times. \nEvent codes ccbld
URL:https://www.wlcnonline.com/event/community-blood-drive-at-united-methodist-church-in-delavan/
LOCATION:Crosswalk Fellowship in Delavan\, 712 E. Fourth Street\, Delavan\, IL\, 61734\, United States
END:VEVENT
BEGIN:VEVENT
DTSTART;TZID=America/Chicago:20260219T143000
DTEND;TZID=America/Chicago:20260219T173000
DTSTAMP:20260419T103545
CREATED:20260212T205251Z
LAST-MODIFIED:20260219T230038Z
UID:10022488-1771511400-1771522200@www.wlcnonline.com
SUMMARY:Community blood drive at Crosswalk Fellowship in Delavan
DESCRIPTION:The drive runs from 2:30 PM to 5:30 PM. Click here to register online for a donation appointment time. \nEvent codes ccbld
URL:https://www.wlcnonline.com/event/community-blood-drive-at-crosswalk-fellowship-in-delavan-5/
LOCATION:Crosswalk Fellowship in Delavan\, 712 E. Fourth Street\, Delavan\, IL\, 61734\, United States
END:VEVENT
BEGIN:VEVENT
DTSTART;TZID=America/Chicago:20251016T143000
DTEND;TZID=America/Chicago:20251016T180000
DTSTAMP:20260419T103545
CREATED:20251009T170813Z
LAST-MODIFIED:20251009T170813Z
UID:10020901-1760625000-1760637600@www.wlcnonline.com
SUMMARY:Community blood drive at Crosswalk Fellowship in Delavan
DESCRIPTION:The drive runs from 2:30 PM to 6 PM. Click here to register online for a donation appointment time. \nEvent codes ccbld
URL:https://www.wlcnonline.com/event/community-blood-drive-at-crosswalk-fellowship-in-delavan-4/
LOCATION:Crosswalk Fellowship in Delavan\, 712 E. Fourth Street\, Delavan\, IL\, 61734\, United States
END:VEVENT
BEGIN:VEVENT
DTSTART;TZID=America/Chicago:20250814T143000
DTEND;TZID=America/Chicago:20250814T180000
DTSTAMP:20260419T103545
CREATED:20250731T194545Z
LAST-MODIFIED:20250731T194545Z
UID:10020606-1755181800-1755194400@www.wlcnonline.com
SUMMARY:Community blood drive at Crosswalk Fellowship in Delavan
DESCRIPTION:The drive runs from 2:30 PM to 6 PM. Click here to register online for a donation appointment time. \nEvent codes ccbld
URL:https://www.wlcnonline.com/event/community-blood-drive-at-crosswalk-fellowship-in-delavan-3/
LOCATION:Crosswalk Fellowship in Delavan\, 712 E. Fourth Street\, Delavan\, IL\, 61734\, United States
END:VEVENT
BEGIN:VEVENT
DTSTART;TZID=America/Chicago:20250619T143000
DTEND;TZID=America/Chicago:20250619T180000
DTSTAMP:20260419T103545
CREATED:20250612T213109Z
LAST-MODIFIED:20250612T213109Z
UID:10020260-1750343400-1750356000@www.wlcnonline.com
SUMMARY:Community blood drive at Crosswalk Fellowship in Delavan
DESCRIPTION:The drive runs from 2:30 PM to 6 PM. Click here to register online for a donation appointment time. \nEvent codes ccbld
URL:https://www.wlcnonline.com/event/community-blood-drive-at-crosswalk-fellowship-in-delavan-2/
LOCATION:Crosswalk Fellowship in Delavan\, 712 E. Fourth Street\, Delavan\, IL\, 61734\, United States
END:VEVENT
END:VCALENDAR