BEGIN:VCALENDAR
VERSION:2.0
PRODID:-//WLCN 96.3 FM - ECPv6.15.20//NONSGML v1.0//EN
CALSCALE:GREGORIAN
METHOD:PUBLISH
X-ORIGINAL-URL:https://www.wlcnonline.com
X-WR-CALDESC:Events for WLCN 96.3 FM
REFRESH-INTERVAL;VALUE=DURATION:PT1H
X-Robots-Tag:noindex
X-PUBLISHED-TTL:PT1H
BEGIN:VTIMEZONE
TZID:America/Chicago
BEGIN:DAYLIGHT
TZOFFSETFROM:-0600
TZOFFSETTO:-0500
TZNAME:CDT
DTSTART:20240310T080000
END:DAYLIGHT
BEGIN:STANDARD
TZOFFSETFROM:-0500
TZOFFSETTO:-0600
TZNAME:CST
DTSTART:20241103T070000
END:STANDARD
BEGIN:DAYLIGHT
TZOFFSETFROM:-0600
TZOFFSETTO:-0500
TZNAME:CDT
DTSTART:20250309T080000
END:DAYLIGHT
BEGIN:STANDARD
TZOFFSETFROM:-0500
TZOFFSETTO:-0600
TZNAME:CST
DTSTART:20251102T070000
END:STANDARD
BEGIN:DAYLIGHT
TZOFFSETFROM:-0600
TZOFFSETTO:-0500
TZNAME:CDT
DTSTART:20260308T080000
END:DAYLIGHT
BEGIN:STANDARD
TZOFFSETFROM:-0500
TZOFFSETTO:-0600
TZNAME:CST
DTSTART:20261101T070000
END:STANDARD
BEGIN:DAYLIGHT
TZOFFSETFROM:-0600
TZOFFSETTO:-0500
TZNAME:CDT
DTSTART:20270314T080000
END:DAYLIGHT
BEGIN:STANDARD
TZOFFSETFROM:-0500
TZOFFSETTO:-0600
TZNAME:CST
DTSTART:20271107T070000
END:STANDARD
END:VTIMEZONE
BEGIN:VEVENT
DTSTART;TZID=America/Chicago:20260325T130000
DTEND;TZID=America/Chicago:20260325T140000
DTSTAMP:20260419T220715
CREATED:20260319T184600Z
LAST-MODIFIED:20260319T200701Z
UID:10022678-1774443600-1774447200@www.wlcnonline.com
SUMMARY:"Living Stations of the Cross" event at Carroll Catholic School in Lincoln
DESCRIPTION:Carroll Catholic School will present the Living Stations of the Cross on Wednesday\, March 25 at 1 PM in the school gymnasium. The community is invited to attend. \n32 students from Grades 5 through 8 will portray the events of Jesus’ journey to the cross\, representing the people He encountered along the way. The presentation offers a powerful Lenten reflection on Christ’s Passion and God’s love for humanity. \nThe https://www.facebook.com/events/2096236904524715/ is not a play\, but a prayerful experience in which all present are invited to participate. Parishioners\, church members\, and the Lincoln community are warmly welcome to attend. \nEvent codes ccrel ccedu ccea
URL:https://www.wlcnonline.com/event/living-stations-of-the-cross-event-at-carroll-catholic-school-in-lincoln/
LOCATION:Carroll Catholic School\, 111 4th Street\, Lincoln\, IL\, 62656\, United States
END:VEVENT
BEGIN:VEVENT
DTSTART;TZID=America/Chicago:20260114T173000
DTEND;TZID=America/Chicago:20260114T183000
DTSTAMP:20260419T220715
CREATED:20260108T203315Z
LAST-MODIFIED:20260108T203315Z
UID:10022243-1768411800-1768415400@www.wlcnonline.com
SUMMARY:School club meeting at Carroll Catholic School in Lincoln
DESCRIPTION:This meeting will include discussions about feedback from the Christmas Bazaar held in December as well as upcoming events in January and February events. \nClick here to view the agenda for the meeting. To have something added to the agenda\, contact Kayla Davis at (309) 310-9195. \nEvent codes ccedu ccrel
URL:https://www.wlcnonline.com/event/school-club-meeting-at-carroll-catholic-school-in-lincoln-2/
LOCATION:Carroll Catholic School\, 111 4th Street\, Lincoln\, IL\, 62656\, United States
END:VEVENT
BEGIN:VEVENT
DTSTART;TZID=America/Chicago:20251207T080000
DTEND;TZID=America/Chicago:20251207T120000
DTSTAMP:20260419T220715
CREATED:20251126T204011Z
LAST-MODIFIED:20251126T204011Z
UID:10021176-1765094400-1765108800@www.wlcnonline.com
SUMMARY:Annual Christmas bazaar and breakfast at Carroll Catholic School in Lincoln
DESCRIPTION:The event begins at 8 AM with breakfast for $10 consisting of scrambled eggs\, biscuits & gravy\, bacon\, fried potatoes\, fresh fruit\, and a drink. \nThere will be several activities\, including raffles\, a sweet shoppe and a children’s room. \nEvent codes ccchr ccsoc ccff ccfk ccfb ccedu
URL:https://www.wlcnonline.com/event/annual-christmas-bazaar-and-breakfast-at-carroll-catholic-school-in-lincoln/
LOCATION:Carroll Catholic School\, 111 4th Street\, Lincoln\, IL\, 62656\, United States
END:VEVENT
BEGIN:VEVENT
DTSTART;TZID=America/Chicago:20250903T173000
DTEND;TZID=America/Chicago:20250903T183000
DTSTAMP:20260419T220715
CREATED:20250829T024733Z
LAST-MODIFIED:20250829T024733Z
UID:10020684-1756920600-1756924200@www.wlcnonline.com
SUMMARY:School club meeting at Carroll Catholic School in Lincoln
DESCRIPTION:Agenda for the meeting can be viewed by visiting the Facebook event page and clicking the Google document link. \nEvent codes ccedu
URL:https://www.wlcnonline.com/event/school-club-meeting-at-carroll-catholic-school-in-lincoln/
LOCATION:Carroll Catholic School\, 111 4th Street\, Lincoln\, IL\, 62656\, United States
END:VEVENT
END:VCALENDAR