BEGIN:VCALENDAR
VERSION:2.0
PRODID:-//WLCN 96.3 FM - ECPv6.15.20//NONSGML v1.0//EN
CALSCALE:GREGORIAN
METHOD:PUBLISH
X-ORIGINAL-URL:https://www.wlcnonline.com
X-WR-CALDESC:Events for WLCN 96.3 FM
REFRESH-INTERVAL;VALUE=DURATION:PT1H
X-Robots-Tag:noindex
X-PUBLISHED-TTL:PT1H
BEGIN:VTIMEZONE
TZID:America/Chicago
BEGIN:DAYLIGHT
TZOFFSETFROM:-0600
TZOFFSETTO:-0500
TZNAME:CDT
DTSTART:20240310T080000
END:DAYLIGHT
BEGIN:STANDARD
TZOFFSETFROM:-0500
TZOFFSETTO:-0600
TZNAME:CST
DTSTART:20241103T070000
END:STANDARD
BEGIN:DAYLIGHT
TZOFFSETFROM:-0600
TZOFFSETTO:-0500
TZNAME:CDT
DTSTART:20250309T080000
END:DAYLIGHT
BEGIN:STANDARD
TZOFFSETFROM:-0500
TZOFFSETTO:-0600
TZNAME:CST
DTSTART:20251102T070000
END:STANDARD
BEGIN:DAYLIGHT
TZOFFSETFROM:-0600
TZOFFSETTO:-0500
TZNAME:CDT
DTSTART:20260308T080000
END:DAYLIGHT
BEGIN:STANDARD
TZOFFSETFROM:-0500
TZOFFSETTO:-0600
TZNAME:CST
DTSTART:20261101T070000
END:STANDARD
END:VTIMEZONE
BEGIN:VEVENT
DTSTART;TZID=America/Chicago:20251108T090000
DTEND;TZID=America/Chicago:20251108T120000
DTSTAMP:20260421T043032
CREATED:20251030T144016Z
LAST-MODIFIED:20251030T144016Z
UID:10021030-1762592400-1762603200@www.wlcnonline.com
SUMMARY:"Hydrate & Glow" open house event at Beautiful Body & Soul in Lincoln
DESCRIPTION:Attendees for this open house can gets Recharge and Immunity IV infusions at exclusive 50% off pricing on a first-come\, first-served basis. Each guest will receive a voucher for a $35 light chemical peel. Light brunch items and beverages will be available. \nEvent codes cclbep
URL:https://www.wlcnonline.com/event/hydrate-glow-open-house-event-at-beautiful-body-soul-in-lincoln/
LOCATION:Beautiful Body and Soul in Lincoln\, 514 E. Pekin Street\, Lincoln\, 62656\, United States
END:VEVENT
END:VCALENDAR