BEGIN:VCALENDAR
VERSION:2.0
PRODID:-//WLCN 96.3 FM - ECPv6.15.20//NONSGML v1.0//EN
CALSCALE:GREGORIAN
METHOD:PUBLISH
X-ORIGINAL-URL:https://www.wlcnonline.com
X-WR-CALDESC:Events for WLCN 96.3 FM
REFRESH-INTERVAL;VALUE=DURATION:PT1H
X-Robots-Tag:noindex
X-PUBLISHED-TTL:PT1H
BEGIN:VTIMEZONE
TZID:America/Chicago
BEGIN:DAYLIGHT
TZOFFSETFROM:-0600
TZOFFSETTO:-0500
TZNAME:CDT
DTSTART:20240310T080000
END:DAYLIGHT
BEGIN:STANDARD
TZOFFSETFROM:-0500
TZOFFSETTO:-0600
TZNAME:CST
DTSTART:20241103T070000
END:STANDARD
BEGIN:DAYLIGHT
TZOFFSETFROM:-0600
TZOFFSETTO:-0500
TZNAME:CDT
DTSTART:20250309T080000
END:DAYLIGHT
BEGIN:STANDARD
TZOFFSETFROM:-0500
TZOFFSETTO:-0600
TZNAME:CST
DTSTART:20251102T070000
END:STANDARD
BEGIN:DAYLIGHT
TZOFFSETFROM:-0600
TZOFFSETTO:-0500
TZNAME:CDT
DTSTART:20260308T080000
END:DAYLIGHT
BEGIN:STANDARD
TZOFFSETFROM:-0500
TZOFFSETTO:-0600
TZNAME:CST
DTSTART:20261101T070000
END:STANDARD
END:VTIMEZONE
BEGIN:VEVENT
DTSTART;TZID=America/Chicago:20250711T110000
DTEND;TZID=America/Chicago:20250711T120000
DTSTAMP:20260425T162852
CREATED:20250701T155424Z
LAST-MODIFIED:20250701T155424Z
UID:10020390-1752231600-1752235200@www.wlcnonline.com
SUMMARY:Storytime with the Absolute Science Bubble Show at Ayer Public Library in Delavan
DESCRIPTION:This brown bag storytime event will be on the back lawn of the Ayer Public Library District. Attendees are asked to please arrive a few minutes early to get settled and begin enjoying their lunch prior to the program\, which will begin promptly at 11 AM. \nEvent codes ccedu ccent ccfk
URL:https://www.wlcnonline.com/event/storytime-with-the-absolute-science-bubble-show-at-ayer-public-library-in-delavan/
LOCATION:Ayer Public Library District\, 208 Locust Street\, Delavan\, 61734\, United States
ORGANIZER;CN="Ayer Public Library District":MAILTO:ayerpubliclibrary@yahoo.com
END:VEVENT
END:VCALENDAR