BEGIN:VCALENDAR
VERSION:2.0
PRODID:-//WLCN 96.3 FM - ECPv6.15.20//NONSGML v1.0//EN
CALSCALE:GREGORIAN
METHOD:PUBLISH
X-WR-CALNAME:WLCN 96.3 FM
X-ORIGINAL-URL:https://www.wlcnonline.com
X-WR-CALDESC:Events for WLCN 96.3 FM
REFRESH-INTERVAL;VALUE=DURATION:PT1H
X-Robots-Tag:noindex
X-PUBLISHED-TTL:PT1H
BEGIN:VTIMEZONE
TZID:America/Chicago
BEGIN:DAYLIGHT
TZOFFSETFROM:-0600
TZOFFSETTO:-0500
TZNAME:CDT
DTSTART:20240310T080000
END:DAYLIGHT
BEGIN:STANDARD
TZOFFSETFROM:-0500
TZOFFSETTO:-0600
TZNAME:CST
DTSTART:20241103T070000
END:STANDARD
BEGIN:DAYLIGHT
TZOFFSETFROM:-0600
TZOFFSETTO:-0500
TZNAME:CDT
DTSTART:20250309T080000
END:DAYLIGHT
BEGIN:STANDARD
TZOFFSETFROM:-0500
TZOFFSETTO:-0600
TZNAME:CST
DTSTART:20251102T070000
END:STANDARD
BEGIN:DAYLIGHT
TZOFFSETFROM:-0600
TZOFFSETTO:-0500
TZNAME:CDT
DTSTART:20260308T080000
END:DAYLIGHT
BEGIN:STANDARD
TZOFFSETFROM:-0500
TZOFFSETTO:-0600
TZNAME:CST
DTSTART:20261101T070000
END:STANDARD
END:VTIMEZONE
BEGIN:VEVENT
DTSTART;TZID=America/Chicago:20250619T130000
DTEND;TZID=America/Chicago:20250619T180000
DTSTAMP:20260425T204930
CREATED:20250612T213906Z
LAST-MODIFIED:20250612T232827Z
UID:10020262-1750338000-1750356000@www.wlcnonline.com
SUMMARY:6th annual Juneteenth Festival at Latham Park in Lincoln
DESCRIPTION:6th Annual Juneteenth Festival Community Cookout & Field Day\nHosted by The Hunt For Foundation\nThursday\, June 19\, 2025 – 1 PM to 6 PM\nFREE & Open to the Public\nGet ready for a family reunion-style celebration commemorating Emancipation Day with a community-centered Juneteenth festival \n• Live DJ & Line Dancing\n• Bounce Houses & Foam Party\n• Tag Football & Obstacle Course\n• Musical Chairs & Sack Race\n• Three-Legged Race & Balloon Pop Relay\n• Spades & Classic Games\n• Community Cookout (Bring Your Grills & Cookout!)\n• Giveaways & Raffles\n• Fun for All Ages! \nThe event is all about unity\, freedom\, culture and community \nEvent codes ccsoc ccfb ccent ccgc
URL:https://www.wlcnonline.com/event/6th-annual-juneteenth-festival-at-latham-park-in-lincoln/
LOCATION:Latham Park in Lincoln\, 710 Pekin Street\, Lincoln\, IL\, 62656\, United States
ORGANIZER;CN="The Hunt for Foundation":MAILTO:huntforfoundation@gmail.com
END:VEVENT
END:VCALENDAR