BEGIN:VCALENDAR
VERSION:2.0
PRODID:-//WLCN 96.3 FM - ECPv6.15.20//NONSGML v1.0//EN
CALSCALE:GREGORIAN
METHOD:PUBLISH
X-WR-CALNAME:WLCN 96.3 FM
X-ORIGINAL-URL:https://www.wlcnonline.com
X-WR-CALDESC:Events for WLCN 96.3 FM
REFRESH-INTERVAL;VALUE=DURATION:PT1H
X-Robots-Tag:noindex
X-PUBLISHED-TTL:PT1H
BEGIN:VTIMEZONE
TZID:America/Chicago
BEGIN:DAYLIGHT
TZOFFSETFROM:-0600
TZOFFSETTO:-0500
TZNAME:CDT
DTSTART:20240310T080000
END:DAYLIGHT
BEGIN:STANDARD
TZOFFSETFROM:-0500
TZOFFSETTO:-0600
TZNAME:CST
DTSTART:20241103T070000
END:STANDARD
BEGIN:DAYLIGHT
TZOFFSETFROM:-0600
TZOFFSETTO:-0500
TZNAME:CDT
DTSTART:20250309T080000
END:DAYLIGHT
BEGIN:STANDARD
TZOFFSETFROM:-0500
TZOFFSETTO:-0600
TZNAME:CST
DTSTART:20251102T070000
END:STANDARD
BEGIN:DAYLIGHT
TZOFFSETFROM:-0600
TZOFFSETTO:-0500
TZNAME:CDT
DTSTART:20260308T080000
END:DAYLIGHT
BEGIN:STANDARD
TZOFFSETFROM:-0500
TZOFFSETTO:-0600
TZNAME:CST
DTSTART:20261101T070000
END:STANDARD
END:VTIMEZONE
BEGIN:VEVENT
DTSTART;TZID=America/Chicago:20251106T090000
DTEND;TZID=America/Chicago:20251106T120000
DTSTAMP:20260421T042812
CREATED:20251030T161706Z
LAST-MODIFIED:20251030T161706Z
UID:10021046-1762419600-1762430400@www.wlcnonline.com
SUMMARY:Community resource information day at Salvation Army Lincoln 360 Life Center in Lincoln
DESCRIPTION:November is National Homelessness Awareness Month\, and this community resource information day is being presented to provide information about housing\, energy\, food\, water and self care. \nEvent codes ccfre ccedu
URL:https://www.wlcnonline.com/event/community-resource-information-day-at-salvation-army-lincoln-360-life-center-in-lincoln/
LOCATION:The Salvation Army Lincoln 360 Life Center in Lincoln\, 307 N. Kickapoo Street\, Lincoln\, IL\, 62656\, United States
END:VEVENT
BEGIN:VEVENT
DTSTART;TZID=America/Chicago:20251024T183000
DTEND;TZID=America/Chicago:20251024T194500
DTSTAMP:20260421T042812
CREATED:20251023T163044Z
LAST-MODIFIED:20251023T163044Z
UID:10020967-1761330600-1761335100@www.wlcnonline.com
SUMMARY:Red kettle kickoff event by the Salvation Army Lincoln 360 Life Center at Faith Church in Lincoln
DESCRIPTION:This kick-off will launch the The Salvation Army’s annual red kettle campaign\, started in 1891 as a way to cover the cost of the community Christmas meal. Today\, donations to the campaign help The Salvation Army care for homeless and needy families as well as assisting the organization in serving over 27 million people all year long with many different services. \nThis event takes place at Faith Church in Lincoln and is scheduled from 6:30 PM to 7:45 PM. \nEvent codes ccchr ccfdd
URL:https://www.wlcnonline.com/event/red-kettle-kickoff-event-by-the-salvation-army-lincoln-360-life-center-at-faith-church-in-lincoln/
LOCATION:Faith Church in Lincoln\, 1225 Nicholson Road\, Lincoln\, IL\, 62656\, United States
END:VEVENT
BEGIN:VEVENT
DTSTART;TZID=America/Chicago:20250823T100000
DTEND;TZID=America/Chicago:20250823T130000
DTSTAMP:20260421T042812
CREATED:20250822T021820Z
LAST-MODIFIED:20250822T021820Z
UID:10020662-1755943200-1755954000@www.wlcnonline.com
SUMMARY:Pork chop and ribeye sandwich sale fundraiser for Lincoln Salvation Army 360 Life Center at Lincoln IGA
DESCRIPTION:Proceeds from this fundraiser benefit the Salvation Army. \nEvent codes ccfdd ccfb
URL:https://www.wlcnonline.com/event/pork-chop-and-ribeye-sandwich-sale-fundraiser-for-lincoln-salvation-army-360-life-center-at-lincoln-iga/
LOCATION:Lincoln IGA\, 713 Pulaski Street\, Lincoln\, IL\, 62656\, United States
END:VEVENT
END:VCALENDAR