BEGIN:VCALENDAR
VERSION:2.0
PRODID:-//WLCN 96.3 FM - ECPv6.15.20//NONSGML v1.0//EN
CALSCALE:GREGORIAN
METHOD:PUBLISH
X-WR-CALNAME:WLCN 96.3 FM
X-ORIGINAL-URL:https://www.wlcnonline.com
X-WR-CALDESC:Events for WLCN 96.3 FM
REFRESH-INTERVAL;VALUE=DURATION:PT1H
X-Robots-Tag:noindex
X-PUBLISHED-TTL:PT1H
BEGIN:VTIMEZONE
TZID:America/Chicago
BEGIN:DAYLIGHT
TZOFFSETFROM:-0600
TZOFFSETTO:-0500
TZNAME:CDT
DTSTART:20240310T080000
END:DAYLIGHT
BEGIN:STANDARD
TZOFFSETFROM:-0500
TZOFFSETTO:-0600
TZNAME:CST
DTSTART:20241103T070000
END:STANDARD
BEGIN:DAYLIGHT
TZOFFSETFROM:-0600
TZOFFSETTO:-0500
TZNAME:CDT
DTSTART:20250309T080000
END:DAYLIGHT
BEGIN:STANDARD
TZOFFSETFROM:-0500
TZOFFSETTO:-0600
TZNAME:CST
DTSTART:20251102T070000
END:STANDARD
BEGIN:DAYLIGHT
TZOFFSETFROM:-0600
TZOFFSETTO:-0500
TZNAME:CDT
DTSTART:20260308T080000
END:DAYLIGHT
BEGIN:STANDARD
TZOFFSETFROM:-0500
TZOFFSETTO:-0600
TZNAME:CST
DTSTART:20261101T070000
END:STANDARD
BEGIN:DAYLIGHT
TZOFFSETFROM:-0600
TZOFFSETTO:-0500
TZNAME:CDT
DTSTART:20270314T080000
END:DAYLIGHT
BEGIN:STANDARD
TZOFFSETFROM:-0500
TZOFFSETTO:-0600
TZNAME:CST
DTSTART:20271107T070000
END:STANDARD
END:VTIMEZONE
BEGIN:VEVENT
DTSTART;TZID=America/Chicago:20260418T140000
DTEND;TZID=America/Chicago:20260418T140000
DTSTAMP:20260422T093627
CREATED:20260416T203428Z
LAST-MODIFIED:20260416T203428Z
UID:10022957-1776520800-1776520800@www.wlcnonline.com
SUMMARY:Mugs & rugs fundraiser event for Oakford Children's Halloween Party at The Rusty Bucket in Greenview
DESCRIPTION:Rugs & Mugs is a laid-back fundraiser for the Oakford Children’s Halloween Party. Guests paint their own rug while enjoying a mug of their favorite beverage. No experience is required. \nCost is $40 per person and includes a rug\, all the supplies needed to paint it\, one free beverage\, and snacks. \nOnly 30 spots are available; those interested can click here to register. \nEvent codes ccaca ccpai ccfdd
URL:https://www.wlcnonline.com/event/mugs-rugs-fundraiser-event-for-oakford-childrens-halloween-party-at-the-rusty-bucket-in-greenview/
LOCATION:Rusty Bucket in Greenview\, 124 N. Engle Street\, Greenview\, 62642\, United States
ORGANIZER;CN="Rusty Bucket":MAILTO:rustybucket124@gmail.com
END:VEVENT
BEGIN:VEVENT
DTSTART;TZID=America/Chicago:20250831T190000
DTEND;TZID=America/Chicago:20250831T220000
DTSTAMP:20260422T093627
CREATED:20250828T202542Z
LAST-MODIFIED:20250828T202542Z
UID:10020680-1756666800-1756677600@www.wlcnonline.com
SUMMARY:Labor Day Weekend live music mini-festival at Rusty Bucket in Greenview
DESCRIPTION:Enjoy items from the on-site food truck and beer tent while listening to a variety of music from: \n\nFriday\, August 29 from 8-11 PM  • Jobe & Woody\nSaturday\, August 30 from 3-6 PM • Antone\nSaturday\, August 30 • 8-11 PM • Aubrey Reed and the Undecideds\nSunday\, August 31 • 2-5 PM • American Pie\nSunday\, August 31 • 7-10 PM • Stone Cold Cowboys\n\nEvent codes ccent cclm ccsoc ccfb
URL:https://www.wlcnonline.com/event/labor-day-weekend-live-music-mini-festival-at-rusty-bucket-in-greenview/2025-08-31/2/
LOCATION:Rusty Bucket in Greenview\, 124 N. Engle Street\, Greenview\, 62642\, United States
ORGANIZER;CN="Rusty Bucket":MAILTO:rustybucket124@gmail.com
END:VEVENT
BEGIN:VEVENT
DTSTART;TZID=America/Chicago:20250831T140000
DTEND;TZID=America/Chicago:20250831T170000
DTSTAMP:20260422T093627
CREATED:20250828T202542Z
LAST-MODIFIED:20250828T202542Z
UID:10020679-1756648800-1756659600@www.wlcnonline.com
SUMMARY:Labor Day Weekend live music mini-festival at Rusty Bucket in Greenview
DESCRIPTION:Enjoy items from the on-site food truck and beer tent while listening to a variety of music from: \n\nFriday\, August 29 from 8-11 PM  • Jobe & Woody\nSaturday\, August 30 from 3-6 PM • Antone\nSaturday\, August 30 • 8-11 PM • Aubrey Reed and the Undecideds\nSunday\, August 31 • 2-5 PM • American Pie\nSunday\, August 31 • 7-10 PM • Stone Cold Cowboys\n\nEvent codes ccent cclm ccsoc ccfb
URL:https://www.wlcnonline.com/event/labor-day-weekend-live-music-mini-festival-at-rusty-bucket-in-greenview/2025-08-31/1/
LOCATION:Rusty Bucket in Greenview\, 124 N. Engle Street\, Greenview\, 62642\, United States
ORGANIZER;CN="Rusty Bucket":MAILTO:rustybucket124@gmail.com
END:VEVENT
BEGIN:VEVENT
DTSTART;TZID=America/Chicago:20250830T200000
DTEND;TZID=America/Chicago:20250830T230000
DTSTAMP:20260422T093627
CREATED:20250828T202542Z
LAST-MODIFIED:20250828T202542Z
UID:10020678-1756584000-1756594800@www.wlcnonline.com
SUMMARY:Labor Day Weekend live music mini-festival at Rusty Bucket in Greenview
DESCRIPTION:Enjoy items from the on-site food truck and beer tent while listening to a variety of music from: \n\nFriday\, August 29 from 8-11 PM  • Jobe & Woody\nSaturday\, August 30 from 3-6 PM • Antone\nSaturday\, August 30 • 8-11 PM • Aubrey Reed and the Undecideds\nSunday\, August 31 • 2-5 PM • American Pie\nSunday\, August 31 • 7-10 PM • Stone Cold Cowboys\n\nEvent codes ccent cclm ccsoc ccfb
URL:https://www.wlcnonline.com/event/labor-day-weekend-live-music-mini-festival-at-rusty-bucket-in-greenview/2025-08-30/2/
LOCATION:Rusty Bucket in Greenview\, 124 N. Engle Street\, Greenview\, 62642\, United States
ORGANIZER;CN="Rusty Bucket":MAILTO:rustybucket124@gmail.com
END:VEVENT
BEGIN:VEVENT
DTSTART;TZID=America/Chicago:20250830T150000
DTEND;TZID=America/Chicago:20250830T180000
DTSTAMP:20260422T093627
CREATED:20250828T202542Z
LAST-MODIFIED:20250828T202542Z
UID:10020677-1756566000-1756576800@www.wlcnonline.com
SUMMARY:Labor Day Weekend live music mini-festival at Rusty Bucket in Greenview
DESCRIPTION:Enjoy items from the on-site food truck and beer tent while listening to a variety of music from: \n\nFriday\, August 29 from 8-11 PM  • Jobe & Woody\nSaturday\, August 30 from 3-6 PM • Antone\nSaturday\, August 30 • 8-11 PM • Aubrey Reed and the Undecideds\nSunday\, August 31 • 2-5 PM • American Pie\nSunday\, August 31 • 7-10 PM • Stone Cold Cowboys\n\nEvent codes ccent cclm ccsoc ccfb
URL:https://www.wlcnonline.com/event/labor-day-weekend-live-music-mini-festival-at-rusty-bucket-in-greenview/2025-08-30/1/
LOCATION:Rusty Bucket in Greenview\, 124 N. Engle Street\, Greenview\, 62642\, United States
ORGANIZER;CN="Rusty Bucket":MAILTO:rustybucket124@gmail.com
END:VEVENT
BEGIN:VEVENT
DTSTART;TZID=America/Chicago:20250829T200000
DTEND;TZID=America/Chicago:20250829T230000
DTSTAMP:20260422T093628
CREATED:20250828T202542Z
LAST-MODIFIED:20250828T202542Z
UID:10020676-1756497600-1756508400@www.wlcnonline.com
SUMMARY:Labor Day Weekend live music mini-festival at Rusty Bucket in Greenview
DESCRIPTION:Enjoy items from the on-site food truck and beer tent while listening to a variety of music from: \n\nFriday\, August 29 from 8-11 PM  • Jobe & Woody\nSaturday\, August 30 from 3-6 PM • Antone\nSaturday\, August 30 • 8-11 PM • Aubrey Reed and the Undecideds\nSunday\, August 31 • 2-5 PM • American Pie\nSunday\, August 31 • 7-10 PM • Stone Cold Cowboys\n\nEvent codes ccent cclm ccsoc ccfb
URL:https://www.wlcnonline.com/event/labor-day-weekend-live-music-mini-festival-at-rusty-bucket-in-greenview/2025-08-29/
LOCATION:Rusty Bucket in Greenview\, 124 N. Engle Street\, Greenview\, 62642\, United States
ORGANIZER;CN="Rusty Bucket":MAILTO:rustybucket124@gmail.com
END:VEVENT
END:VCALENDAR