BEGIN:VCALENDAR
VERSION:2.0
PRODID:-//WLCN 96.3 FM - ECPv6.15.20//NONSGML v1.0//EN
CALSCALE:GREGORIAN
METHOD:PUBLISH
X-WR-CALNAME:WLCN 96.3 FM
X-ORIGINAL-URL:https://www.wlcnonline.com
X-WR-CALDESC:Events for WLCN 96.3 FM
REFRESH-INTERVAL;VALUE=DURATION:PT1H
X-Robots-Tag:noindex
X-PUBLISHED-TTL:PT1H
BEGIN:VTIMEZONE
TZID:America/Chicago
BEGIN:DAYLIGHT
TZOFFSETFROM:-0600
TZOFFSETTO:-0500
TZNAME:CDT
DTSTART:20250309T080000
END:DAYLIGHT
BEGIN:STANDARD
TZOFFSETFROM:-0500
TZOFFSETTO:-0600
TZNAME:CST
DTSTART:20251102T070000
END:STANDARD
BEGIN:DAYLIGHT
TZOFFSETFROM:-0600
TZOFFSETTO:-0500
TZNAME:CDT
DTSTART:20260308T080000
END:DAYLIGHT
BEGIN:STANDARD
TZOFFSETFROM:-0500
TZOFFSETTO:-0600
TZNAME:CST
DTSTART:20261101T070000
END:STANDARD
BEGIN:DAYLIGHT
TZOFFSETFROM:-0600
TZOFFSETTO:-0500
TZNAME:CDT
DTSTART:20270314T080000
END:DAYLIGHT
BEGIN:STANDARD
TZOFFSETFROM:-0500
TZOFFSETTO:-0600
TZNAME:CST
DTSTART:20271107T070000
END:STANDARD
END:VTIMEZONE
BEGIN:VEVENT
DTSTART;TZID=America/Chicago:20260423T183000
DTEND;TZID=America/Chicago:20260423T200000
DTSTAMP:20260424T092404
CREATED:20260122T202100Z
LAST-MODIFIED:20260122T202457Z
UID:10022350-1776969000-1776974400@www.wlcnonline.com
SUMMARY:Quilters at Heart Guild monthly meeting at Oasis Senior Center in Lincoln
DESCRIPTION:The Quilters at Heart Quilt Guild is a Lincoln-based organization that meets at the Oasis Senior Center in Lincoln. Each monthly meeting also has a program; meetings begin at 6:30 PM on the fourth Thursday of each month with the following exceptions: \n\nThe June meeting (the group’s salad supper event) begins at 6 PM instead of 6:30 PM.\nThere is no meeting in November.\nThe December meeting takes place December 10 instead of the fourth Thursday of the month.\n\nEvent codes ccaca cc
URL:https://www.wlcnonline.com/event/quilters-at-heart-guild-monthly-meeting-at-oasis-senior-center-in-lincoln/2026-04-23/
LOCATION:Oasis Senior Center\, 2810 Woodlawn Road\, Lincoln\, IL\, 62656\, United States
ORGANIZER;CN="Quilters at Heart":MAILTO:quiltersatheart@gmail.com
END:VEVENT
BEGIN:VEVENT
DTSTART;TZID=America/Chicago:20260326T183000
DTEND;TZID=America/Chicago:20260326T200000
DTSTAMP:20260424T092404
CREATED:20260122T202100Z
LAST-MODIFIED:20260122T202457Z
UID:10022349-1774549800-1774555200@www.wlcnonline.com
SUMMARY:Quilters at Heart Guild monthly meeting at Oasis Senior Center in Lincoln
DESCRIPTION:The Quilters at Heart Quilt Guild is a Lincoln-based organization that meets at the Oasis Senior Center in Lincoln. Each monthly meeting also has a program; meetings begin at 6:30 PM on the fourth Thursday of each month with the following exceptions: \n\nThe June meeting (the group’s salad supper event) begins at 6 PM instead of 6:30 PM.\nThere is no meeting in November.\nThe December meeting takes place December 10 instead of the fourth Thursday of the month.\n\nEvent codes ccaca cc
URL:https://www.wlcnonline.com/event/quilters-at-heart-guild-monthly-meeting-at-oasis-senior-center-in-lincoln/2026-03-26/
LOCATION:Oasis Senior Center\, 2810 Woodlawn Road\, Lincoln\, IL\, 62656\, United States
ORGANIZER;CN="Quilters at Heart":MAILTO:quiltersatheart@gmail.com
END:VEVENT
BEGIN:VEVENT
DTSTART;TZID=America/Chicago:20260226T183000
DTEND;TZID=America/Chicago:20260226T200000
DTSTAMP:20260424T092404
CREATED:20260122T202100Z
LAST-MODIFIED:20260122T202457Z
UID:10022348-1772130600-1772136000@www.wlcnonline.com
SUMMARY:Quilters at Heart Guild monthly meeting at Oasis Senior Center in Lincoln
DESCRIPTION:The Quilters at Heart Quilt Guild is a Lincoln-based organization that meets at the Oasis Senior Center in Lincoln. Each monthly meeting also has a program; meetings begin at 6:30 PM on the fourth Thursday of each month with the following exceptions: \n\nThe June meeting (the group’s salad supper event) begins at 6 PM instead of 6:30 PM.\nThere is no meeting in November.\nThe December meeting takes place December 10 instead of the fourth Thursday of the month.\n\nEvent codes ccaca cc
URL:https://www.wlcnonline.com/event/quilters-at-heart-guild-monthly-meeting-at-oasis-senior-center-in-lincoln/2026-02-26/
LOCATION:Oasis Senior Center\, 2810 Woodlawn Road\, Lincoln\, IL\, 62656\, United States
ORGANIZER;CN="Quilters at Heart":MAILTO:quiltersatheart@gmail.com
END:VEVENT
BEGIN:VEVENT
DTSTART;TZID=America/Chicago:20260122T183000
DTEND;TZID=America/Chicago:20260122T200000
DTSTAMP:20260424T092404
CREATED:20260122T202100Z
LAST-MODIFIED:20260122T202457Z
UID:10022347-1769106600-1769112000@www.wlcnonline.com
SUMMARY:Quilters at Heart Guild monthly meeting at Oasis Senior Center in Lincoln
DESCRIPTION:The Quilters at Heart Quilt Guild is a Lincoln-based organization that meets at the Oasis Senior Center in Lincoln. Each monthly meeting also has a program; meetings begin at 6:30 PM on the fourth Thursday of each month with the following exceptions: \n\nThe June meeting (the group’s salad supper event) begins at 6 PM instead of 6:30 PM.\nThere is no meeting in November.\nThe December meeting takes place December 10 instead of the fourth Thursday of the month.\n\nEvent codes ccaca cc
URL:https://www.wlcnonline.com/event/quilters-at-heart-guild-monthly-meeting-at-oasis-senior-center-in-lincoln/2026-01-22/
LOCATION:Oasis Senior Center\, 2810 Woodlawn Road\, Lincoln\, IL\, 62656\, United States
ORGANIZER;CN="Quilters at Heart":MAILTO:quiltersatheart@gmail.com
END:VEVENT
END:VCALENDAR