BEGIN:VCALENDAR
VERSION:2.0
PRODID:-//WLCN 96.3 FM - ECPv6.15.20//NONSGML v1.0//EN
CALSCALE:GREGORIAN
METHOD:PUBLISH
X-ORIGINAL-URL:https://www.wlcnonline.com
X-WR-CALDESC:Events for WLCN 96.3 FM
REFRESH-INTERVAL;VALUE=DURATION:PT1H
X-Robots-Tag:noindex
X-PUBLISHED-TTL:PT1H
BEGIN:VTIMEZONE
TZID:America/Chicago
BEGIN:DAYLIGHT
TZOFFSETFROM:-0600
TZOFFSETTO:-0500
TZNAME:CDT
DTSTART:20240310T080000
END:DAYLIGHT
BEGIN:STANDARD
TZOFFSETFROM:-0500
TZOFFSETTO:-0600
TZNAME:CST
DTSTART:20241103T070000
END:STANDARD
BEGIN:DAYLIGHT
TZOFFSETFROM:-0600
TZOFFSETTO:-0500
TZNAME:CDT
DTSTART:20250309T080000
END:DAYLIGHT
BEGIN:STANDARD
TZOFFSETFROM:-0500
TZOFFSETTO:-0600
TZNAME:CST
DTSTART:20251102T070000
END:STANDARD
BEGIN:DAYLIGHT
TZOFFSETFROM:-0600
TZOFFSETTO:-0500
TZNAME:CDT
DTSTART:20260308T080000
END:DAYLIGHT
BEGIN:STANDARD
TZOFFSETFROM:-0500
TZOFFSETTO:-0600
TZNAME:CST
DTSTART:20261101T070000
END:STANDARD
END:VTIMEZONE
BEGIN:VEVENT
DTSTART;TZID=America/Chicago:20251018T173000
DTEND;TZID=America/Chicago:20251018T210000
DTSTAMP:20260425T202817
CREATED:20251009T220916Z
LAST-MODIFIED:20251010T042329Z
UID:10020926-1760808600-1760821200@www.wlcnonline.com
SUMMARY:"Rolling through the Decades" trivia event fundraiser for Prairieland Punishers Roller Derby at Snappers Bar & Grill in Clinton
DESCRIPTION:This trivia night is a fundraiser for the upcoming 2026 season of the Prairieland Punishers women’s flat track roller derby team. \nTables are $175 each and may include up to 7 people ($25/person). 12 tables are available. Click here to purchase individual tickets or a table for the event. \nThe theme for the event is “Rolling Through the Decades” and will feature questions on music\, TV/movies\, pop culture\, sports\, and history from the 1960s through the 2010s. \nIn addition to trivia\, there will be a “Best Dressed” award for one table of participants. There will also be a silent auction with baskets valued between $300 and $500. \nDoors open at 5:30 PM; trivia starts at 6:30 PM. \nEvent codes ccsoc ccgc ccfb ccfdd
URL:https://www.wlcnonline.com/event/rolling-through-the-decades-trivia-event-fundraiser-for-prairieland-punishers-roller-derby-at-snappers-bar-grill-in-clinton/
LOCATION:Snappers Bar & Grill in Clinton\, 303 S. Side Square\, Clinton\, IL\, 61727\, United States
ORGANIZER;CN="Prairieland Punishers roller derby team":MAILTO:punishersprairieland@gmail.com
END:VEVENT
BEGIN:VEVENT
DTSTART;TZID=America/Chicago:20250621T170000
DTEND;TZID=America/Chicago:20250621T170000
DTSTAMP:20260425T202817
CREATED:20250619T010501Z
LAST-MODIFIED:20250619T010551Z
UID:10020277-1750525200-1750525200@www.wlcnonline.com
SUMMARY:Prairieland Punishers women's flat-track roller derby team vs. COMO Roller Derby at Decatur Civic Center in Decatur
DESCRIPTION:The Prairieland Punishers Roller Derby team showcases its family-friendly action and fun with a double-header home bout against COMO Roller Derby on Saturday\, June 21 at the Decatur Civic Center. \nDoors open at 4 PM; first whistle is scheduled for 5 PM. \nThe main bout will be immediately followed by an open gender mixer featuring skaters from neighboring teams. \nThis is the second home game of the Punishers’ season; their final home game is scheduled for September 6 in Bloomington at the Interstate Center. \nSingle game tickets cost $15 for VIP\, $10 for general and $5 for children. Tickets can be purchased online\, from any member of the Prairieland Punishers or at the door on the day of the bout. Children 5 years and younger are admitted for free. \nThe Punishers have donated over $30\,000 to area charities since their inception in 2011. Proceeds from this bout will benefit American Cancer Society.
URL:https://www.wlcnonline.com/event/prairieland-punishers-womens-flat-track-roller-derby-team-vs-como-roller-derby-at-decatur-civic-center-in-decatur/
LOCATION:Decatur Civic Center\, 1 Gary K Anderson Plaza\, Decatur\, 62523\, United States
ORGANIZER;CN="Prairieland Punishers roller derby team":MAILTO:punishersprairieland@gmail.com
END:VEVENT
END:VCALENDAR