BEGIN:VCALENDAR
VERSION:2.0
PRODID:-//WLCN 96.3 FM - ECPv6.15.20//NONSGML v1.0//EN
CALSCALE:GREGORIAN
METHOD:PUBLISH
X-ORIGINAL-URL:https://www.wlcnonline.com
X-WR-CALDESC:Events for WLCN 96.3 FM
REFRESH-INTERVAL;VALUE=DURATION:PT1H
X-Robots-Tag:noindex
X-PUBLISHED-TTL:PT1H
BEGIN:VTIMEZONE
TZID:America/Chicago
BEGIN:DAYLIGHT
TZOFFSETFROM:-0600
TZOFFSETTO:-0500
TZNAME:CDT
DTSTART:20240310T080000
END:DAYLIGHT
BEGIN:STANDARD
TZOFFSETFROM:-0500
TZOFFSETTO:-0600
TZNAME:CST
DTSTART:20241103T070000
END:STANDARD
BEGIN:DAYLIGHT
TZOFFSETFROM:-0600
TZOFFSETTO:-0500
TZNAME:CDT
DTSTART:20250309T080000
END:DAYLIGHT
BEGIN:STANDARD
TZOFFSETFROM:-0500
TZOFFSETTO:-0600
TZNAME:CST
DTSTART:20251102T070000
END:STANDARD
BEGIN:DAYLIGHT
TZOFFSETFROM:-0600
TZOFFSETTO:-0500
TZNAME:CDT
DTSTART:20260308T080000
END:DAYLIGHT
BEGIN:STANDARD
TZOFFSETFROM:-0500
TZOFFSETTO:-0600
TZNAME:CST
DTSTART:20261101T070000
END:STANDARD
END:VTIMEZONE
BEGIN:VEVENT
DTSTART;TZID=America/Chicago:20250913T080000
DTEND;TZID=America/Chicago:20250913T210000
DTSTAMP:20260422T071915
CREATED:20250904T230527Z
LAST-MODIFIED:20250904T230527Z
UID:10020770-1757750400-1757797200@www.wlcnonline.com
SUMMARY:59th Annual Morton Pumpkin Festival in Morton
DESCRIPTION:The 59th annual festival offers a wide variety of activities for all ages. Click here to check the official schedule of events on the Morton Pumpkin Festival web site for details and more information. \nEvent codes ccsoc ccfb ccaca ccff
URL:https://www.wlcnonline.com/event/59th-annual-morton-pumpkin-festival-in-morton/2025-09-13/
LOCATION:Town of Morton\, Illinois\, Morton\, 61550\, United States
ORGANIZER;CN="Morton Chamber of Commerce":MAILTO:info@mortonillinois.org
END:VEVENT
BEGIN:VEVENT
DTSTART;TZID=America/Chicago:20250912T063000
DTEND;TZID=America/Chicago:20250912T220000
DTSTAMP:20260422T071916
CREATED:20250904T230527Z
LAST-MODIFIED:20250904T230527Z
UID:10020769-1757658600-1757714400@www.wlcnonline.com
SUMMARY:59th Annual Morton Pumpkin Festival in Morton
DESCRIPTION:The 59th annual festival offers a wide variety of activities for all ages. Click here to check the official schedule of events on the Morton Pumpkin Festival web site for details and more information. \nEvent codes ccsoc ccfb ccaca ccff
URL:https://www.wlcnonline.com/event/59th-annual-morton-pumpkin-festival-in-morton/2025-09-12/
LOCATION:Town of Morton\, Illinois\, Morton\, 61550\, United States
ORGANIZER;CN="Morton Chamber of Commerce":MAILTO:info@mortonillinois.org
END:VEVENT
BEGIN:VEVENT
DTSTART;TZID=America/Chicago:20250911T063000
DTEND;TZID=America/Chicago:20250911T220000
DTSTAMP:20260422T071916
CREATED:20250904T230527Z
LAST-MODIFIED:20250904T230527Z
UID:10020768-1757572200-1757628000@www.wlcnonline.com
SUMMARY:59th Annual Morton Pumpkin Festival in Morton
DESCRIPTION:The 59th annual festival offers a wide variety of activities for all ages. Click here to check the official schedule of events on the Morton Pumpkin Festival web site for details and more information. \nEvent codes ccsoc ccfb ccaca ccff
URL:https://www.wlcnonline.com/event/59th-annual-morton-pumpkin-festival-in-morton/2025-09-11/
LOCATION:Town of Morton\, Illinois\, Morton\, 61550\, United States
ORGANIZER;CN="Morton Chamber of Commerce":MAILTO:info@mortonillinois.org
END:VEVENT
BEGIN:VEVENT
DTSTART;TZID=America/Chicago:20250910T170000
DTEND;TZID=America/Chicago:20250910T170000
DTSTAMP:20260422T071916
CREATED:20250904T224044Z
LAST-MODIFIED:20250904T224044Z
UID:10020766-1757523600-1757523600@www.wlcnonline.com
SUMMARY:Opening ceremony for the Morton Pumpkin Festival at the entertainment stage of the festival in Morton
DESCRIPTION:This is the Official Opening Ceremony of the 2025 Morton Pumpkin Festival: Pumpkin Party of the Century. . During the Opening Ceremony\, everyone will recite the official Pumpkin Festival Pledge then we will cut the traditional pumpkin vine as we kick off the 59th Annual Morton Pumpkin Festival. The event runs through Sunday\, September 13; click here to visit the Morton Pumpkin Festival site for a full schedule of events. \nEvent codes ccfb ccsoc ccff
URL:https://www.wlcnonline.com/event/opening-ceremony-for-the-morton-pumpkin-festival-at-the-entertainment-stage-of-the-festival-in-morton/
LOCATION:Entertainment Stage of Morton Pumpkin Festival (located adjacent to Jefferson Grade School)\, 220 E. Jefferson Street\, Morton\, 61550\, United States
ORGANIZER;CN="Morton Chamber of Commerce":MAILTO:info@mortonillinois.org
END:VEVENT
BEGIN:VEVENT
DTSTART;TZID=America/Chicago:20250910T160000
DTEND;TZID=America/Chicago:20250910T220000
DTSTAMP:20260422T071916
CREATED:20250904T230527Z
LAST-MODIFIED:20250904T230527Z
UID:10020767-1757520000-1757541600@www.wlcnonline.com
SUMMARY:59th Annual Morton Pumpkin Festival in Morton
DESCRIPTION:The 59th annual festival offers a wide variety of activities for all ages. Click here to check the official schedule of events on the Morton Pumpkin Festival web site for details and more information. \nEvent codes ccsoc ccfb ccaca ccff
URL:https://www.wlcnonline.com/event/59th-annual-morton-pumpkin-festival-in-morton/2025-09-10/
LOCATION:Town of Morton\, Illinois\, Morton\, 61550\, United States
ORGANIZER;CN="Morton Chamber of Commerce":MAILTO:info@mortonillinois.org
END:VEVENT
END:VCALENDAR