BEGIN:VCALENDAR
VERSION:2.0
PRODID:-//WLCN 96.3 FM - ECPv6.15.20//NONSGML v1.0//EN
CALSCALE:GREGORIAN
METHOD:PUBLISH
X-ORIGINAL-URL:https://www.wlcnonline.com
X-WR-CALDESC:Events for WLCN 96.3 FM
REFRESH-INTERVAL;VALUE=DURATION:PT1H
X-Robots-Tag:noindex
X-PUBLISHED-TTL:PT1H
BEGIN:VTIMEZONE
TZID:America/Chicago
BEGIN:DAYLIGHT
TZOFFSETFROM:-0600
TZOFFSETTO:-0500
TZNAME:CDT
DTSTART:20240310T080000
END:DAYLIGHT
BEGIN:STANDARD
TZOFFSETFROM:-0500
TZOFFSETTO:-0600
TZNAME:CST
DTSTART:20241103T070000
END:STANDARD
BEGIN:DAYLIGHT
TZOFFSETFROM:-0600
TZOFFSETTO:-0500
TZNAME:CDT
DTSTART:20250309T080000
END:DAYLIGHT
BEGIN:STANDARD
TZOFFSETFROM:-0500
TZOFFSETTO:-0600
TZNAME:CST
DTSTART:20251102T070000
END:STANDARD
BEGIN:DAYLIGHT
TZOFFSETFROM:-0600
TZOFFSETTO:-0500
TZNAME:CDT
DTSTART:20260308T080000
END:DAYLIGHT
BEGIN:STANDARD
TZOFFSETFROM:-0500
TZOFFSETTO:-0600
TZNAME:CST
DTSTART:20261101T070000
END:STANDARD
END:VTIMEZONE
BEGIN:VEVENT
DTSTART;TZID=America/Chicago:20250426T110000
DTEND;TZID=America/Chicago:20250426T130000
DTSTAMP:20260425T193751
CREATED:20250425T033137Z
LAST-MODIFIED:20250425T033206Z
UID:10019977-1745665200-1745672400@www.wlcnonline.com
SUMMARY:Ribbon cutting/open house at Logan County Veterans Assistance Commission offices in Lincoln
DESCRIPTION:The ribbon cutting is scheduled to take place at 11:15 AM. \nEvent codes ccgovt
URL:https://www.wlcnonline.com/event/ribbon-cutting-open-house-at-logan-county-veterans-assistance-commission-offices-in-lincoln/
LOCATION:Logan County Veterans Assistance Commission\, 122 N. McLean Street\, Lincoln\, 62656\, United States
ORGANIZER;CN="Logan County Veterans Assistance Commission":MAILTO:vac@logancountyil.gov
END:VEVENT
END:VCALENDAR