BEGIN:VCALENDAR
VERSION:2.0
PRODID:-//WLCN 96.3 FM - ECPv6.15.20//NONSGML v1.0//EN
CALSCALE:GREGORIAN
METHOD:PUBLISH
X-WR-CALNAME:WLCN 96.3 FM
X-ORIGINAL-URL:https://www.wlcnonline.com
X-WR-CALDESC:Events for WLCN 96.3 FM
REFRESH-INTERVAL;VALUE=DURATION:PT1H
X-Robots-Tag:noindex
X-PUBLISHED-TTL:PT1H
BEGIN:VTIMEZONE
TZID:America/Chicago
BEGIN:DAYLIGHT
TZOFFSETFROM:-0600
TZOFFSETTO:-0500
TZNAME:CDT
DTSTART:20250309T080000
END:DAYLIGHT
BEGIN:STANDARD
TZOFFSETFROM:-0500
TZOFFSETTO:-0600
TZNAME:CST
DTSTART:20251102T070000
END:STANDARD
BEGIN:DAYLIGHT
TZOFFSETFROM:-0600
TZOFFSETTO:-0500
TZNAME:CDT
DTSTART:20260308T080000
END:DAYLIGHT
BEGIN:STANDARD
TZOFFSETFROM:-0500
TZOFFSETTO:-0600
TZNAME:CST
DTSTART:20261101T070000
END:STANDARD
BEGIN:DAYLIGHT
TZOFFSETFROM:-0600
TZOFFSETTO:-0500
TZNAME:CDT
DTSTART:20270314T080000
END:DAYLIGHT
BEGIN:STANDARD
TZOFFSETFROM:-0500
TZOFFSETTO:-0600
TZNAME:CST
DTSTART:20271107T070000
END:STANDARD
END:VTIMEZONE
BEGIN:VEVENT
DTSTART;TZID=America/Chicago:20260430T170000
DTEND;TZID=America/Chicago:20260430T200000
DTSTAMP:20260421T043212
CREATED:20260417T033314Z
LAST-MODIFIED:20260417T033314Z
UID:10023010-1777568400-1777579200@www.wlcnonline.com
SUMMARY:Fundraiser for Hartsburg Founders Day celebration at Culver's of Lincoln
DESCRIPTION:Purchase food from Culver’s of Lincoln and help support a worthy cause whether dining in\, carrying out\, using the drive-thru or ordering through DoorDash. During the hours of the fundraiser\, a portion of all proceeds will be donated to the organization. Donations will also be accepted. \nEvent codes ccfb\, ccfdd
URL:https://www.wlcnonline.com/event/fundraiser-for-hartsburg-founders-day-celebration-at-culvers-of-lincoln/
LOCATION:Culver’s of Lincoln\, 2530 Woodlawn Road\, Lincoln\, IL\, 62656\, United States
ORGANIZER;CN="Logan County Pride":MAILTO:logancountypride@gmail.com
END:VEVENT
END:VCALENDAR