BEGIN:VCALENDAR
VERSION:2.0
PRODID:-//WLCN 96.3 FM - ECPv6.15.20//NONSGML v1.0//EN
CALSCALE:GREGORIAN
METHOD:PUBLISH
X-WR-CALNAME:WLCN 96.3 FM
X-ORIGINAL-URL:https://www.wlcnonline.com
X-WR-CALDESC:Events for WLCN 96.3 FM
REFRESH-INTERVAL;VALUE=DURATION:PT1H
X-Robots-Tag:noindex
X-PUBLISHED-TTL:PT1H
BEGIN:VTIMEZONE
TZID:America/Chicago
BEGIN:DAYLIGHT
TZOFFSETFROM:-0600
TZOFFSETTO:-0500
TZNAME:CDT
DTSTART:20240310T080000
END:DAYLIGHT
BEGIN:STANDARD
TZOFFSETFROM:-0500
TZOFFSETTO:-0600
TZNAME:CST
DTSTART:20241103T070000
END:STANDARD
BEGIN:DAYLIGHT
TZOFFSETFROM:-0600
TZOFFSETTO:-0500
TZNAME:CDT
DTSTART:20250309T080000
END:DAYLIGHT
BEGIN:STANDARD
TZOFFSETFROM:-0500
TZOFFSETTO:-0600
TZNAME:CST
DTSTART:20251102T070000
END:STANDARD
BEGIN:DAYLIGHT
TZOFFSETFROM:-0600
TZOFFSETTO:-0500
TZNAME:CDT
DTSTART:20260308T080000
END:DAYLIGHT
BEGIN:STANDARD
TZOFFSETFROM:-0500
TZOFFSETTO:-0600
TZNAME:CST
DTSTART:20261101T070000
END:STANDARD
END:VTIMEZONE
BEGIN:VEVENT
DTSTART;TZID=America/Chicago:20250719T080000
DTEND;TZID=America/Chicago:20250719T150000
DTSTAMP:20260419T191942
CREATED:20250717T152043Z
LAST-MODIFIED:20250717T152043Z
UID:10020478-1752912000-1752937200@www.wlcnonline.com
SUMMARY:First anniversary event at LoCo Nutrition in Lincoln
DESCRIPTION:This event will feature offerings from vendors\, giveaways and a dunk tank. \nEvent codes cchwf cclbep
URL:https://www.wlcnonline.com/event/first-anniversary-event-at-loco-nutrition-in-lincoln/
LOCATION:LoCo Nutrition in Lincoln\, 622 N. Chicago Street\, Lincoln\, IL\, 62656\, United States
END:VEVENT
BEGIN:VEVENT
DTSTART;TZID=America/Chicago:20250604T180000
DTEND;TZID=America/Chicago:20250604T190000
DTSTAMP:20260419T191942
CREATED:20250423T160306Z
LAST-MODIFIED:20250425T050736Z
UID:10019974-1749060000-1749063600@www.wlcnonline.com
SUMMARY:Weight loss challenge at LoCo Nutrition in Lincoln
DESCRIPTION:This weekly program runs through June 4 and can be used by participants to lose weight\, gain energy\, or just feel their best. \nEvent codes cchwf cclbep
URL:https://www.wlcnonline.com/event/weight-loss-challenge-at-loco-nutrition-in-lincoln/2025-06-04/
LOCATION:LoCo Nutrition in Lincoln\, 622 N. Chicago Street\, Lincoln\, IL\, 62656\, United States
END:VEVENT
BEGIN:VEVENT
DTSTART;TZID=America/Chicago:20250528T180000
DTEND;TZID=America/Chicago:20250528T190000
DTSTAMP:20260419T191942
CREATED:20250423T160306Z
LAST-MODIFIED:20250425T050736Z
UID:10019973-1748455200-1748458800@www.wlcnonline.com
SUMMARY:Weight loss challenge at LoCo Nutrition in Lincoln
DESCRIPTION:This weekly program runs through June 4 and can be used by participants to lose weight\, gain energy\, or just feel their best. \nEvent codes cchwf cclbep
URL:https://www.wlcnonline.com/event/weight-loss-challenge-at-loco-nutrition-in-lincoln/2025-05-28/
LOCATION:LoCo Nutrition in Lincoln\, 622 N. Chicago Street\, Lincoln\, IL\, 62656\, United States
END:VEVENT
BEGIN:VEVENT
DTSTART;TZID=America/Chicago:20250521T180000
DTEND;TZID=America/Chicago:20250521T190000
DTSTAMP:20260419T191942
CREATED:20250423T160306Z
LAST-MODIFIED:20250425T050736Z
UID:10019972-1747850400-1747854000@www.wlcnonline.com
SUMMARY:Weight loss challenge at LoCo Nutrition in Lincoln
DESCRIPTION:This weekly program runs through June 4 and can be used by participants to lose weight\, gain energy\, or just feel their best. \nEvent codes cchwf cclbep
URL:https://www.wlcnonline.com/event/weight-loss-challenge-at-loco-nutrition-in-lincoln/2025-05-21/
LOCATION:LoCo Nutrition in Lincoln\, 622 N. Chicago Street\, Lincoln\, IL\, 62656\, United States
END:VEVENT
BEGIN:VEVENT
DTSTART;TZID=America/Chicago:20250514T180000
DTEND;TZID=America/Chicago:20250514T190000
DTSTAMP:20260419T191942
CREATED:20250423T160306Z
LAST-MODIFIED:20250425T050736Z
UID:10019971-1747245600-1747249200@www.wlcnonline.com
SUMMARY:Weight loss challenge at LoCo Nutrition in Lincoln
DESCRIPTION:This weekly program runs through June 4 and can be used by participants to lose weight\, gain energy\, or just feel their best. \nEvent codes cchwf cclbep
URL:https://www.wlcnonline.com/event/weight-loss-challenge-at-loco-nutrition-in-lincoln/2025-05-14/
LOCATION:LoCo Nutrition in Lincoln\, 622 N. Chicago Street\, Lincoln\, IL\, 62656\, United States
END:VEVENT
BEGIN:VEVENT
DTSTART;TZID=America/Chicago:20250507T180000
DTEND;TZID=America/Chicago:20250507T190000
DTSTAMP:20260419T191942
CREATED:20250423T160306Z
LAST-MODIFIED:20250425T050736Z
UID:10019970-1746640800-1746644400@www.wlcnonline.com
SUMMARY:Weight loss challenge at LoCo Nutrition in Lincoln
DESCRIPTION:This weekly program runs through June 4 and can be used by participants to lose weight\, gain energy\, or just feel their best. \nEvent codes cchwf cclbep
URL:https://www.wlcnonline.com/event/weight-loss-challenge-at-loco-nutrition-in-lincoln/2025-05-07/
LOCATION:LoCo Nutrition in Lincoln\, 622 N. Chicago Street\, Lincoln\, IL\, 62656\, United States
END:VEVENT
BEGIN:VEVENT
DTSTART;TZID=America/Chicago:20250430T180000
DTEND;TZID=America/Chicago:20250430T190000
DTSTAMP:20260419T191942
CREATED:20250423T160306Z
LAST-MODIFIED:20250425T050736Z
UID:10019969-1746036000-1746039600@www.wlcnonline.com
SUMMARY:Weight loss challenge at LoCo Nutrition in Lincoln
DESCRIPTION:This weekly program runs through June 4 and can be used by participants to lose weight\, gain energy\, or just feel their best. \nEvent codes cchwf cclbep
URL:https://www.wlcnonline.com/event/weight-loss-challenge-at-loco-nutrition-in-lincoln/2025-04-30/
LOCATION:LoCo Nutrition in Lincoln\, 622 N. Chicago Street\, Lincoln\, IL\, 62656\, United States
END:VEVENT
BEGIN:VEVENT
DTSTART;TZID=America/Chicago:20250423T180000
DTEND;TZID=America/Chicago:20250423T190000
DTSTAMP:20260419T191942
CREATED:20250423T160306Z
LAST-MODIFIED:20250425T050736Z
UID:10019968-1745431200-1745434800@www.wlcnonline.com
SUMMARY:Weight loss challenge at LoCo Nutrition in Lincoln
DESCRIPTION:This weekly program runs through June 4 and can be used by participants to lose weight\, gain energy\, or just feel their best. \nEvent codes cchwf cclbep
URL:https://www.wlcnonline.com/event/weight-loss-challenge-at-loco-nutrition-in-lincoln/2025-04-23/
LOCATION:LoCo Nutrition in Lincoln\, 622 N. Chicago Street\, Lincoln\, IL\, 62656\, United States
END:VEVENT
END:VCALENDAR