BEGIN:VCALENDAR
VERSION:2.0
PRODID:-//WLCN 96.3 FM - ECPv6.15.20//NONSGML v1.0//EN
CALSCALE:GREGORIAN
METHOD:PUBLISH
X-ORIGINAL-URL:https://www.wlcnonline.com
X-WR-CALDESC:Events for WLCN 96.3 FM
REFRESH-INTERVAL;VALUE=DURATION:PT1H
X-Robots-Tag:noindex
X-PUBLISHED-TTL:PT1H
BEGIN:VTIMEZONE
TZID:America/Chicago
BEGIN:DAYLIGHT
TZOFFSETFROM:-0600
TZOFFSETTO:-0500
TZNAME:CDT
DTSTART:20240310T080000
END:DAYLIGHT
BEGIN:STANDARD
TZOFFSETFROM:-0500
TZOFFSETTO:-0600
TZNAME:CST
DTSTART:20241103T070000
END:STANDARD
BEGIN:DAYLIGHT
TZOFFSETFROM:-0600
TZOFFSETTO:-0500
TZNAME:CDT
DTSTART:20250309T080000
END:DAYLIGHT
BEGIN:STANDARD
TZOFFSETFROM:-0500
TZOFFSETTO:-0600
TZNAME:CST
DTSTART:20251102T070000
END:STANDARD
BEGIN:DAYLIGHT
TZOFFSETFROM:-0600
TZOFFSETTO:-0500
TZNAME:CDT
DTSTART:20260308T080000
END:DAYLIGHT
BEGIN:STANDARD
TZOFFSETFROM:-0500
TZOFFSETTO:-0600
TZNAME:CST
DTSTART:20261101T070000
END:STANDARD
END:VTIMEZONE
BEGIN:VEVENT
DTSTART;TZID=America/Chicago:20250804T090000
DTEND;TZID=America/Chicago:20250804T150000
DTSTAMP:20260419T205904
CREATED:20250417T145555Z
LAST-MODIFIED:20250522T180637Z
UID:10019964-1754298000-1754319600@www.wlcnonline.com
SUMMARY:Free safe sitter babysitting class at Lincoln Memorial Hospital
DESCRIPTION:All participants will learn the safety skills needed to care for babysitting children. \nThe LMH Auxiliary offers this class free of charge. Attendees may bring a lunch or purchase lunch in the cafeteria. \nThe course will be offered on three dates: May 30\, July 9 and August 4 at Lincoln Memorial Hospital. Each class takes place from 9 AM to 3 PM in the Steinfort Conference Rooms at Lincoln Memorial Hospital. Students will use mannequins to practice lifesaving skills. There will also be role playing\, games and activities as students learn how to handle everyday situations that could present a risk to children’s safety\, including what to do when severe weather occurs. \nSpace is limited; those interested should register in advance. Click here to complete the online registration form.  \nEvent codes ccedu ccteen ccfre
URL:https://www.wlcnonline.com/event/free-safe-sitter-babysitting-class-at-lincoln-memorial-hospital/2025-08-04/
LOCATION:Steinfort Conference Rooms at Lincoln Memorial Hospital\, 200 Stahlhut Drive\, Lincoln\, IL\, 62656\, United States
END:VEVENT
BEGIN:VEVENT
DTSTART;TZID=America/Chicago:20250709T090000
DTEND;TZID=America/Chicago:20250709T150000
DTSTAMP:20260419T205904
CREATED:20250417T145555Z
LAST-MODIFIED:20250522T180637Z
UID:10019963-1752051600-1752073200@www.wlcnonline.com
SUMMARY:Free safe sitter babysitting class at Lincoln Memorial Hospital
DESCRIPTION:All participants will learn the safety skills needed to care for babysitting children. \nThe LMH Auxiliary offers this class free of charge. Attendees may bring a lunch or purchase lunch in the cafeteria. \nThe course will be offered on three dates: May 30\, July 9 and August 4 at Lincoln Memorial Hospital. Each class takes place from 9 AM to 3 PM in the Steinfort Conference Rooms at Lincoln Memorial Hospital. Students will use mannequins to practice lifesaving skills. There will also be role playing\, games and activities as students learn how to handle everyday situations that could present a risk to children’s safety\, including what to do when severe weather occurs. \nSpace is limited; those interested should register in advance. Click here to complete the online registration form.  \nEvent codes ccedu ccteen ccfre
URL:https://www.wlcnonline.com/event/free-safe-sitter-babysitting-class-at-lincoln-memorial-hospital/2025-07-09/
LOCATION:Steinfort Conference Rooms at Lincoln Memorial Hospital\, 200 Stahlhut Drive\, Lincoln\, IL\, 62656\, United States
END:VEVENT
BEGIN:VEVENT
DTSTART;TZID=America/Chicago:20250530T090000
DTEND;TZID=America/Chicago:20250530T150000
DTSTAMP:20260419T205904
CREATED:20250417T145555Z
LAST-MODIFIED:20250522T180637Z
UID:10019962-1748595600-1748617200@www.wlcnonline.com
SUMMARY:Free safe sitter babysitting class at Lincoln Memorial Hospital
DESCRIPTION:All participants will learn the safety skills needed to care for babysitting children. \nThe LMH Auxiliary offers this class free of charge. Attendees may bring a lunch or purchase lunch in the cafeteria. \nThe course will be offered on three dates: May 30\, July 9 and August 4 at Lincoln Memorial Hospital. Each class takes place from 9 AM to 3 PM in the Steinfort Conference Rooms at Lincoln Memorial Hospital. Students will use mannequins to practice lifesaving skills. There will also be role playing\, games and activities as students learn how to handle everyday situations that could present a risk to children’s safety\, including what to do when severe weather occurs. \nSpace is limited; those interested should register in advance. Click here to complete the online registration form.  \nEvent codes ccedu ccteen ccfre
URL:https://www.wlcnonline.com/event/free-safe-sitter-babysitting-class-at-lincoln-memorial-hospital/2025-05-30/
LOCATION:Steinfort Conference Rooms at Lincoln Memorial Hospital\, 200 Stahlhut Drive\, Lincoln\, IL\, 62656\, United States
END:VEVENT
END:VCALENDAR