BEGIN:VCALENDAR
VERSION:2.0
PRODID:-//WLCN 96.3 FM - ECPv6.15.20//NONSGML v1.0//EN
CALSCALE:GREGORIAN
METHOD:PUBLISH
X-ORIGINAL-URL:https://www.wlcnonline.com
X-WR-CALDESC:Events for WLCN 96.3 FM
REFRESH-INTERVAL;VALUE=DURATION:PT1H
X-Robots-Tag:noindex
X-PUBLISHED-TTL:PT1H
BEGIN:VTIMEZONE
TZID:America/Chicago
BEGIN:DAYLIGHT
TZOFFSETFROM:-0600
TZOFFSETTO:-0500
TZNAME:CDT
DTSTART:20240310T080000
END:DAYLIGHT
BEGIN:STANDARD
TZOFFSETFROM:-0500
TZOFFSETTO:-0600
TZNAME:CST
DTSTART:20241103T070000
END:STANDARD
BEGIN:DAYLIGHT
TZOFFSETFROM:-0600
TZOFFSETTO:-0500
TZNAME:CDT
DTSTART:20250309T080000
END:DAYLIGHT
BEGIN:STANDARD
TZOFFSETFROM:-0500
TZOFFSETTO:-0600
TZNAME:CST
DTSTART:20251102T070000
END:STANDARD
BEGIN:DAYLIGHT
TZOFFSETFROM:-0600
TZOFFSETTO:-0500
TZNAME:CDT
DTSTART:20260308T080000
END:DAYLIGHT
BEGIN:STANDARD
TZOFFSETFROM:-0500
TZOFFSETTO:-0600
TZNAME:CST
DTSTART:20261101T070000
END:STANDARD
END:VTIMEZONE
BEGIN:VEVENT
DTSTART;TZID=America/Chicago:20250923T170000
DTEND;TZID=America/Chicago:20250923T200000
DTSTAMP:20260420T234220
CREATED:20240828T001847Z
LAST-MODIFIED:20250918T212042Z
UID:10020854-1758646800-1758657600@www.wlcnonline.com
SUMMARY:Fundraiser for Lincoln Emblem Club #433 at Culver's of Lincoln
DESCRIPTION:Purchase food from Culver’s of Lincoln and help support a worthy cause whether dining in\, carrying out\, using the drive-thru or ordering through DoorDash. During the hours of the fundraiser\, a portion of all proceeds will be donated to the organization. \nEvent codes ccfb\, ccfdd
URL:https://www.wlcnonline.com/event/fundraiser-for-lincoln-emblem-club-433-at-culvers-of-lincoln-3/2025-09-23/
LOCATION:United States
ORGANIZER;CN="Lincoln Emblem Club #433":MAILTO:bunnerstj@gmail.com
END:VEVENT
END:VCALENDAR