BEGIN:VCALENDAR
VERSION:2.0
PRODID:-//WLCN 96.3 FM - ECPv6.15.20//NONSGML v1.0//EN
CALSCALE:GREGORIAN
METHOD:PUBLISH
X-WR-CALNAME:WLCN 96.3 FM
X-ORIGINAL-URL:https://www.wlcnonline.com
X-WR-CALDESC:Events for WLCN 96.3 FM
REFRESH-INTERVAL;VALUE=DURATION:PT1H
X-Robots-Tag:noindex
X-PUBLISHED-TTL:PT1H
BEGIN:VTIMEZONE
TZID:America/Chicago
BEGIN:DAYLIGHT
TZOFFSETFROM:-0600
TZOFFSETTO:-0500
TZNAME:CDT
DTSTART:20240310T080000
END:DAYLIGHT
BEGIN:STANDARD
TZOFFSETFROM:-0500
TZOFFSETTO:-0600
TZNAME:CST
DTSTART:20241103T070000
END:STANDARD
BEGIN:DAYLIGHT
TZOFFSETFROM:-0600
TZOFFSETTO:-0500
TZNAME:CDT
DTSTART:20250309T080000
END:DAYLIGHT
BEGIN:STANDARD
TZOFFSETFROM:-0500
TZOFFSETTO:-0600
TZNAME:CST
DTSTART:20251102T070000
END:STANDARD
BEGIN:DAYLIGHT
TZOFFSETFROM:-0600
TZOFFSETTO:-0500
TZNAME:CDT
DTSTART:20260308T080000
END:DAYLIGHT
BEGIN:STANDARD
TZOFFSETFROM:-0500
TZOFFSETTO:-0600
TZNAME:CST
DTSTART:20261101T070000
END:STANDARD
END:VTIMEZONE
BEGIN:VEVENT
DTSTART;TZID=America/Chicago:20251029T170000
DTEND;TZID=America/Chicago:20251029T190000
DTSTAMP:20260419T064851
CREATED:20251023T040512Z
LAST-MODIFIED:20251023T040512Z
UID:10020960-1761757200-1761764400@www.wlcnonline.com
SUMMARY:Trunk or treat event sponsored by CAPCIL at Lincoln Banquet Center
DESCRIPTION:CAPCIL is hosting its first-ever agency-wide Trunk or Treat event\, inviting families across the community to join in some spooktacular fun this Halloween season. Families can expect a safe\, family-friendly evening filled with treats\, costumes\, decorated trunks\, and fun for all ages. \nIn addition to the Halloween excitement\, attendees will also have the opportunity to learn more about CAPCIL’s programs and services\, including Head Start\, Meals on Wheels\, Energy Assistance\, Senior Transportation\, and more. CAPCIL staff from various departments will be on-site to share resources and answer questions for anyone interested in learning how the organization supports local families year-round. \nEvent codes ccff ccfk cchall ccfb
URL:https://www.wlcnonline.com/event/trunk-or-treat-event-sponsored-by-capcil-at-lincoln-banquet-center/
LOCATION:Lincoln Banquet Center\, 201 Madigan Drive\, Lincoln\, IL\, 62656\, United States
ORGANIZER;CN="Community Action Partnership of Central Illinois (CAPCIL)":MAILTO:btitus@capcil.org
END:VEVENT
BEGIN:VEVENT
DTSTART;TZID=America/Chicago:20250426T180000
DTEND;TZID=America/Chicago:20250426T220000
DTSTAMP:20260419T064851
CREATED:20250416T232135Z
LAST-MODIFIED:20250416T232135Z
UID:10019904-1745690400-1745704800@www.wlcnonline.com
SUMMARY:2025 Cheeseburger in Paradise: The Last Bite fundraising event for Community Action Partnership of Central Illinois at Lincoln Banquet Center
DESCRIPTION:Help celebrate 20 years of fun\, food and memories at CAPCIL’s final Cheeseburger in Paradise event. At “The Last Bite\,” there will once again be food and music as well as heartfelt gratitude for all the support over the years. \nClick here to purchase tickets to the event. \nEvent codes ccsoc ccfb ccfdd
URL:https://www.wlcnonline.com/event/2025-cheeseburger-in-paradise-the-last-bite-fundraising-event-for-community-action-partnership-of-central-illinois-at-lincoln-banquet-center/
LOCATION:Lincoln Banquet Center\, 201 Madigan Drive\, Lincoln\, IL\, 62656\, United States
ORGANIZER;CN="Community Action Partnership of Central Illinois (CAPCIL)":MAILTO:btitus@capcil.org
END:VEVENT
END:VCALENDAR