BEGIN:VCALENDAR
VERSION:2.0
PRODID:-//WLCN 96.3 FM - ECPv6.15.20//NONSGML v1.0//EN
CALSCALE:GREGORIAN
METHOD:PUBLISH
X-ORIGINAL-URL:https://www.wlcnonline.com
X-WR-CALDESC:Events for WLCN 96.3 FM
REFRESH-INTERVAL;VALUE=DURATION:PT1H
X-Robots-Tag:noindex
X-PUBLISHED-TTL:PT1H
BEGIN:VTIMEZONE
TZID:America/Chicago
BEGIN:DAYLIGHT
TZOFFSETFROM:-0600
TZOFFSETTO:-0500
TZNAME:CDT
DTSTART:20240310T080000
END:DAYLIGHT
BEGIN:STANDARD
TZOFFSETFROM:-0500
TZOFFSETTO:-0600
TZNAME:CST
DTSTART:20241103T070000
END:STANDARD
BEGIN:DAYLIGHT
TZOFFSETFROM:-0600
TZOFFSETTO:-0500
TZNAME:CDT
DTSTART:20250309T080000
END:DAYLIGHT
BEGIN:STANDARD
TZOFFSETFROM:-0500
TZOFFSETTO:-0600
TZNAME:CST
DTSTART:20251102T070000
END:STANDARD
BEGIN:DAYLIGHT
TZOFFSETFROM:-0600
TZOFFSETTO:-0500
TZNAME:CDT
DTSTART:20260308T080000
END:DAYLIGHT
BEGIN:STANDARD
TZOFFSETFROM:-0500
TZOFFSETTO:-0600
TZNAME:CST
DTSTART:20261101T070000
END:STANDARD
END:VTIMEZONE
BEGIN:VEVENT
DTSTART;TZID=America/Chicago:20250425T080000
DTEND;TZID=America/Chicago:20250425T140000
DTSTAMP:20260420T023101
CREATED:20250408T153246Z
LAST-MODIFIED:20250408T153246Z
UID:10019894-1745568000-1745589600@www.wlcnonline.com
SUMMARY:2025 electronics recycling event for Logan County residents sponsored by the City of Lincoln
DESCRIPTION:The City of Lincoln will hold electronics recycling days April 21 through April 25 at the Lincoln Municipal Services Building on Limit Street in Lincoln. \nThe event is open to Logan County residents/residential users only–no commercial users. When dropping off items: \n\nEnter/exit on Limit Street.\nEnter into Door 4 on the Eastside of the Lincoln Municipal Services Building (signs will be posted).\nAn attendant will be on site to check ID’s and addresses.\nYou must unload your electronics yourself.\n\nFor a list of acceptable and unacceptable items as well as quantities accepted\, click the flyer image on this page. \nEvent codes ccfre
URL:https://www.wlcnonline.com/event/2025-electronics-recycling-event-for-logan-county-residents-sponsored-by-the-city-of-lincoln/2025-04-25/
LOCATION:City of Lincoln Municipal Services Building\, 313 Limit Street\, Lincoln\, IL\, 62656\, United States
END:VEVENT
BEGIN:VEVENT
DTSTART;TZID=America/Chicago:20250424T080000
DTEND;TZID=America/Chicago:20250424T140000
DTSTAMP:20260420T023101
CREATED:20250408T153246Z
LAST-MODIFIED:20250408T153246Z
UID:10019893-1745481600-1745503200@www.wlcnonline.com
SUMMARY:2025 electronics recycling event for Logan County residents sponsored by the City of Lincoln
DESCRIPTION:The City of Lincoln will hold electronics recycling days April 21 through April 25 at the Lincoln Municipal Services Building on Limit Street in Lincoln. \nThe event is open to Logan County residents/residential users only–no commercial users. When dropping off items: \n\nEnter/exit on Limit Street.\nEnter into Door 4 on the Eastside of the Lincoln Municipal Services Building (signs will be posted).\nAn attendant will be on site to check ID’s and addresses.\nYou must unload your electronics yourself.\n\nFor a list of acceptable and unacceptable items as well as quantities accepted\, click the flyer image on this page. \nEvent codes ccfre
URL:https://www.wlcnonline.com/event/2025-electronics-recycling-event-for-logan-county-residents-sponsored-by-the-city-of-lincoln/2025-04-24/
LOCATION:City of Lincoln Municipal Services Building\, 313 Limit Street\, Lincoln\, IL\, 62656\, United States
END:VEVENT
BEGIN:VEVENT
DTSTART;TZID=America/Chicago:20250423T080000
DTEND;TZID=America/Chicago:20250423T190000
DTSTAMP:20260420T023101
CREATED:20250408T153246Z
LAST-MODIFIED:20250408T153246Z
UID:10019892-1745395200-1745434800@www.wlcnonline.com
SUMMARY:2025 electronics recycling event for Logan County residents sponsored by the City of Lincoln
DESCRIPTION:The City of Lincoln will hold electronics recycling days April 21 through April 25 at the Lincoln Municipal Services Building on Limit Street in Lincoln. \nThe event is open to Logan County residents/residential users only–no commercial users. When dropping off items: \n\nEnter/exit on Limit Street.\nEnter into Door 4 on the Eastside of the Lincoln Municipal Services Building (signs will be posted).\nAn attendant will be on site to check ID’s and addresses.\nYou must unload your electronics yourself.\n\nFor a list of acceptable and unacceptable items as well as quantities accepted\, click the flyer image on this page. \nEvent codes ccfre
URL:https://www.wlcnonline.com/event/2025-electronics-recycling-event-for-logan-county-residents-sponsored-by-the-city-of-lincoln/2025-04-23/
LOCATION:City of Lincoln Municipal Services Building\, 313 Limit Street\, Lincoln\, IL\, 62656\, United States
END:VEVENT
BEGIN:VEVENT
DTSTART;TZID=America/Chicago:20250422T080000
DTEND;TZID=America/Chicago:20250422T140000
DTSTAMP:20260420T023101
CREATED:20250408T153246Z
LAST-MODIFIED:20250408T153246Z
UID:10019891-1745308800-1745330400@www.wlcnonline.com
SUMMARY:2025 electronics recycling event for Logan County residents sponsored by the City of Lincoln
DESCRIPTION:The City of Lincoln will hold electronics recycling days April 21 through April 25 at the Lincoln Municipal Services Building on Limit Street in Lincoln. \nThe event is open to Logan County residents/residential users only–no commercial users. When dropping off items: \n\nEnter/exit on Limit Street.\nEnter into Door 4 on the Eastside of the Lincoln Municipal Services Building (signs will be posted).\nAn attendant will be on site to check ID’s and addresses.\nYou must unload your electronics yourself.\n\nFor a list of acceptable and unacceptable items as well as quantities accepted\, click the flyer image on this page. \nEvent codes ccfre
URL:https://www.wlcnonline.com/event/2025-electronics-recycling-event-for-logan-county-residents-sponsored-by-the-city-of-lincoln/2025-04-22/
LOCATION:City of Lincoln Municipal Services Building\, 313 Limit Street\, Lincoln\, IL\, 62656\, United States
END:VEVENT
BEGIN:VEVENT
DTSTART;TZID=America/Chicago:20250421T080000
DTEND;TZID=America/Chicago:20250421T140000
DTSTAMP:20260420T023101
CREATED:20250408T153246Z
LAST-MODIFIED:20250408T153246Z
UID:10019890-1745222400-1745244000@www.wlcnonline.com
SUMMARY:2025 electronics recycling event for Logan County residents sponsored by the City of Lincoln
DESCRIPTION:The City of Lincoln will hold electronics recycling days April 21 through April 25 at the Lincoln Municipal Services Building on Limit Street in Lincoln. \nThe event is open to Logan County residents/residential users only–no commercial users. When dropping off items: \n\nEnter/exit on Limit Street.\nEnter into Door 4 on the Eastside of the Lincoln Municipal Services Building (signs will be posted).\nAn attendant will be on site to check ID’s and addresses.\nYou must unload your electronics yourself.\n\nFor a list of acceptable and unacceptable items as well as quantities accepted\, click the flyer image on this page. \nEvent codes ccfre
URL:https://www.wlcnonline.com/event/2025-electronics-recycling-event-for-logan-county-residents-sponsored-by-the-city-of-lincoln/2025-04-21/
LOCATION:City of Lincoln Municipal Services Building\, 313 Limit Street\, Lincoln\, IL\, 62656\, United States
END:VEVENT
END:VCALENDAR