BEGIN:VCALENDAR
VERSION:2.0
PRODID:-//WLCN 96.3 FM - ECPv6.15.20//NONSGML v1.0//EN
CALSCALE:GREGORIAN
METHOD:PUBLISH
X-ORIGINAL-URL:https://www.wlcnonline.com
X-WR-CALDESC:Events for WLCN 96.3 FM
REFRESH-INTERVAL;VALUE=DURATION:PT1H
X-Robots-Tag:noindex
X-PUBLISHED-TTL:PT1H
BEGIN:VTIMEZONE
TZID:America/Chicago
BEGIN:DAYLIGHT
TZOFFSETFROM:-0600
TZOFFSETTO:-0500
TZNAME:CDT
DTSTART:20240310T080000
END:DAYLIGHT
BEGIN:STANDARD
TZOFFSETFROM:-0500
TZOFFSETTO:-0600
TZNAME:CST
DTSTART:20241103T070000
END:STANDARD
BEGIN:DAYLIGHT
TZOFFSETFROM:-0600
TZOFFSETTO:-0500
TZNAME:CDT
DTSTART:20250309T080000
END:DAYLIGHT
BEGIN:STANDARD
TZOFFSETFROM:-0500
TZOFFSETTO:-0600
TZNAME:CST
DTSTART:20251102T070000
END:STANDARD
BEGIN:DAYLIGHT
TZOFFSETFROM:-0600
TZOFFSETTO:-0500
TZNAME:CDT
DTSTART:20260308T080000
END:DAYLIGHT
BEGIN:STANDARD
TZOFFSETFROM:-0500
TZOFFSETTO:-0600
TZNAME:CST
DTSTART:20261101T070000
END:STANDARD
END:VTIMEZONE
BEGIN:VEVENT
DTSTART;TZID=America/Chicago:20250718T173000
DTEND;TZID=America/Chicago:20250718T203000
DTSTAMP:20260420T054000
CREATED:20250612T214259Z
LAST-MODIFIED:20250612T214259Z
UID:10020063-1752859800-1752870600@www.wlcnonline.com
SUMMARY:Third Fridays event in downtown Lincoln
DESCRIPTION:The City of Lincoln’s Third Fridays events are family-friendly evenings in downtown Lincoln with an array of affordable fun for all. Each event has a theme and takes place on the third Fridays of the month in May\, June and July with food\, music\, vendor booth\, kids activities and more. \nEvent codes ccvs ccfb ccsoc ccent cclm
URL:https://www.wlcnonline.com/event/third-fridays-event-in-downtown-lincoln-3/
LOCATION:Downtown Lincoln\, 166 S. Kickapoo Street\, Lincoln\, IL\, 62656\, United States
ORGANIZER;CN="City of Lincoln Third Fridays Committee":MAILTO:thirdfridays@lincolnil.gov
END:VEVENT
BEGIN:VEVENT
DTSTART;TZID=America/Chicago:20250620T173000
DTEND;TZID=America/Chicago:20250620T203000
DTSTAMP:20260420T054000
CREATED:20250612T214254Z
LAST-MODIFIED:20250612T214815Z
UID:10020062-1750440600-1750451400@www.wlcnonline.com
SUMMARY:Third Fridays event in downtown Lincoln - Nashville Nights
DESCRIPTION:The City of Lincoln’s Third Fridays events are family-friendly evenings in downtown Lincoln with an array of affordable fun for all. Each event has a theme and takes place on the third Fridays of the month in May\, June and July with food\, music\, vendor booth\, kids activities and more. \nThe theme for June is Nashville Nights and will feature musical performances at several locations: \n\nSpirited Republic from 7 PM to 10 PM – Stereo Typical\nGuest House – Aaron Elijah\nAlley-Bi Saloon from 7 PM to 10 PM – Harmony Grits\nSorrento’s from 5:30 PM to 8:30 PM – Thomas G. Acoustic\nRusty Rail Pub – Next Thing Smokin’\nFoxhole Pub ‘n’ Grub from 7 PM to 10 PM – Mikey Horn Band\n\nEvent codes ccvs ccfb ccsoc ccent cclm
URL:https://www.wlcnonline.com/event/third-fridays-event-in-downtown-lincoln-2/
LOCATION:Downtown Lincoln\, 166 S. Kickapoo Street\, Lincoln\, IL\, 62656\, United States
ORGANIZER;CN="City of Lincoln Third Fridays Committee":MAILTO:thirdfridays@lincolnil.gov
END:VEVENT
BEGIN:VEVENT
DTSTART;TZID=America/Chicago:20250516T173000
DTEND;TZID=America/Chicago:20250516T203000
DTSTAMP:20260420T054000
CREATED:20250508T032204Z
LAST-MODIFIED:20250508T032246Z
UID:10020061-1747416600-1747427400@www.wlcnonline.com
SUMMARY:Third Fridays event in downtown Lincoln
DESCRIPTION:The City of Lincoln’s Third Fridays events are family-friendly evenings in downtown Lincoln with an array of affordable fun for all. Each event has a theme and takes place on the third Fridays of the month in May\, June and July with food\, music\, vendor booth\, kids activities and more. \nEvent codes ccvs ccfb ccsoc ccent cclm
URL:https://www.wlcnonline.com/event/third-fridays-event-in-downtown-lincoln/2025-05-16/
LOCATION:Downtown Lincoln\, 166 S. Kickapoo Street\, Lincoln\, IL\, 62656\, United States
ORGANIZER;CN="City of Lincoln Third Fridays Committee":MAILTO:thirdfridays@lincolnil.gov
END:VEVENT
END:VCALENDAR