BEGIN:VCALENDAR
VERSION:2.0
PRODID:-//WLCN 96.3 FM - ECPv6.15.20//NONSGML v1.0//EN
CALSCALE:GREGORIAN
METHOD:PUBLISH
X-WR-CALNAME:WLCN 96.3 FM
X-ORIGINAL-URL:https://www.wlcnonline.com
X-WR-CALDESC:Events for WLCN 96.3 FM
REFRESH-INTERVAL;VALUE=DURATION:PT1H
X-Robots-Tag:noindex
X-PUBLISHED-TTL:PT1H
BEGIN:VTIMEZONE
TZID:America/Chicago
BEGIN:DAYLIGHT
TZOFFSETFROM:-0600
TZOFFSETTO:-0500
TZNAME:CDT
DTSTART:20240310T080000
END:DAYLIGHT
BEGIN:STANDARD
TZOFFSETFROM:-0500
TZOFFSETTO:-0600
TZNAME:CST
DTSTART:20241103T070000
END:STANDARD
BEGIN:DAYLIGHT
TZOFFSETFROM:-0600
TZOFFSETTO:-0500
TZNAME:CDT
DTSTART:20250309T080000
END:DAYLIGHT
BEGIN:STANDARD
TZOFFSETFROM:-0500
TZOFFSETTO:-0600
TZNAME:CST
DTSTART:20251102T070000
END:STANDARD
BEGIN:DAYLIGHT
TZOFFSETFROM:-0600
TZOFFSETTO:-0500
TZNAME:CDT
DTSTART:20260308T080000
END:DAYLIGHT
BEGIN:STANDARD
TZOFFSETFROM:-0500
TZOFFSETTO:-0600
TZNAME:CST
DTSTART:20261101T070000
END:STANDARD
END:VTIMEZONE
BEGIN:VEVENT
DTSTART;TZID=America/Chicago:20250524T110000
DTEND;TZID=America/Chicago:20250524T170000
DTSTAMP:20260420T000913
CREATED:20250515T164652Z
LAST-MODIFIED:20250515T164802Z
UID:10020097-1748084400-1748106000@www.wlcnonline.com
SUMMARY:Foam-tacular kids event by Cdub's Funhouse at Logan County Fairgrounds
DESCRIPTION:For the second year\, Cdubs Funhouse hosts this Foam-tacular Kids Festival event at the Logan County Fairgrounds. The event takes place May 24 from 11 AM to 5 PM to help kick off summer with fantastic family-friendly fun. Attendees should bring a beach towel for our exciting water slides\, including a 22-foot high water slide\, a slip and slide\, a 20-foot mermaid plunge  and palm tree dual slide. There will be hourly foam parties with beach balls and bubbles. \nWater fun bracelets are available for kids for $10 per hour or $25 for the duration of the event. Adults can attend for free. \nThere will also be face painting and doughnuts from Minis-on-the-Go. \nEvent codes ccff ccfk ccsoc
URL:https://www.wlcnonline.com/event/foam-tacular-kids-event-by-cdubs-funhouse-at-logan-county-fairgrounds-2/
LOCATION:Logan County Fairgrounds\, 230 N. Postville Drive\, Lincoln\, IL\, 62656\, United States
ORGANIZER;CN="Cdub's Funhouse":MAILTO:Cdubsfunhouse101@gmail.com
END:VEVENT
END:VCALENDAR