BEGIN:VCALENDAR
VERSION:2.0
PRODID:-//WLCN 96.3 FM - ECPv6.15.20//NONSGML v1.0//EN
CALSCALE:GREGORIAN
METHOD:PUBLISH
X-WR-CALNAME:WLCN 96.3 FM
X-ORIGINAL-URL:https://www.wlcnonline.com
X-WR-CALDESC:Events for WLCN 96.3 FM
REFRESH-INTERVAL;VALUE=DURATION:PT1H
X-Robots-Tag:noindex
X-PUBLISHED-TTL:PT1H
BEGIN:VTIMEZONE
TZID:America/Chicago
BEGIN:DAYLIGHT
TZOFFSETFROM:-0600
TZOFFSETTO:-0500
TZNAME:CDT
DTSTART:20250309T080000
END:DAYLIGHT
BEGIN:STANDARD
TZOFFSETFROM:-0500
TZOFFSETTO:-0600
TZNAME:CST
DTSTART:20251102T070000
END:STANDARD
BEGIN:DAYLIGHT
TZOFFSETFROM:-0600
TZOFFSETTO:-0500
TZNAME:CDT
DTSTART:20260308T080000
END:DAYLIGHT
BEGIN:STANDARD
TZOFFSETFROM:-0500
TZOFFSETTO:-0600
TZNAME:CST
DTSTART:20261101T070000
END:STANDARD
BEGIN:DAYLIGHT
TZOFFSETFROM:-0600
TZOFFSETTO:-0500
TZNAME:CDT
DTSTART:20270314T080000
END:DAYLIGHT
BEGIN:STANDARD
TZOFFSETFROM:-0500
TZOFFSETTO:-0600
TZNAME:CST
DTSTART:20271107T070000
END:STANDARD
END:VTIMEZONE
BEGIN:VEVENT
DTSTART;TZID=America/Chicago:20260411T140000
DTEND;TZID=America/Chicago:20260411T170000
DTSTAMP:20260420T202911
CREATED:20260402T202232Z
LAST-MODIFIED:20260402T202232Z
UID:10022802-1775916000-1775926800@www.wlcnonline.com
SUMMARY:Bowling fundraiser event at Logan Lanes in Lincoln for Atlanta Christian Church Alaska mission trip
DESCRIPTION:Cost is $20 per person and includes shoe rental and three hours of play. 50 percent of all purchases (bowling and food) will benefit the missions team. \nEvent codes ccfb ccfdd ccgc
URL:https://www.wlcnonline.com/event/bowling-fundraiser-event-at-logan-lanes-in-lincoln-for-atlanta-christian-church-alaska-mission-trip/
LOCATION:Logan Lanes in Lincoln\, 1700 5th Street\, Lincoln\, IL\, 62656\, United States
ORGANIZER;CN="Atlanta Christian Church":MAILTO:atlantachristianfamily@gmail.com
END:VEVENT
BEGIN:VEVENT
DTSTART;TZID=America/Chicago:20260315T113000
DTEND;TZID=America/Chicago:20260315T143000
DTSTAMP:20260420T202911
CREATED:20260306T165129Z
LAST-MODIFIED:20260306T185324Z
UID:10022601-1773574200-1773585000@www.wlcnonline.com
SUMMARY:Spaghetti dinner and silent auction fundraiser by Atlanta Christian Church in Atlanta
DESCRIPTION:This event helps support the church’s Alaska mission team and takes place after the morning church service. \nEvent codes ccrel ccfdd
URL:https://www.wlcnonline.com/event/spaghetti-dinner-and-silent-auction-fundraiser-by-atlanta-christian-church-in-atlanta/
LOCATION:Atlanta Christian Church\, 300 NE 3rd Street\, Atlanta\, IL\, 61723\, United States
ORGANIZER;CN="Atlanta Christian Church":MAILTO:atlantachristianfamily@gmail.com
END:VEVENT
BEGIN:VEVENT
DTSTART;TZID=America/Chicago:20260103T170000
DTEND;TZID=America/Chicago:20260103T183000
DTSTAMP:20260420T202911
CREATED:20251226T191709Z
LAST-MODIFIED:20251226T191709Z
UID:10021403-1767459600-1767465000@www.wlcnonline.com
SUMMARY:Soup supper fundraiser by the missions team at Atlanta Christian Church
DESCRIPTION:Proceeds will be used in support of the missions team going to Alaska in July 2026. A variety of soups will be available with cornbread\, grilled cheese\, corn dogs\, and desserts. \nEvent codes ccfb ccsoc ccrel ccfdd
URL:https://www.wlcnonline.com/event/soup-supper-fundraiser-by-the-missions-team-at-atlanta-christian-church/
LOCATION:Atlanta Christian Church\, 300 NE 3rd Street\, Atlanta\, IL\, 61723\, United States
ORGANIZER;CN="Atlanta Christian Church":MAILTO:atlantachristianfamily@gmail.com
END:VEVENT
END:VCALENDAR