BEGIN:VCALENDAR
VERSION:2.0
PRODID:-//WLCN 96.3 FM - ECPv6.15.20//NONSGML v1.0//EN
CALSCALE:GREGORIAN
METHOD:PUBLISH
X-ORIGINAL-URL:https://www.wlcnonline.com
X-WR-CALDESC:Events for WLCN 96.3 FM
REFRESH-INTERVAL;VALUE=DURATION:PT1H
X-Robots-Tag:noindex
X-PUBLISHED-TTL:PT1H
BEGIN:VTIMEZONE
TZID:America/Chicago
BEGIN:DAYLIGHT
TZOFFSETFROM:-0600
TZOFFSETTO:-0500
TZNAME:CDT
DTSTART:20240310T080000
END:DAYLIGHT
BEGIN:STANDARD
TZOFFSETFROM:-0500
TZOFFSETTO:-0600
TZNAME:CST
DTSTART:20241103T070000
END:STANDARD
BEGIN:DAYLIGHT
TZOFFSETFROM:-0600
TZOFFSETTO:-0500
TZNAME:CDT
DTSTART:20250309T080000
END:DAYLIGHT
BEGIN:STANDARD
TZOFFSETFROM:-0500
TZOFFSETTO:-0600
TZNAME:CST
DTSTART:20251102T070000
END:STANDARD
BEGIN:DAYLIGHT
TZOFFSETFROM:-0600
TZOFFSETTO:-0500
TZNAME:CDT
DTSTART:20260308T080000
END:DAYLIGHT
BEGIN:STANDARD
TZOFFSETFROM:-0500
TZOFFSETTO:-0600
TZNAME:CST
DTSTART:20261101T070000
END:STANDARD
BEGIN:DAYLIGHT
TZOFFSETFROM:-0600
TZOFFSETTO:-0500
TZNAME:CDT
DTSTART:20270314T080000
END:DAYLIGHT
BEGIN:STANDARD
TZOFFSETFROM:-0500
TZOFFSETTO:-0600
TZNAME:CST
DTSTART:20271107T070000
END:STANDARD
END:VTIMEZONE
BEGIN:VEVENT
DTSTART;TZID=America/Chicago:20260404T210000
DTEND;TZID=America/Chicago:20260404T230000
DTSTAMP:20260424T203822
CREATED:20260401T232203Z
LAST-MODIFIED:20260401T232203Z
UID:10022771-1775336400-1775343600@www.wlcnonline.com
SUMMARY:Adult Easter egg hunt at 217 Roadhouse in Atlanta
DESCRIPTION:In addition to the glow-in-the-dark Easter egg Hunt for adults\, there will be a free jukebox during the event. The event is scheduled to take place from 9 PM to 11 PM. \nEvent codes ccea ccfb ccfa21 ccgc
URL:https://www.wlcnonline.com/event/adult-easter-egg-hunt-at-217-roadhouse-in-atlanta/
LOCATION:217 Roadhouse in Atlanta\, 800 SW Arch Street\, Atlanta\, IL\, 61723\, United States
END:VEVENT
BEGIN:VEVENT
DTSTART;TZID=America/Chicago:20260314T200000
DTEND;TZID=America/Chicago:20260315T000000
DTSTAMP:20260424T203822
CREATED:20260312T152252Z
LAST-MODIFIED:20260312T152252Z
UID:10022639-1773518400-1773532800@www.wlcnonline.com
SUMMARY:Live music by South 51 at 217 Roadhouse in Atlanta
DESCRIPTION:South 51 will play from its catalog of music featuring covers and original songs from 8 PM to midnight. \nEvent codes ccsoc ccfb ccent cclm
URL:https://www.wlcnonline.com/event/live-music-by-south-51-at-217-roadhouse-in-atlanta/
LOCATION:217 Roadhouse in Atlanta\, 800 SW Arch Street\, Atlanta\, IL\, 61723\, United States
END:VEVENT
BEGIN:VEVENT
DTSTART;TZID=America/Chicago:20250816T190000
DTEND;TZID=America/Chicago:20250816T230000
DTSTAMP:20260424T203822
CREATED:20250807T181002Z
LAST-MODIFIED:20250807T181002Z
UID:10020610-1755370800-1755385200@www.wlcnonline.com
SUMMARY:Benefit for Aly Zwanzig to assist with medical bills featuring live music by AraizA at 217 Roadhouse in Atlanta
DESCRIPTION:Proceeds from this benefit will be used to help defray medical costs for Aly Zwanzig\, who was diagnosed with Stage 4 colon cancer. \nEvent codes ccent cclm ccfdd ccfb
URL:https://www.wlcnonline.com/event/benefit-for-aly-zwanzig-to-assist-with-medical-bills-featuring-live-music-by-araiza-at-217-roadhouse-in-atlanta/
LOCATION:217 Roadhouse in Atlanta\, 800 SW Arch Street\, Atlanta\, IL\, 61723\, United States
END:VEVENT
END:VCALENDAR