BEGIN:VCALENDAR
VERSION:2.0
PRODID:-//WLCN 96.3 FM - ECPv6.15.20//NONSGML v1.0//EN
CALSCALE:GREGORIAN
METHOD:PUBLISH
X-WR-CALNAME:WLCN 96.3 FM
X-ORIGINAL-URL:https://www.wlcnonline.com
X-WR-CALDESC:Events for WLCN 96.3 FM
REFRESH-INTERVAL;VALUE=DURATION:PT1H
X-Robots-Tag:noindex
X-PUBLISHED-TTL:PT1H
BEGIN:VTIMEZONE
TZID:America/Chicago
BEGIN:DAYLIGHT
TZOFFSETFROM:-0600
TZOFFSETTO:-0500
TZNAME:CDT
DTSTART:20250309T080000
END:DAYLIGHT
BEGIN:STANDARD
TZOFFSETFROM:-0500
TZOFFSETTO:-0600
TZNAME:CST
DTSTART:20251102T070000
END:STANDARD
BEGIN:DAYLIGHT
TZOFFSETFROM:-0600
TZOFFSETTO:-0500
TZNAME:CDT
DTSTART:20260308T080000
END:DAYLIGHT
BEGIN:STANDARD
TZOFFSETFROM:-0500
TZOFFSETTO:-0600
TZNAME:CST
DTSTART:20261101T070000
END:STANDARD
BEGIN:DAYLIGHT
TZOFFSETFROM:-0600
TZOFFSETTO:-0500
TZNAME:CDT
DTSTART:20270314T080000
END:DAYLIGHT
BEGIN:STANDARD
TZOFFSETFROM:-0500
TZOFFSETTO:-0600
TZNAME:CST
DTSTART:20271107T070000
END:STANDARD
END:VTIMEZONE
BEGIN:VEVENT
DTSTART;TZID=America/Chicago:20260111T090000
DTEND;TZID=America/Chicago:20260111T100000
DTSTAMP:20260420T145552
CREATED:20250227T214918Z
LAST-MODIFIED:20251231T162155Z
UID:10021611-1768122000-1768125600@www.wlcnonline.com
SUMMARY:Alcoholics Anonymous meetings by Land of Lincoln Recovery Group at Hope on 5th in Lincoln
DESCRIPTION:Meetings are free to attend and take place at 6 PM on Tuesdays\, Wednesdays\, Fridays and Saturdays as well as at 9 AM on Saturdays and Sundays. \nEvent codes
URL:https://www.wlcnonline.com/event/alcoholics-anonymous-meetings-by-land-of-lincoln-recovery-group-at-hope-on-5th-in-lincoln-2/2026-01-11/
LOCATION:Hope on 5th in Lincoln\, 200 5th Street\, Lincoln\, 62656\, United States
ORGANIZER;CN="Logan Mason Recovery Oriented Systems of Care (ROSC)":MAILTO:jedavis@chestnut.org
END:VEVENT
BEGIN:VEVENT
DTSTART;TZID=America/Chicago:20260111T140000
DTEND;TZID=America/Chicago:20260111T160000
DTSTAMP:20260420T145552
CREATED:20240607T073345Z
LAST-MODIFIED:20251231T163021Z
UID:10021746-1768140000-1768147200@www.wlcnonline.com
SUMMARY:Xtreme Bar Bingo at The Next Stop Saloon in Mt. Pulaski
DESCRIPTION:Games take place every Sunday from 2 PM to 4 PM. \nEvent codes ccfb ccbin
URL:https://www.wlcnonline.com/event/xtreme-bar-bingo-at-the-next-stop-saloon-in-mt-pulaski/2026-01-11/
LOCATION:The Next Stop Saloon in Mt. Pulaski\, 100 E. Cooke Street\, Mt. Pulaski\, IL\, 62548\, United States
END:VEVENT
BEGIN:VEVENT
DTSTART;TZID=America/Chicago:20260111T140000
DTEND;TZID=America/Chicago:20260111T163000
DTSTAMP:20260420T145552
CREATED:20251219T001923Z
LAST-MODIFIED:20251219T001923Z
UID:10021256-1768140000-1768149000@www.wlcnonline.com
SUMMARY:Pixar movie trivia night at Spirited Republic in Lincoln
DESCRIPTION:This special Pixar trivia Event will be packed with questions from many favorite Pixar movies — Toy Story\, Monsters Inc.\, Finding Nemo\, The Incredibles\, Up\, Inside Out\, and more. With special themed rounds\, this event will be fun for all ages. \nReservations are required for this event \nTickets cost $5 per person; up to 6 people may be on a team. \nTo reserve spots\, send an e-mail to TwinCityTrivia@gmail.com! \nEvent codes ccfb ccgc ccsoc
URL:https://www.wlcnonline.com/event/pixar-movie-trivia-night-at-spirited-republic-in-lincoln/
LOCATION:Spirited Republic in Lincoln\, 509 Pulaski Street\, Lincoln\, IL\, 62656\, United States
ORGANIZER;CN="Twin City Trivia":MAILTO:twincitytrivia@gmail.com
END:VEVENT
BEGIN:VEVENT
DTSTART;TZID=America/Chicago:20260111T170000
DTEND;TZID=America/Chicago:20260111T180000
DTSTAMP:20260420T145552
CREATED:20250227T215139Z
LAST-MODIFIED:20251231T162319Z
UID:10021661-1768150800-1768154400@www.wlcnonline.com
SUMMARY:Narcotics Anonymous meetings by Land of Lincoln Recovery Group at Hope on 5th in Lincoln
DESCRIPTION:Meetings are free to attend and take place at 6 PM Thursdays as well as at 5 PM on Sundays. \nEvent codes
URL:https://www.wlcnonline.com/event/narcotics-anonymous-meetings-by-land-of-lincoln-recovery-group-at-hope-on-5th-in-lincoln/2026-01-11/
LOCATION:Hope on 5th in Lincoln\, 200 5th Street\, Lincoln\, 62656\, United States
ORGANIZER;CN="Logan Mason Recovery Oriented Systems of Care (ROSC)":MAILTO:jedavis@chestnut.org
END:VEVENT
BEGIN:VEVENT
DTSTART;TZID=America/Chicago:20260111T180000
DTEND;TZID=America/Chicago:20260111T190000
DTSTAMP:20260420T145552
CREATED:20250227T221038Z
LAST-MODIFIED:20251231T162443Z
UID:10021687-1768154400-1768158000@www.wlcnonline.com
SUMMARY:Alcoholics Anonymous meetings at Trinity Episcopal Church in Lincoln
DESCRIPTION:Meetings are free to attend and take place at the following times: \n\nMondays at 7 PM\nWednesdays at 6 PM\nFridays at 11 AM\nSundays at 6 PM\n\nEvent codes
URL:https://www.wlcnonline.com/event/alcoholics-anonymous-meetings-at-trinity-episcopal-church-in-lincoln-4/2026-01-11/
LOCATION:Trinity Episcopal Church in Lincoln\, 402 Pekin Street\, Lincoln\, 62656\, United States
ORGANIZER;CN="Logan Mason Recovery Oriented Systems of Care (ROSC)":MAILTO:jedavis@chestnut.org
END:VEVENT
BEGIN:VEVENT
DTSTART;TZID=America/Chicago:20260112T100000
DTEND;TZID=America/Chicago:20260112T104500
DTSTAMP:20260420T145552
CREATED:20250814T215225Z
LAST-MODIFIED:20260115T152229Z
UID:10021801-1768212000-1768214700@www.wlcnonline.com
SUMMARY:Chair yoga by Silver Fox Fitness at The Villas at Lincoln﻿
DESCRIPTION:Seated and standing poses will be utilized with the goal of increasing flexibility\, balance and strength along with providing relaxation. Participants never get down on the floor. \nEvent codes: ccfs\, cchwf
URL:https://www.wlcnonline.com/event/chair-yoga-by-silver-fox-fitness-at-the-villas-at-lincoln/2026-01-12/
LOCATION:Villas at Lincoln (formerly The Christian Village) in Lincoln\, 1507 7th Street\, Lincoln\, IL\, 62656\, United States
END:VEVENT
BEGIN:VEVENT
DTSTART;TZID=America/Chicago:20260112T173000
DTEND;TZID=America/Chicago:20260112T183000
DTSTAMP:20260420T145552
CREATED:20251231T211807Z
LAST-MODIFIED:20251231T211807Z
UID:10022213-1768239000-1768242600@www.wlcnonline.com
SUMMARY:Intentional living workshop sessions at Nikki Chapman Yoga & Holistic Healing in Lincoln
DESCRIPTION:Intentional living is a daily practice and a conscious lifestyle choice that\, when practiced\, it helps us to define one’s core values and beliefs. Intentional living takes us out of autopilot or “allowing life to happen to us” and lets us focus on what truly matters. It fosters greater happiness\, authenticity and fuels your purpose. Attendees for this 4-week workshop will learn: \n\nthe key principles of intentional living\nhow to practice intentional living\nsetting intentions\npractice mindfulness\n– \nsetting goals and establishing healthy habits\n\nSessions will take place each Monday in January (1/5\, 1/12\, 1/19 and 1/26) from 5:30 PM to 6:30 PM \nIt is highly recommended that participants attend all classes (if unable to attend all sessions\, please message Nikki for additional information/details). \nEvent codes cchwf
URL:https://www.wlcnonline.com/event/intentional-living-workshop-sessions-at-nikki-chapman-yoga-holistic-healing-in-lincoln/2026-01-12/
LOCATION:Nikki Chapman Yoga & Holistic Healing in Lincoln\, 1555 5th Street\, Lincoln\, IL\, 62656\, United States
END:VEVENT
BEGIN:VEVENT
DTSTART;TZID=America/Chicago:20260112T180000
DTEND;TZID=America/Chicago:20260112T190000
DTSTAMP:20260420T145553
CREATED:20250227T215503Z
LAST-MODIFIED:20251231T163530Z
UID:10021827-1768240800-1768244400@www.wlcnonline.com
SUMMARY:Co-Dependents Anonymous (CoDA) meetings by Land of Lincoln Recovery Group at Hope on 5th in Lincoln
DESCRIPTION:Meetings are free to attend and take place at 6 PM Mondays. \nEvent codes
URL:https://www.wlcnonline.com/event/co-dependents-anonymous-coda-meetings-by-land-of-lincoln-recovery-group-at-hope-on-5th-in-lincoln/2026-01-12/
LOCATION:Hope on 5th in Lincoln\, 200 5th Street\, Lincoln\, 62656\, United States
ORGANIZER;CN="Logan Mason Recovery Oriented Systems of Care (ROSC)":MAILTO:jedavis@chestnut.org
END:VEVENT
BEGIN:VEVENT
DTSTART;TZID=America/Chicago:20260112T180000
DTEND;TZID=America/Chicago:20260112T200000
DTSTAMP:20260420T145553
CREATED:20250725T024845Z
LAST-MODIFIED:20251231T163623Z
UID:10021853-1768240800-1768248000@www.wlcnonline.com
SUMMARY:Music bingo at Copper & Oak Bourbon & Craft Beer Bar in Lincoln
DESCRIPTION:Music bingo is like regular bingo\, except of numbers being called\, segments of songs are played; if you can identify the song played and it is on your bingo card\, cross it off and continue doing so until someone gets bingo. \nMusic bingo is free to play. \nEvent codes ccbin ccsoc ccfb
URL:https://www.wlcnonline.com/event/music-bingo-at-copper-oak-bourbon-craft-beer-bar-in-lincoln/2026-01-12/
LOCATION:Copper & Oak in Lincoln\, 227 N. Kickapoo Street\, Lincoln\, IL\, 62656\, United States
END:VEVENT
BEGIN:VEVENT
DTSTART;TZID=America/Chicago:20260112T190000
DTEND;TZID=America/Chicago:20260112T200000
DTSTAMP:20260420T145553
CREATED:20250227T220659Z
LAST-MODIFIED:20251231T163725Z
UID:10021879-1768244400-1768248000@www.wlcnonline.com
SUMMARY:Alcoholics Anonymous meetings at Trinity Episcopal Church in Lincoln
DESCRIPTION:Meetings are free to attend and take place at the following times: \n\nMondays at 7 PM\nWednesdays at 6 PM\nFridays at 11 AM\nSundays at 6 PM\n\nEvent codes
URL:https://www.wlcnonline.com/event/alcoholics-anonymous-meetings-at-trinity-episcopal-church-in-lincoln/2026-01-12/
LOCATION:Trinity Episcopal Church in Lincoln\, 402 Pekin Street\, Lincoln\, 62656\, United States
ORGANIZER;CN="Logan Mason Recovery Oriented Systems of Care (ROSC)":MAILTO:jedavis@chestnut.org
END:VEVENT
BEGIN:VEVENT
DTSTART;TZID=America/Chicago:20260113T170000
DTEND;TZID=America/Chicago:20260113T203000
DTSTAMP:20260420T145553
CREATED:20250220T233455Z
LAST-MODIFIED:20251231T163935Z
UID:10021905-1768323600-1768336200@www.wlcnonline.com
SUMMARY:Tuesday night bingo (meal @ 5 PM\, bingo @ 6:30 PM) at Oasis Senior Center in Lincoln﻿
DESCRIPTION:Bingo takes place on Tuesday evenings from 6:30 PM to 8:30 PM and is open to the public. Doors open at 5 PM for a meal\, snack and beverages. \nEvent codes ccgc ccbin ccfb ccsoc
URL:https://www.wlcnonline.com/event/tuesday-night-bingo-meal-5-pm-bingo-630-pm-at-oasis-senior-center-in-lincoln/2026-01-13/
LOCATION:Oasis Senior Center\, 2810 Woodlawn Road\, Lincoln\, IL\, 62656\, United States
ORGANIZER;CN="Oasis Senior Center":MAILTO:nancy@oasisseniorcenter.com
END:VEVENT
BEGIN:VEVENT
DTSTART;TZID=America/Chicago:20260113T180000
DTEND;TZID=America/Chicago:20260113T190000
DTSTAMP:20260420T145553
CREATED:20250227T214713Z
LAST-MODIFIED:20251231T161900Z
UID:10021511-1768327200-1768330800@www.wlcnonline.com
SUMMARY:Alcoholics Anonymous meetings by Land of Lincoln Recovery Group at Hope on 5th in Lincoln
DESCRIPTION:Meetings are free to attend and take place at 6 PM on Tuesdays\, Wednesdays\, Fridays and Saturdays as well as at 9 AM on Saturdays and Sundays. \nEvent codes
URL:https://www.wlcnonline.com/event/alcoholics-anonymous-meetings-by-land-of-lincoln-recovery-group-at-hope-on-5th-in-lincoln/2026-01-13/
LOCATION:Hope on 5th in Lincoln\, 200 5th Street\, Lincoln\, 62656\, United States
ORGANIZER;CN="Logan Mason Recovery Oriented Systems of Care (ROSC)":MAILTO:jedavis@chestnut.org
END:VEVENT
BEGIN:VEVENT
DTSTART;TZID=America/Chicago:20260113T200000
DTEND;TZID=America/Chicago:20260114T000000
DTSTAMP:20260420T145553
CREATED:20250725T022208Z
LAST-MODIFIED:20251231T164013Z
UID:10021931-1768334400-1768348800@www.wlcnonline.com
SUMMARY:Karaoke at The Rusty Rail Pub in Lincoln
DESCRIPTION:Karaoke events are scheduled at the Rusty Rail each Tuesday night from 8 PM to midnight. \nEvent codes ccfb ccent cckar
URL:https://www.wlcnonline.com/event/karaoke-at-the-rusty-rail-pub-in-lincoln/2026-01-13/
LOCATION:The Rusty Rail Pub in Lincoln\, 405 Pulaski Street\, Lincoln\, IL\, 62656\, United States
END:VEVENT
BEGIN:VEVENT
DTSTART;TZID=America/Chicago:20260114T100000
DTEND;TZID=America/Chicago:20260114T130000
DTSTAMP:20260420T145553
CREATED:20251219T005847Z
LAST-MODIFIED:20251219T022353Z
UID:10021274-1768384800-1768395600@www.wlcnonline.com
SUMMARY:Lincoln Memorial Hospital Trailblazers walking group by LMH Community Health Collaborative indoors at Lincoln YMCA
DESCRIPTION:The LMH Trailblazers walking program moves indoors for winter – no registration or YMCA membership is required to participate. Bring comfortable walking shoes and a water bottle. Prizes will be randomly distributed. \nEvent codes ccsoc cchwf
URL:https://www.wlcnonline.com/event/lincoln-memorial-hospital-trailblazers-walking-group-by-lmh-community-health-collaborative-indoors-at-lincoln-ymca/2026-01-14/
LOCATION:Lincoln Area YMCA\, 719 Wyatt Avenue\, Lincoln\, IL\, 62656\, United States
END:VEVENT
BEGIN:VEVENT
DTSTART;TZID=America/Chicago:20260114T171500
DTEND;TZID=America/Chicago:20260114T181500
DTSTAMP:20260420T145553
CREATED:20251219T021255Z
LAST-MODIFIED:20251219T022017Z
UID:10021350-1768410900-1768414500@www.wlcnonline.com
SUMMARY:Monthly prostate cancer support group meetings by LMH Community Health Collaborative held online and at Memorial Learning Center in Springfield
DESCRIPTION:This group is for anyone who has faced prostate cancer including spouse/partner\, friends and family. \nWhen: 2nd Wednesday of each month\, except November and December\nWhere: Memorial Learning Center (228 W Miller Street) 2nd Floor\, Room 2D\nVirtual option available! \nFor more info or to join\, contact Tia Rapps at (217) 588-5392 or rapps.tia@mhsil.com. \nEvent codes cchwf
URL:https://www.wlcnonline.com/event/monthly-prostate-cancer-support-group-meetings-by-lmh-community-health-collaborative-held-online-and-at-memorial-learning-center-in-springfield/2026-01-14/
LOCATION:Memorial Learning Center in Springfield\, 228 W. Miller Street\, Springfield\, 62702\, United States
END:VEVENT
BEGIN:VEVENT
DTSTART;TZID=America/Chicago:20260114T173000
DTEND;TZID=America/Chicago:20260114T183000
DTSTAMP:20260420T145553
CREATED:20260108T203315Z
LAST-MODIFIED:20260108T203315Z
UID:10022243-1768411800-1768415400@www.wlcnonline.com
SUMMARY:School club meeting at Carroll Catholic School in Lincoln
DESCRIPTION:This meeting will include discussions about feedback from the Christmas Bazaar held in December as well as upcoming events in January and February events. \nClick here to view the agenda for the meeting. To have something added to the agenda\, contact Kayla Davis at (309) 310-9195. \nEvent codes ccedu ccrel
URL:https://www.wlcnonline.com/event/school-club-meeting-at-carroll-catholic-school-in-lincoln-2/
LOCATION:Carroll Catholic School\, 111 4th Street\, Lincoln\, IL\, 62656\, United States
END:VEVENT
BEGIN:VEVENT
DTSTART;TZID=America/Chicago:20260114T180000
DTEND;TZID=America/Chicago:20260114T190000
DTSTAMP:20260420T145553
CREATED:20250227T214713Z
LAST-MODIFIED:20251231T161900Z
UID:10021512-1768413600-1768417200@www.wlcnonline.com
SUMMARY:Alcoholics Anonymous meetings by Land of Lincoln Recovery Group at Hope on 5th in Lincoln
DESCRIPTION:Meetings are free to attend and take place at 6 PM on Tuesdays\, Wednesdays\, Fridays and Saturdays as well as at 9 AM on Saturdays and Sundays. \nEvent codes
URL:https://www.wlcnonline.com/event/alcoholics-anonymous-meetings-by-land-of-lincoln-recovery-group-at-hope-on-5th-in-lincoln/2026-01-14/
LOCATION:Hope on 5th in Lincoln\, 200 5th Street\, Lincoln\, 62656\, United States
ORGANIZER;CN="Logan Mason Recovery Oriented Systems of Care (ROSC)":MAILTO:jedavis@chestnut.org
END:VEVENT
BEGIN:VEVENT
DTSTART;TZID=America/Chicago:20260114T180000
DTEND;TZID=America/Chicago:20260114T190000
DTSTAMP:20260420T145553
CREATED:20250227T220829Z
LAST-MODIFIED:20251231T164443Z
UID:10021957-1768413600-1768417200@www.wlcnonline.com
SUMMARY:Alcoholics Anonymous meetings at Trinity Episcopal Church in Lincoln
DESCRIPTION:Meetings are free to attend and take place at the following times: \n\nMondays at 7 PM\nWednesdays at 6 PM\nFridays at 11 AM\nSundays at 6 PM\n\nEvent codes
URL:https://www.wlcnonline.com/event/alcoholics-anonymous-meetings-at-trinity-episcopal-church-in-lincoln-2/2026-01-14/
LOCATION:Trinity Episcopal Church in Lincoln\, 402 Pekin Street\, Lincoln\, 62656\, United States
ORGANIZER;CN="Logan Mason Recovery Oriented Systems of Care (ROSC)":MAILTO:jedavis@chestnut.org
END:VEVENT
BEGIN:VEVENT
DTSTART;TZID=America/Chicago:20260114T180000
DTEND;TZID=America/Chicago:20260114T190000
DTSTAMP:20260420T145553
CREATED:20250227T221550Z
LAST-MODIFIED:20251231T171533Z
UID:10022089-1768413600-1768417200@www.wlcnonline.com
SUMMARY:Odds & Ends peer recovery support group meeting at Hardee's in Havana
DESCRIPTION:Meetings are free to attend and take place Wednesdays at 6 PM. \nEvent codes
URL:https://www.wlcnonline.com/event/odds-ends-peer-recovery-support-group-meeting-at-hardees-in-havana/2026-01-14/
LOCATION:Hardee’s in Havana\, 401 W. Dearborn Street\, Havana\, 62644\, United States
ORGANIZER;CN="Logan Mason Recovery Oriented Systems of Care (ROSC)":MAILTO:jedavis@chestnut.org
END:VEVENT
BEGIN:VEVENT
DTSTART;TZID=America/Chicago:20260114T190000
DTEND;TZID=America/Chicago:20260114T210000
DTSTAMP:20260420T145553
CREATED:20251120T195923Z
LAST-MODIFIED:20251120T200605Z
UID:10021088-1768417200-1768424400@www.wlcnonline.com
SUMMARY:Wednesday night trivia at Minier Tap in Minier
DESCRIPTION:Each weekly event features 7 rounds of trivia designed to challenge participants. \nEvent codes: ccgc\, ccsoc
URL:https://www.wlcnonline.com/event/wednesday-night-trivia-at-minier-tap-in-minier/2026-01-14/
LOCATION:Minier Tap\, 121 S. Main Avenue\, Minier\, IL\, 61759\, United States
END:VEVENT
BEGIN:VEVENT
DTSTART;TZID=America/Chicago:20260114T190000
DTEND;TZID=America/Chicago:20260114T210000
DTSTAMP:20260420T145553
CREATED:20251231T172026Z
LAST-MODIFIED:20260220T140551Z
UID:10022168-1768417200-1768424400@www.wlcnonline.com
SUMMARY:Wednesday night trivia at Spirited Republic in Lincoln
DESCRIPTION:Each week features 7 rounds of trivia designed to challenge participants. \nEvent codes: ccgc\, ccsoc\, cctri
URL:https://www.wlcnonline.com/event/wednesday-night-trivia-at-spirited-republic-in-lincoln/2026-01-14/
LOCATION:Spirited Republic in Lincoln\, 509 Pulaski Street\, Lincoln\, IL\, 62656\, United States
ORGANIZER;CN="Spirited Republic/Limerick Brewing Company":MAILTO:spiritedrepublic@gmail.com
END:VEVENT
BEGIN:VEVENT
DTSTART;TZID=America/Chicago:20260115T100000
DTEND;TZID=America/Chicago:20260115T104500
DTSTAMP:20260420T145553
CREATED:20250904T214858Z
LAST-MODIFIED:20260115T211934Z
UID:10022064-1768471200-1768473900@www.wlcnonline.com
SUMMARY:Fall prevention/balance building class by Silver Fox Fitness at Villas of Lincoln
DESCRIPTION:This class is designed for participants to build strength and endurance to help with building balance and preventing falls. \nEvent codes cchwf ccsen
URL:https://www.wlcnonline.com/event/fall-prevention-balance-building-class-by-silver-fox-fitness-at-villas-of-lincoln/2026-01-15/
LOCATION:Villas at Lincoln (formerly The Christian Village) in Lincoln\, 1507 7th Street\, Lincoln\, IL\, 62656\, United States
END:VEVENT
BEGIN:VEVENT
DTSTART;TZID=America/Chicago:20260115T100000
DTEND;TZID=America/Chicago:20260115T113000
DTSTAMP:20260420T145553
CREATED:20260108T204259Z
LAST-MODIFIED:20260108T204259Z
UID:10022247-1768471200-1768476600@www.wlcnonline.com
SUMMARY:Drive-thru food pantry for low-income seniors at Oasis Senior Center in Lincoln
DESCRIPTION:This drive thru food pantry event is for low income seniors. Drive behind the building at 2810 Woodlawn Road\, loop around and pick up at the patio. Attendees who receive something they do not like or will not use are encourages to share the item with family or friends. \nThis event is sponsored by Eaton\, Cresco Labs\, and St. Joseph’s Legacy of Care Fund. \nEvent codes ccfdd
URL:https://www.wlcnonline.com/event/drive-thru-food-pantry-for-low-income-seniors-at-oasis-senior-center-in-lincoln-2/
LOCATION:Oasis Senior Center\, 2810 Woodlawn Road\, Lincoln\, IL\, 62656\, United States
ORGANIZER;CN="Oasis Senior Center":MAILTO:nancy@oasisseniorcenter.com
END:VEVENT
BEGIN:VEVENT
DTSTART;TZID=America/Chicago:20260115T170000
DTEND;TZID=America/Chicago:20260115T190000
DTSTAMP:20260420T145553
CREATED:20260108T225509Z
LAST-MODIFIED:20260108T225509Z
UID:10022253-1768496400-1768503600@www.wlcnonline.com
SUMMARY:Meet and greet sticker swap event by Logan County Pride at Ink & Imprint Books in Lincoln
DESCRIPTION:Attendees can swap stickers and meet Logan County Pride board members at this first-ever sticker swap. Please note: explicit stickers will not be accepted. \nEvent codes ccsoc
URL:https://www.wlcnonline.com/event/meet-and-greet-sticker-swap-event-by-logan-county-pride-at-ink-imprint-books-in-lincoln/
LOCATION:Ink & Imprint Books in Lincoln\, 125 N Kickapoo Street\, Lincoln\, 62656\, United States
ORGANIZER;CN="Logan County Pride":MAILTO:logancountypride@gmail.com
END:VEVENT
BEGIN:VEVENT
DTSTART;TZID=America/Chicago:20260115T170000
DTEND;TZID=America/Chicago:20260115T210000
DTSTAMP:20260420T145553
CREATED:20250717T215744Z
LAST-MODIFIED:20251231T171425Z
UID:10022036-1768496400-1768510800@www.wlcnonline.com
SUMMARY:Thursday night bingo (meal @ 5 PM\, bingo @ 6:30 PM) at Eagles Lodge in Lincoln﻿
DESCRIPTION:Doors open at 5 PM with food being served. Bingo starts at 6:30 PM and includes cash prizes\, jackpots as well as jar balls. Open to the public. \nEvent codes ccfb ccgc ccsoc ccbin
URL:https://www.wlcnonline.com/event/thursday-night-bingo-meal-5-pm-bingo-630-pm-at-eagles-lodge-in-lincoln/2026-01-15/
LOCATION:Fraternal Order Of Eagles #2708 in Lincoln\, 1621 N. Kickapoo Street\, Lincoln\, IL\, 62656\, United States
END:VEVENT
BEGIN:VEVENT
DTSTART;TZID=America/Chicago:20260115T180000
DTEND;TZID=America/Chicago:20260115T190000
DTSTAMP:20260420T145553
CREATED:20250227T215251Z
LAST-MODIFIED:20251231T170747Z
UID:10022009-1768500000-1768503600@www.wlcnonline.com
SUMMARY:Narcotics Anonymous meetings by Land of Lincoln Recovery Group at Hope on 5th in Lincoln
DESCRIPTION:Meetings are free to attend and take place at 6 PM Thursdays as well as at 5 PM on Sundays. \nEvent codes
URL:https://www.wlcnonline.com/event/narcotics-anonymous-meetings-by-land-of-lincoln-recovery-group-at-hope-on-5th-in-lincoln-2/2026-01-15/
LOCATION:Hope on 5th in Lincoln\, 200 5th Street\, Lincoln\, 62656\, United States
ORGANIZER;CN="Logan Mason Recovery Oriented Systems of Care (ROSC)":MAILTO:jedavis@chestnut.org
END:VEVENT
BEGIN:VEVENT
DTSTART;TZID=America/Chicago:20260115T190000
DTEND;TZID=America/Chicago:20260115T190000
DTSTAMP:20260420T145553
CREATED:20240329T042327Z
LAST-MODIFIED:20251231T163130Z
UID:10021773-1768503600-1768503600@www.wlcnonline.com
SUMMARY:Xtreme Bar Bingo at The Rusty Rail in Lincoln
DESCRIPTION:Xtreme Bar Bingo is bingo game with awesome prizes. The Rusty Rail features Xtreme Bar Bingo on Thursday nights beginning at 7 PM. \nEvent codes: ccgc\, ccsoc ccbin
URL:https://www.wlcnonline.com/event/xtreme-bar-bingo-at-the-rusty-rail-in-lincoln/2026-01-15/
LOCATION:The Rusty Rail Pub in Lincoln\, 405 Pulaski Street\, Lincoln\, IL\, 62656\, United States
END:VEVENT
BEGIN:VEVENT
DTSTART;TZID=America/Chicago:20260115T190000
DTEND;TZID=America/Chicago:20260115T200000
DTSTAMP:20260420T145553
CREATED:20250227T220255Z
LAST-MODIFIED:20251231T170522Z
UID:10021983-1768503600-1768507200@www.wlcnonline.com
SUMMARY:Celebrate recovery events at Open Arms Christian Fellowship in Lincoln
DESCRIPTION:Events take place on Thursday evenings with snacks served at 6 PM and the meeting starting at 7 PM.
URL:https://www.wlcnonline.com/event/celebrate-recovery-events-at-open-arms-christian-fellowship-in-lincoln/2026-01-15/
LOCATION:Open Arms Christian Fellowship\, 1321 State Route 10\, Lincoln\, IL\, 62656\, United States
ORGANIZER;CN="Hope on 5th":MAILTO:rhss2005th@gmail.com
END:VEVENT
BEGIN:VEVENT
DTSTART;TZID=America/Chicago:20260115T190000
DTEND;TZID=America/Chicago:20260115T200000
DTSTAMP:20260420T145553
CREATED:20250227T221223Z
LAST-MODIFIED:20251231T171824Z
UID:10022141-1768503600-1768507200@www.wlcnonline.com
SUMMARY:Alcoholics Anonymous meetings at Atlanta Community House in Atlanta
DESCRIPTION:Meetings are free to attend and take place Thursdays at 7 PM. \nEvent codes
URL:https://www.wlcnonline.com/event/alcoholics-anonymous-meetings-at-atlanta-community-house-in-atlanta/2026-01-15/
LOCATION:Atlanta Memorial Community House\, 106 SW 6th Street\, Atlanta\, IL\, 61723\, United States
ORGANIZER;CN="Logan Mason Recovery Oriented Systems of Care (ROSC)":MAILTO:jedavis@chestnut.org
END:VEVENT
BEGIN:VEVENT
DTSTART;TZID=America/Chicago:20260115T190000
DTEND;TZID=America/Chicago:20260115T220000
DTSTAMP:20260420T145553
CREATED:20250710T225735Z
LAST-MODIFIED:20251231T171651Z
UID:10022115-1768503600-1768514400@www.wlcnonline.com
SUMMARY:Open mic night at Spirited Republic in Lincoln
DESCRIPTION:Spirited Republic open mic nights are a solo acoustic musical experiment with the goal of cultivating friendship\, support and good times amongst musicians\, comedians\, poets and artists of all kinds. Performers are asked to bring their own instruments (no drum sets; hand drums and percussion equipment only). \nEvent codes: ccent\, ccfb\, cclm\, ccsoc
URL:https://www.wlcnonline.com/event/open-mic-night-at-spirited-republic-in-lincoln-2/2026-01-15/
LOCATION:Spirited Republic in Lincoln\, 509 Pulaski Street\, Lincoln\, IL\, 62656\, United States
ORGANIZER;CN="Spirited Republic/Limerick Brewing Company":MAILTO:spiritedrepublic@gmail.com
END:VEVENT
END:VCALENDAR