BEGIN:VCALENDAR
VERSION:2.0
PRODID:-//WLCN 96.3 FM - ECPv6.15.20//NONSGML v1.0//EN
CALSCALE:GREGORIAN
METHOD:PUBLISH
X-ORIGINAL-URL:https://www.wlcnonline.com
X-WR-CALDESC:Events for WLCN 96.3 FM
REFRESH-INTERVAL;VALUE=DURATION:PT1H
X-Robots-Tag:noindex
X-PUBLISHED-TTL:PT1H
BEGIN:VTIMEZONE
TZID:America/Chicago
BEGIN:DAYLIGHT
TZOFFSETFROM:-0600
TZOFFSETTO:-0500
TZNAME:CDT
DTSTART:20240310T080000
END:DAYLIGHT
BEGIN:STANDARD
TZOFFSETFROM:-0500
TZOFFSETTO:-0600
TZNAME:CST
DTSTART:20241103T070000
END:STANDARD
BEGIN:DAYLIGHT
TZOFFSETFROM:-0600
TZOFFSETTO:-0500
TZNAME:CDT
DTSTART:20250309T080000
END:DAYLIGHT
BEGIN:STANDARD
TZOFFSETFROM:-0500
TZOFFSETTO:-0600
TZNAME:CST
DTSTART:20251102T070000
END:STANDARD
BEGIN:DAYLIGHT
TZOFFSETFROM:-0600
TZOFFSETTO:-0500
TZNAME:CDT
DTSTART:20260308T080000
END:DAYLIGHT
BEGIN:STANDARD
TZOFFSETFROM:-0500
TZOFFSETTO:-0600
TZNAME:CST
DTSTART:20261101T070000
END:STANDARD
END:VTIMEZONE
BEGIN:VEVENT
DTSTART;TZID=America/Chicago:20251011T150000
DTEND;TZID=America/Chicago:20251012T110000
DTSTAMP:20260421T004607
CREATED:20251009T205003Z
LAST-MODIFIED:20251009T205003Z
UID:10020911-1760194800-1760266800@www.wlcnonline.com
SUMMARY:Fall campout event by Weldon Springs State Park Foundation at Long Point Campground in Weldon Springs State Park
DESCRIPTION:Attendees for this event will learn the basics of camping\, tent building\, fire making and other basic skills. In addition\, there will be informational sessions on tracking wildlife\, games and a movie. View the informational flyer posted by the Weldon Springs Park Foundation on Facebook for additional information. \nEvent codes ccnat ccff ccsoc
URL:https://www.wlcnonline.com/event/fall-campout-event-by-weldon-springs-state-park-foundation-at-long-point-campground-in-weldon-springs-state-park/
LOCATION:Weldon Springs State Park\, 4734 Weldon Springs Road\, Clinton\, 61727\, United States
ORGANIZER;CN="Weldon Springs State Park Foundation":MAILTO:weldonspringsfoundation@yahoo.com
END:VEVENT
BEGIN:VEVENT
DTSTART;TZID=America/Chicago:20251011T223000
DTEND;TZID=America/Chicago:20251012T013000
DTSTAMP:20260421T004607
CREATED:20251009T205729Z
LAST-MODIFIED:20251009T205729Z
UID:10020912-1760221800-1760232600@www.wlcnonline.com
SUMMARY:Live music by Noize Complaint at BB's BFE in Latham
DESCRIPTION:Enjoy live music by Decatur-based band Noize Complaint\, playing rock hits and favorites from the 70s to today. \nEvent codes ccent cclm ccfb
URL:https://www.wlcnonline.com/event/live-music-by-noize-complaint-at-bbs-bfe-in-latham/
LOCATION:BB’s BFE in Latham\, 2371 N Route 121\, Latham\, 62543\, United States
ORGANIZER;CN="BB's BFE":MAILTO:BBS.BFE.2025@gmail.com
END:VEVENT
BEGIN:VEVENT
DTSTART;TZID=America/Chicago:20251012T090000
DTEND;TZID=America/Chicago:20251012T100000
DTSTAMP:20260421T004607
CREATED:20250227T214918Z
LAST-MODIFIED:20251231T162155Z
UID:10019155-1760259600-1760263200@www.wlcnonline.com
SUMMARY:Alcoholics Anonymous meetings by Land of Lincoln Recovery Group at Hope on 5th in Lincoln
DESCRIPTION:Meetings are free to attend and take place at 6 PM on Tuesdays\, Wednesdays\, Fridays and Saturdays as well as at 9 AM on Saturdays and Sundays. \nEvent codes
URL:https://www.wlcnonline.com/event/alcoholics-anonymous-meetings-by-land-of-lincoln-recovery-group-at-hope-on-5th-in-lincoln-2/2025-10-12/
LOCATION:Hope on 5th in Lincoln\, 200 5th Street\, Lincoln\, 62656\, United States
ORGANIZER;CN="Logan Mason Recovery Oriented Systems of Care (ROSC)":MAILTO:jedavis@chestnut.org
END:VEVENT
BEGIN:VEVENT
DTSTART;TZID=America/Chicago:20251012T140000
DTEND;TZID=America/Chicago:20251012T160000
DTSTAMP:20260421T004607
CREATED:20240607T073345Z
LAST-MODIFIED:20251231T163021Z
UID:10020358-1760277600-1760284800@www.wlcnonline.com
SUMMARY:Xtreme Bar Bingo at The Next Stop Saloon in Mt. Pulaski
DESCRIPTION:Games take place every Sunday from 2 PM to 4 PM. \nEvent codes ccfb ccbin
URL:https://www.wlcnonline.com/event/xtreme-bar-bingo-at-the-next-stop-saloon-in-mt-pulaski/2025-10-12/
LOCATION:The Next Stop Saloon in Mt. Pulaski\, 100 E. Cooke Street\, Mt. Pulaski\, IL\, 62548\, United States
END:VEVENT
BEGIN:VEVENT
DTSTART;TZID=America/Chicago:20251012T140000
DTEND;TZID=America/Chicago:20251012T170000
DTSTAMP:20260421T004607
CREATED:20251009T210327Z
LAST-MODIFIED:20251009T210327Z
UID:10020914-1760277600-1760288400@www.wlcnonline.com
SUMMARY:Sunday funday with live music by the NikBeats at Gracie's Sports Bar in Green Valley
DESCRIPTION:Enjoy an afternoon of classic oldies with the NikBeats. \nEvent codes ccfb cclm ccent
URL:https://www.wlcnonline.com/event/sunday-funday-with-live-music-by-the-nikbeats-at-gracies-sports-bar-in-green-valley/
LOCATION:Gracie’s Sports Bar in Green Valley\, 6031 IL Route 29\, Green Valley\, IL\, 61534\, United States
ORGANIZER;CN="Gracie's Sports Bar":MAILTO:bobnbec@yahoo.com
END:VEVENT
BEGIN:VEVENT
DTSTART;TZID=America/Chicago:20251012T163000
DTEND;TZID=America/Chicago:20251012T200000
DTSTAMP:20260421T004608
CREATED:20251009T211012Z
LAST-MODIFIED:20251009T211012Z
UID:10020915-1760286600-1760299200@www.wlcnonline.com
SUMMARY:Bonfire and weiner roast with activities by Minier Christian Church Radius Youth Group at Stickling Residence in Stanford
DESCRIPTION:The Radius Student Ministry is hosting this bonfire event for grades 6-12There will be hot dogs and s’mores to eat. Planned activities include flag football and glow-in-the-dark capture the flag. Each person should bring a bag of chips or snack to share. \nEvent codes ccfk ccrel ccfb
URL:https://www.wlcnonline.com/event/bonfire-and-weiner-roast-with-activities-by-minier-christian-church-radius-youth-group-at-stickling-residence-in-stanford/
LOCATION:Stickling residence\, 11178 N 400 East Road\, Stanford\, 61774\, United States
ORGANIZER;CN="Minier Christian Church Radius Youth Group":MAILTO:minierccstaff@gmail.com
END:VEVENT
BEGIN:VEVENT
DTSTART;TZID=America/Chicago:20251012T170000
DTEND;TZID=America/Chicago:20251012T180000
DTSTAMP:20260421T004608
CREATED:20250227T215139Z
LAST-MODIFIED:20251231T162319Z
UID:10019667-1760288400-1760292000@www.wlcnonline.com
SUMMARY:Narcotics Anonymous meetings by Land of Lincoln Recovery Group at Hope on 5th in Lincoln
DESCRIPTION:Meetings are free to attend and take place at 6 PM Thursdays as well as at 5 PM on Sundays. \nEvent codes
URL:https://www.wlcnonline.com/event/narcotics-anonymous-meetings-by-land-of-lincoln-recovery-group-at-hope-on-5th-in-lincoln/2025-10-12/
LOCATION:Hope on 5th in Lincoln\, 200 5th Street\, Lincoln\, 62656\, United States
ORGANIZER;CN="Logan Mason Recovery Oriented Systems of Care (ROSC)":MAILTO:jedavis@chestnut.org
END:VEVENT
BEGIN:VEVENT
DTSTART;TZID=America/Chicago:20251012T180000
DTEND;TZID=America/Chicago:20251012T190000
DTSTAMP:20260421T004608
CREATED:20250227T221038Z
LAST-MODIFIED:20251231T162443Z
UID:10019492-1760292000-1760295600@www.wlcnonline.com
SUMMARY:Alcoholics Anonymous meetings at Trinity Episcopal Church in Lincoln
DESCRIPTION:Meetings are free to attend and take place at the following times: \n\nMondays at 7 PM\nWednesdays at 6 PM\nFridays at 11 AM\nSundays at 6 PM\n\nEvent codes
URL:https://www.wlcnonline.com/event/alcoholics-anonymous-meetings-at-trinity-episcopal-church-in-lincoln-4/2025-10-12/
LOCATION:Trinity Episcopal Church in Lincoln\, 402 Pekin Street\, Lincoln\, 62656\, United States
ORGANIZER;CN="Logan Mason Recovery Oriented Systems of Care (ROSC)":MAILTO:jedavis@chestnut.org
END:VEVENT
BEGIN:VEVENT
DTSTART;TZID=America/Chicago:20251013T100000
DTEND;TZID=America/Chicago:20251013T104500
DTSTAMP:20260421T004608
CREATED:20250814T215225Z
LAST-MODIFIED:20260115T152229Z
UID:10020629-1760349600-1760352300@www.wlcnonline.com
SUMMARY:Chair yoga by Silver Fox Fitness at The Villas at Lincoln﻿
DESCRIPTION:Seated and standing poses will be utilized with the goal of increasing flexibility\, balance and strength along with providing relaxation. Participants never get down on the floor. \nEvent codes: ccfs\, cchwf
URL:https://www.wlcnonline.com/event/chair-yoga-by-silver-fox-fitness-at-the-villas-at-lincoln/2025-10-13/
LOCATION:Villas at Lincoln (formerly The Christian Village) in Lincoln\, 1507 7th Street\, Lincoln\, IL\, 62656\, United States
END:VEVENT
BEGIN:VEVENT
DTSTART;TZID=America/Chicago:20251013T130000
DTEND;TZID=America/Chicago:20251013T143000
DTSTAMP:20260421T004608
CREATED:20250625T183317Z
LAST-MODIFIED:20250626T203816Z
UID:10020315-1760360400-1760365800@www.wlcnonline.com
SUMMARY:Marvelous Mondays event by the Educational Center for the Visually Impaired at The Oasis Senior Center in Lincoln
DESCRIPTION:These free events are intended for anyone who is blind or visually impaired to connect with each another and learn how to navigate life independently. Events take place on the second Monday of each month at The Oasis Senior Center.  Guest speakers scheduled for the upcoming months are: \nJuly – Dave Jackson; Topic: Problems of going Blind\nAugust – Stephanie Hall\, Master Gardener; Topic: Talking about micro greens\nSeptember – Tom Ewald; Topic: Talking about his book\, “Judas and the Criminal Mind”\nOctober – Dave Jackson; Topic: Problems of going blind\nNovember – To be Determined\nDecember – Christmas Party \nLight refreshments will be served. \nEvent codes ccsen ccfre ccedu
URL:https://www.wlcnonline.com/event/marvelous-monday-event-by-the-educational-center-for-the-visually-impaired-at-the-oasis-senior-center-in-lincoln/2025-10-13/
LOCATION:Oasis Senior Center\, 2810 Woodlawn Road\, Lincoln\, IL\, 62656\, United States
ORGANIZER;CN="Educational Center for the Visually Impaired":MAILTO:pdyson@edcentervi.org
END:VEVENT
BEGIN:VEVENT
DTSTART;TZID=America/Chicago:20251013T170000
DTEND;TZID=America/Chicago:20251013T180000
DTSTAMP:20260421T004608
CREATED:20251009T211443Z
LAST-MODIFIED:20251009T211443Z
UID:10020916-1760374800-1760378400@www.wlcnonline.com
SUMMARY:October Tech Talk at Baum Chevrolet in Clinton
DESCRIPTION:Tech Talks are free in-person informational sessions at Baum Chevrolet Buick in Clinton designed to help attendees better understand the technology of their vehicles. Those attending can ask questions and get one-on-one help after the presentation as well as enjoy light refreshments.\nThose attending will also $20 in AutoRewards points. \nScheduled topics include:\nBluetooth & Phone Pairing\nOnStar & 4G LTE Wi-Fi\nNavigation Apps\nClock & Radio Settings\nTroubleshooting Tips \nThose planning to attend are asked to RSVP by calling (217) 935-3156. \nEvent codes ccavse cclbep
URL:https://www.wlcnonline.com/event/october-tech-talk-at-baum-chevrolet-in-clinton/
LOCATION:Baum Chevolet Buick in Clinton\, 810 W. Van Buren Street\, Clinton\, IL\, 61727\, United States
END:VEVENT
BEGIN:VEVENT
DTSTART;TZID=America/Chicago:20251013T170000
DTEND;TZID=America/Chicago:20251013T200000
DTSTAMP:20260421T004608
CREATED:20250807T182222Z
LAST-MODIFIED:20260417T033109Z
UID:10020928-1760374800-1760385600@www.wlcnonline.com
SUMMARY:Fundraiser for Lincoln Christian Church GAP at Culver's of Lincoln
DESCRIPTION:Purchase food from Culver’s of Lincoln and help support a worthy cause whether dining in\, carrying out\, using the drive-thru or ordering through DoorDash. During the hours of the fundraiser\, a portion of all proceeds will be donated to the organization. \nEvent codes ccfb\, ccfdd
URL:https://www.wlcnonline.com/event/fundraiser-for-lincoln-christian-church-gap-at-culvers-of-lincoln/2025-10-13/
LOCATION:Culver’s of Lincoln\, 2530 Woodlawn Road\, Lincoln\, IL\, 62656\, United States
ORGANIZER;CN="Lincoln Christian Church":MAILTO:LCChurch@LincolnChristianChurch.org
END:VEVENT
BEGIN:VEVENT
DTSTART;TZID=America/Chicago:20251013T180000
DTEND;TZID=America/Chicago:20251013T190000
DTSTAMP:20260421T004608
CREATED:20250227T215503Z
LAST-MODIFIED:20251231T163530Z
UID:10019254-1760378400-1760382000@www.wlcnonline.com
SUMMARY:Co-Dependents Anonymous (CoDA) meetings by Land of Lincoln Recovery Group at Hope on 5th in Lincoln
DESCRIPTION:Meetings are free to attend and take place at 6 PM Mondays. \nEvent codes
URL:https://www.wlcnonline.com/event/co-dependents-anonymous-coda-meetings-by-land-of-lincoln-recovery-group-at-hope-on-5th-in-lincoln/2025-10-13/
LOCATION:Hope on 5th in Lincoln\, 200 5th Street\, Lincoln\, 62656\, United States
ORGANIZER;CN="Logan Mason Recovery Oriented Systems of Care (ROSC)":MAILTO:jedavis@chestnut.org
END:VEVENT
BEGIN:VEVENT
DTSTART;TZID=America/Chicago:20251013T180000
DTEND;TZID=America/Chicago:20251013T200000
DTSTAMP:20260421T004608
CREATED:20250725T024845Z
LAST-MODIFIED:20251231T163623Z
UID:10020579-1760378400-1760385600@www.wlcnonline.com
SUMMARY:Music bingo at Copper & Oak Bourbon & Craft Beer Bar in Lincoln
DESCRIPTION:Music bingo is like regular bingo\, except of numbers being called\, segments of songs are played; if you can identify the song played and it is on your bingo card\, cross it off and continue doing so until someone gets bingo. \nMusic bingo is free to play. \nEvent codes ccbin ccsoc ccfb
URL:https://www.wlcnonline.com/event/music-bingo-at-copper-oak-bourbon-craft-beer-bar-in-lincoln/2025-10-13/
LOCATION:Copper & Oak in Lincoln\, 227 N. Kickapoo Street\, Lincoln\, IL\, 62656\, United States
END:VEVENT
BEGIN:VEVENT
DTSTART;TZID=America/Chicago:20251013T190000
DTEND;TZID=America/Chicago:20251013T200000
DTSTAMP:20260421T004608
CREATED:20250227T220659Z
LAST-MODIFIED:20251231T163725Z
UID:10019361-1760382000-1760385600@www.wlcnonline.com
SUMMARY:Alcoholics Anonymous meetings at Trinity Episcopal Church in Lincoln
DESCRIPTION:Meetings are free to attend and take place at the following times: \n\nMondays at 7 PM\nWednesdays at 6 PM\nFridays at 11 AM\nSundays at 6 PM\n\nEvent codes
URL:https://www.wlcnonline.com/event/alcoholics-anonymous-meetings-at-trinity-episcopal-church-in-lincoln/2025-10-13/
LOCATION:Trinity Episcopal Church in Lincoln\, 402 Pekin Street\, Lincoln\, 62656\, United States
ORGANIZER;CN="Logan Mason Recovery Oriented Systems of Care (ROSC)":MAILTO:jedavis@chestnut.org
END:VEVENT
BEGIN:VEVENT
DTSTART;TZID=America/Chicago:20251014T163000
DTEND;TZID=America/Chicago:20251014T183000
DTSTAMP:20260421T004608
CREATED:20251003T151411Z
LAST-MODIFIED:20251023T152526Z
UID:10020897-1760459400-1760466600@www.wlcnonline.com
SUMMARY:Drive-thru flu shot clinic at Logan County Department of Public Health in Lincoln
DESCRIPTION:In addition\, the department is open Mondays through Fridays from 7:30 AM to 3:45 PM for vaccines. \nEvent codes cchwf
URL:https://www.wlcnonline.com/event/drive-thru-flu-shot-clinic-at-logan-county-department-of-public-health-in-lincoln/2025-10-14/
LOCATION:Logan County Department of Public Health\, 109 3rd Street\, Lincoln\, IL\, 62656\, United States
ORGANIZER;CN="Logan County Department of Public Health":MAILTO:info@lcdph.org
END:VEVENT
BEGIN:VEVENT
DTSTART;TZID=America/Chicago:20251014T170000
DTEND;TZID=America/Chicago:20251014T203000
DTSTAMP:20260421T004608
CREATED:20250220T233455Z
LAST-MODIFIED:20251231T163935Z
UID:10018880-1760461200-1760473800@www.wlcnonline.com
SUMMARY:Tuesday night bingo (meal @ 5 PM\, bingo @ 6:30 PM) at Oasis Senior Center in Lincoln﻿
DESCRIPTION:Bingo takes place on Tuesday evenings from 6:30 PM to 8:30 PM and is open to the public. Doors open at 5 PM for a meal\, snack and beverages. \nEvent codes ccgc ccbin ccfb ccsoc
URL:https://www.wlcnonline.com/event/tuesday-night-bingo-meal-5-pm-bingo-630-pm-at-oasis-senior-center-in-lincoln/2025-10-14/
LOCATION:Oasis Senior Center\, 2810 Woodlawn Road\, Lincoln\, IL\, 62656\, United States
ORGANIZER;CN="Oasis Senior Center":MAILTO:nancy@oasisseniorcenter.com
END:VEVENT
BEGIN:VEVENT
DTSTART;TZID=America/Chicago:20251014T180000
DTEND;TZID=America/Chicago:20251014T190000
DTSTAMP:20260421T004608
CREATED:20250227T214713Z
LAST-MODIFIED:20251231T161900Z
UID:10019044-1760464800-1760468400@www.wlcnonline.com
SUMMARY:Alcoholics Anonymous meetings by Land of Lincoln Recovery Group at Hope on 5th in Lincoln
DESCRIPTION:Meetings are free to attend and take place at 6 PM on Tuesdays\, Wednesdays\, Fridays and Saturdays as well as at 9 AM on Saturdays and Sundays. \nEvent codes
URL:https://www.wlcnonline.com/event/alcoholics-anonymous-meetings-by-land-of-lincoln-recovery-group-at-hope-on-5th-in-lincoln/2025-10-14/
LOCATION:Hope on 5th in Lincoln\, 200 5th Street\, Lincoln\, 62656\, United States
ORGANIZER;CN="Logan Mason Recovery Oriented Systems of Care (ROSC)":MAILTO:jedavis@chestnut.org
END:VEVENT
BEGIN:VEVENT
DTSTART;TZID=America/Chicago:20251014T200000
DTEND;TZID=America/Chicago:20251015T000000
DTSTAMP:20260421T004608
CREATED:20250725T022208Z
LAST-MODIFIED:20251231T164013Z
UID:10020549-1760472000-1760486400@www.wlcnonline.com
SUMMARY:Karaoke at The Rusty Rail Pub in Lincoln
DESCRIPTION:Karaoke events are scheduled at the Rusty Rail each Tuesday night from 8 PM to midnight. \nEvent codes ccfb ccent cckar
URL:https://www.wlcnonline.com/event/karaoke-at-the-rusty-rail-pub-in-lincoln/2025-10-14/
LOCATION:The Rusty Rail Pub in Lincoln\, 405 Pulaski Street\, Lincoln\, IL\, 62656\, United States
END:VEVENT
BEGIN:VEVENT
DTSTART;TZID=America/Chicago:20251015T180000
DTEND;TZID=America/Chicago:20251015T190000
DTSTAMP:20260421T004608
CREATED:20250227T214713Z
LAST-MODIFIED:20251231T161900Z
UID:10019045-1760551200-1760554800@www.wlcnonline.com
SUMMARY:Alcoholics Anonymous meetings by Land of Lincoln Recovery Group at Hope on 5th in Lincoln
DESCRIPTION:Meetings are free to attend and take place at 6 PM on Tuesdays\, Wednesdays\, Fridays and Saturdays as well as at 9 AM on Saturdays and Sundays. \nEvent codes
URL:https://www.wlcnonline.com/event/alcoholics-anonymous-meetings-by-land-of-lincoln-recovery-group-at-hope-on-5th-in-lincoln/2025-10-15/
LOCATION:Hope on 5th in Lincoln\, 200 5th Street\, Lincoln\, 62656\, United States
ORGANIZER;CN="Logan Mason Recovery Oriented Systems of Care (ROSC)":MAILTO:jedavis@chestnut.org
END:VEVENT
BEGIN:VEVENT
DTSTART;TZID=America/Chicago:20251015T180000
DTEND;TZID=America/Chicago:20251015T190000
DTSTAMP:20260421T004608
CREATED:20250227T220829Z
LAST-MODIFIED:20251231T164443Z
UID:10019405-1760551200-1760554800@www.wlcnonline.com
SUMMARY:Alcoholics Anonymous meetings at Trinity Episcopal Church in Lincoln
DESCRIPTION:Meetings are free to attend and take place at the following times: \n\nMondays at 7 PM\nWednesdays at 6 PM\nFridays at 11 AM\nSundays at 6 PM\n\nEvent codes
URL:https://www.wlcnonline.com/event/alcoholics-anonymous-meetings-at-trinity-episcopal-church-in-lincoln-2/2025-10-15/
LOCATION:Trinity Episcopal Church in Lincoln\, 402 Pekin Street\, Lincoln\, 62656\, United States
ORGANIZER;CN="Logan Mason Recovery Oriented Systems of Care (ROSC)":MAILTO:jedavis@chestnut.org
END:VEVENT
BEGIN:VEVENT
DTSTART;TZID=America/Chicago:20251015T180000
DTEND;TZID=America/Chicago:20251015T190000
DTSTAMP:20260421T004608
CREATED:20250227T221550Z
LAST-MODIFIED:20251231T171533Z
UID:10019579-1760551200-1760554800@www.wlcnonline.com
SUMMARY:Odds & Ends peer recovery support group meeting at Hardee's in Havana
DESCRIPTION:Meetings are free to attend and take place Wednesdays at 6 PM. \nEvent codes
URL:https://www.wlcnonline.com/event/odds-ends-peer-recovery-support-group-meeting-at-hardees-in-havana/2025-10-15/
LOCATION:Hardee’s in Havana\, 401 W. Dearborn Street\, Havana\, 62644\, United States
ORGANIZER;CN="Logan Mason Recovery Oriented Systems of Care (ROSC)":MAILTO:jedavis@chestnut.org
END:VEVENT
BEGIN:VEVENT
DTSTART;TZID=America/Chicago:20251015T180000
DTEND;TZID=America/Chicago:20251015T200000
DTSTAMP:20260421T004608
CREATED:20251009T211719Z
LAST-MODIFIED:20251009T211719Z
UID:10020917-1760551200-1760558400@www.wlcnonline.com
SUMMARY:Safe Zone Training event by Logan County Pride at Heartland Community College Lincoln
DESCRIPTION:Logan County Pride is proud to offer this FREE safe zone training\, providing education and tools towards LGBTQIA+ awareness in a 2-hour workshop. The curriculum will include important vocabulary and activities for attendees to further their knowledge. \nA limited number of spots are available; click here to register online.
URL:https://www.wlcnonline.com/event/safe-zone-training-event-by-logan-county-pride-at-heartland-community-college-lincoln-3/
LOCATION:Heartland Community College Lincoln\, 2201 Woodlawn Road\, Suite 200\, Lincoln\, IL\, 62656\, United States
ORGANIZER;CN="Logan County Pride":MAILTO:logancountypride@gmail.com
END:VEVENT
BEGIN:VEVENT
DTSTART;TZID=America/Chicago:20251016T100000
DTEND;TZID=America/Chicago:20251016T104500
DTSTAMP:20260421T004608
CREATED:20250904T214858Z
LAST-MODIFIED:20260115T211934Z
UID:10020753-1760608800-1760611500@www.wlcnonline.com
SUMMARY:Fall prevention/balance building class by Silver Fox Fitness at Villas of Lincoln
DESCRIPTION:This class is designed for participants to build strength and endurance to help with building balance and preventing falls. \nEvent codes cchwf ccsen
URL:https://www.wlcnonline.com/event/fall-prevention-balance-building-class-by-silver-fox-fitness-at-villas-of-lincoln/2025-10-16/
LOCATION:Villas at Lincoln (formerly The Christian Village) in Lincoln\, 1507 7th Street\, Lincoln\, IL\, 62656\, United States
END:VEVENT
BEGIN:VEVENT
DTSTART;TZID=America/Chicago:20251016T100000
DTEND;TZID=America/Chicago:20251016T113000
DTSTAMP:20260421T004608
CREATED:20251009T212106Z
LAST-MODIFIED:20251009T212106Z
UID:10020918-1760608800-1760614200@www.wlcnonline.com
SUMMARY:Drive-thru food pantry for low-income seniors at Oasis Senior Center in Lincoln
DESCRIPTION:This drive thru food pantry event is for low income seniors. Drive behind the building at 2810 Woodlawn Road\, loop around and pick up at the patio. Attendees who receive something they do not like or will not use are encourages to share the item with family or friends. \nEvent codes ccfdd
URL:https://www.wlcnonline.com/event/drive-thru-food-pantry-for-low-income-seniors-at-oasis-senior-center-in-lincoln/
LOCATION:Oasis Senior Center\, 2810 Woodlawn Road\, Lincoln\, IL\, 62656\, United States
ORGANIZER;CN="Oasis Senior Center":MAILTO:nancy@oasisseniorcenter.com
END:VEVENT
BEGIN:VEVENT
DTSTART;TZID=America/Chicago:20251016T143000
DTEND;TZID=America/Chicago:20251016T180000
DTSTAMP:20260421T004608
CREATED:20251009T170813Z
LAST-MODIFIED:20251009T170813Z
UID:10020901-1760625000-1760637600@www.wlcnonline.com
SUMMARY:Community blood drive at Crosswalk Fellowship in Delavan
DESCRIPTION:The drive runs from 2:30 PM to 6 PM. Click here to register online for a donation appointment time. \nEvent codes ccbld
URL:https://www.wlcnonline.com/event/community-blood-drive-at-crosswalk-fellowship-in-delavan-4/
LOCATION:Crosswalk Fellowship in Delavan\, 712 E. Fourth Street\, Delavan\, IL\, 61734\, United States
END:VEVENT
BEGIN:VEVENT
DTSTART;TZID=America/Chicago:20251016T160000
DTEND;TZID=America/Chicago:20251016T210000
DTSTAMP:20260421T004608
CREATED:20251009T212844Z
LAST-MODIFIED:20251009T212844Z
UID:10020919-1760630400-1760648400@www.wlcnonline.com
SUMMARY:DIRTCar Nationals racing event at Lincoln Speedway in Logan County Fairgrounds in Lincoln
DESCRIPTION:The DIRTcar Fall Nationals are back at Lincoln Speedway with optional practice day Thursday\, October 16 and full racing shows on Friday\, October 17 and Saturday\, October 18. The event will feature Super Late Models\, Pro Late Models\, Modifieds\, Pro Modifieds\, and Stock Cars. \nDIRTcar Fall Nationals \nThursday\, October 16\, 2025\nDIRTcar Fall Nationals Practice \nDivisions:\nDIRTcar Super Late Models\nDIRTcar Modifieds\nDIRTcar Pro Late Models\nDIRTcar Pro Modifieds\nDIRTcar Stock Cars \nTimes:\nPits: 4:00\nStands: 4:00\nHotlaps: 6:30 \nThursday Grandstand Pricing:\nAdults – Free\nChildren 11 & Under – Free \nFriday\, October 17\, 2025\nDIRTcar Fall Nationals Friday \nDivisions:\nDIRTcar Super Late Models\nDIRTcar Modifieds\nDIRTcar Pro Modifieds\nDIRTcar Pro Late Models \nTimes:\nPits: 3:00\nStands: 4:00\nQualifying Hotlaps: 6:00\nRacing: 7:00 \nFriday Grandstand Pricing:\nAdults (2-Day) – $45\nAdults (Friday) – $25\nChildren 11 & Under – Free \nSaturday\, October 18\, 2025\nDIRTcar Fall Nationals Saturday \nDivisions:\nDIRTcar Super Late Models\nDIRTcar Pro Late Models\nDIRTcar Modifieds\nDIRTcar Pro Modifieds\nDIRTcar Stock Cars \nTimes:\nPits: 2:00\nStands: 3:00\nQualifying Hotlaps: 5:00\nRacing: 6:00 \nSaturday Grandstand Pricing:\nAdults (Saturday) – $25\nChildren 11 & Under – Free \nTickets and pit passes will be available at the gate on raceday \nEvent codes cccavse ccfre ccmrac
URL:https://www.wlcnonline.com/event/dirtcar-nationals-racing-event-at-lincoln-speedway-in-logan-county-fairgrounds-in-lincoln/2025-10-16/
LOCATION:Lincoln Speedway at Logan County Fairgrounds\, 230 N. Postville Drive\, Lincoln\, IL\, 62656\, United States
ORGANIZER;CN="Track Enterprises":MAILTO:track@trackenterprises.com
END:VEVENT
BEGIN:VEVENT
DTSTART;TZID=America/Chicago:20251016T170000
DTEND;TZID=America/Chicago:20251016T210000
DTSTAMP:20260421T004608
CREATED:20250717T215744Z
LAST-MODIFIED:20251231T171425Z
UID:10020496-1760634000-1760648400@www.wlcnonline.com
SUMMARY:Thursday night bingo (meal @ 5 PM\, bingo @ 6:30 PM) at Eagles Lodge in Lincoln﻿
DESCRIPTION:Doors open at 5 PM with food being served. Bingo starts at 6:30 PM and includes cash prizes\, jackpots as well as jar balls. Open to the public. \nEvent codes ccfb ccgc ccsoc ccbin
URL:https://www.wlcnonline.com/event/thursday-night-bingo-meal-5-pm-bingo-630-pm-at-eagles-lodge-in-lincoln/2025-10-16/
LOCATION:Fraternal Order Of Eagles #2708 in Lincoln\, 1621 N. Kickapoo Street\, Lincoln\, IL\, 62656\, United States
END:VEVENT
BEGIN:VEVENT
DTSTART;TZID=America/Chicago:20251016T180000
DTEND;TZID=America/Chicago:20251016T190000
DTSTAMP:20260421T004608
CREATED:20250227T215251Z
LAST-MODIFIED:20251231T170747Z
UID:10019211-1760637600-1760641200@www.wlcnonline.com
SUMMARY:Narcotics Anonymous meetings by Land of Lincoln Recovery Group at Hope on 5th in Lincoln
DESCRIPTION:Meetings are free to attend and take place at 6 PM Thursdays as well as at 5 PM on Sundays. \nEvent codes
URL:https://www.wlcnonline.com/event/narcotics-anonymous-meetings-by-land-of-lincoln-recovery-group-at-hope-on-5th-in-lincoln-2/2025-10-16/
LOCATION:Hope on 5th in Lincoln\, 200 5th Street\, Lincoln\, 62656\, United States
ORGANIZER;CN="Logan Mason Recovery Oriented Systems of Care (ROSC)":MAILTO:jedavis@chestnut.org
END:VEVENT
BEGIN:VEVENT
DTSTART;TZID=America/Chicago:20251016T180000
DTEND;TZID=America/Chicago:20251016T193000
DTSTAMP:20260421T004608
CREATED:20251003T032204Z
LAST-MODIFIED:20251003T032204Z
UID:10020886-1760637600-1760643000@www.wlcnonline.com
SUMMARY:"Protect Young Eyes: Creating Safer Digital Spaces" free workshop for parents and caregivers at Zion Lutheran School in Lincoln
DESCRIPTION:Zion Lutheran School in Lincoln is hosting this free workshop for all adults in the Lincoln area. Those attending will learn real-world solutions\, smart strategies\, and tips to use right away about creating creating a tech-ready home in the age of Artificial Intelligence (AI). \nThe event is free and open to adults in the Lincoln area. Childcare will not be provided. RSVPs are required; click here to RSVP for the event. \nEvent codes ccpar ccedu
URL:https://www.wlcnonline.com/event/protect-young-eyes-creating-safer-digital-spaces-free-workshop-for-parents-and-caregivers-at-zion-lutheran-school-in-lincoln/
LOCATION:Zion Lutheran School-Lincoln\, 1600 Woodlawn Road\, Lincoln\, IL\, 62656\, United States
END:VEVENT
END:VCALENDAR