BEGIN:VCALENDAR
VERSION:2.0
PRODID:-//WLCN 96.3 FM - ECPv6.15.20//NONSGML v1.0//EN
CALSCALE:GREGORIAN
METHOD:PUBLISH
X-WR-CALNAME:WLCN 96.3 FM
X-ORIGINAL-URL:https://www.wlcnonline.com
X-WR-CALDESC:Events for WLCN 96.3 FM
REFRESH-INTERVAL;VALUE=DURATION:PT1H
X-Robots-Tag:noindex
X-PUBLISHED-TTL:PT1H
BEGIN:VTIMEZONE
TZID:America/Chicago
BEGIN:DAYLIGHT
TZOFFSETFROM:-0600
TZOFFSETTO:-0500
TZNAME:CDT
DTSTART:20250309T080000
END:DAYLIGHT
BEGIN:STANDARD
TZOFFSETFROM:-0500
TZOFFSETTO:-0600
TZNAME:CST
DTSTART:20251102T070000
END:STANDARD
BEGIN:DAYLIGHT
TZOFFSETFROM:-0600
TZOFFSETTO:-0500
TZNAME:CDT
DTSTART:20260308T080000
END:DAYLIGHT
BEGIN:STANDARD
TZOFFSETFROM:-0500
TZOFFSETTO:-0600
TZNAME:CST
DTSTART:20261101T070000
END:STANDARD
BEGIN:DAYLIGHT
TZOFFSETFROM:-0600
TZOFFSETTO:-0500
TZNAME:CDT
DTSTART:20270314T080000
END:DAYLIGHT
BEGIN:STANDARD
TZOFFSETFROM:-0500
TZOFFSETTO:-0600
TZNAME:CST
DTSTART:20271107T070000
END:STANDARD
END:VTIMEZONE
BEGIN:VEVENT
DTSTART;TZID=America/Chicago:20260520T170000
DTEND;TZID=America/Chicago:20260520T180000
DTSTAMP:20260419T095221
CREATED:20251219T020933Z
LAST-MODIFIED:20251219T021845Z
UID:10021342-1779296400-1779300000@www.wlcnonline.com
SUMMARY:Finding Hope monthly cancer support group meetings by LMH Community Health Collaborative held online and at Memorial Learning Center in Springfield
DESCRIPTION:This group is open to anyone facing any type of cancer diagnosis\, including spouse/partner\, friends and family. \nWhen: 3rd Wednesday of each month\, except December\nWhere: Memorial Learning Center (228 W Miller Street) 2nd Floor\, Room 2D\nVirtual option available! \nFor more info or to join\, contact Tia Rapps at (217) 588-5392 or rapps.tia@mhsil.com. \nEvent codes cchwf
URL:https://www.wlcnonline.com/event/finding-hope-monthly-cancer-support-group-meetings-by-lmh-community-health-collaborative-held-online-and-at-memorial-learning-center-in-springfield/2026-05-20/
LOCATION:Memorial Learning Center in Springfield\, 228 W. Miller Street\, Springfield\, 62702\, United States
END:VEVENT
BEGIN:VEVENT
DTSTART;TZID=America/Chicago:20260617T170000
DTEND;TZID=America/Chicago:20260617T180000
DTSTAMP:20260419T095221
CREATED:20251219T020933Z
LAST-MODIFIED:20251219T021845Z
UID:10021343-1781715600-1781719200@www.wlcnonline.com
SUMMARY:Finding Hope monthly cancer support group meetings by LMH Community Health Collaborative held online and at Memorial Learning Center in Springfield
DESCRIPTION:This group is open to anyone facing any type of cancer diagnosis\, including spouse/partner\, friends and family. \nWhen: 3rd Wednesday of each month\, except December\nWhere: Memorial Learning Center (228 W Miller Street) 2nd Floor\, Room 2D\nVirtual option available! \nFor more info or to join\, contact Tia Rapps at (217) 588-5392 or rapps.tia@mhsil.com. \nEvent codes cchwf
URL:https://www.wlcnonline.com/event/finding-hope-monthly-cancer-support-group-meetings-by-lmh-community-health-collaborative-held-online-and-at-memorial-learning-center-in-springfield/2026-06-17/
LOCATION:Memorial Learning Center in Springfield\, 228 W. Miller Street\, Springfield\, 62702\, United States
END:VEVENT
BEGIN:VEVENT
DTSTART;TZID=America/Chicago:20260715T170000
DTEND;TZID=America/Chicago:20260715T180000
DTSTAMP:20260419T095221
CREATED:20251219T020933Z
LAST-MODIFIED:20251219T021845Z
UID:10021344-1784134800-1784138400@www.wlcnonline.com
SUMMARY:Finding Hope monthly cancer support group meetings by LMH Community Health Collaborative held online and at Memorial Learning Center in Springfield
DESCRIPTION:This group is open to anyone facing any type of cancer diagnosis\, including spouse/partner\, friends and family. \nWhen: 3rd Wednesday of each month\, except December\nWhere: Memorial Learning Center (228 W Miller Street) 2nd Floor\, Room 2D\nVirtual option available! \nFor more info or to join\, contact Tia Rapps at (217) 588-5392 or rapps.tia@mhsil.com. \nEvent codes cchwf
URL:https://www.wlcnonline.com/event/finding-hope-monthly-cancer-support-group-meetings-by-lmh-community-health-collaborative-held-online-and-at-memorial-learning-center-in-springfield/2026-07-15/
LOCATION:Memorial Learning Center in Springfield\, 228 W. Miller Street\, Springfield\, 62702\, United States
END:VEVENT
BEGIN:VEVENT
DTSTART;TZID=America/Chicago:20260819T170000
DTEND;TZID=America/Chicago:20260819T180000
DTSTAMP:20260419T095221
CREATED:20251219T020933Z
LAST-MODIFIED:20251219T021845Z
UID:10021345-1787158800-1787162400@www.wlcnonline.com
SUMMARY:Finding Hope monthly cancer support group meetings by LMH Community Health Collaborative held online and at Memorial Learning Center in Springfield
DESCRIPTION:This group is open to anyone facing any type of cancer diagnosis\, including spouse/partner\, friends and family. \nWhen: 3rd Wednesday of each month\, except December\nWhere: Memorial Learning Center (228 W Miller Street) 2nd Floor\, Room 2D\nVirtual option available! \nFor more info or to join\, contact Tia Rapps at (217) 588-5392 or rapps.tia@mhsil.com. \nEvent codes cchwf
URL:https://www.wlcnonline.com/event/finding-hope-monthly-cancer-support-group-meetings-by-lmh-community-health-collaborative-held-online-and-at-memorial-learning-center-in-springfield/2026-08-19/
LOCATION:Memorial Learning Center in Springfield\, 228 W. Miller Street\, Springfield\, 62702\, United States
END:VEVENT
BEGIN:VEVENT
DTSTART;TZID=America/Chicago:20260916T170000
DTEND;TZID=America/Chicago:20260916T180000
DTSTAMP:20260419T095221
CREATED:20251219T020933Z
LAST-MODIFIED:20251219T021845Z
UID:10021346-1789578000-1789581600@www.wlcnonline.com
SUMMARY:Finding Hope monthly cancer support group meetings by LMH Community Health Collaborative held online and at Memorial Learning Center in Springfield
DESCRIPTION:This group is open to anyone facing any type of cancer diagnosis\, including spouse/partner\, friends and family. \nWhen: 3rd Wednesday of each month\, except December\nWhere: Memorial Learning Center (228 W Miller Street) 2nd Floor\, Room 2D\nVirtual option available! \nFor more info or to join\, contact Tia Rapps at (217) 588-5392 or rapps.tia@mhsil.com. \nEvent codes cchwf
URL:https://www.wlcnonline.com/event/finding-hope-monthly-cancer-support-group-meetings-by-lmh-community-health-collaborative-held-online-and-at-memorial-learning-center-in-springfield/2026-09-16/
LOCATION:Memorial Learning Center in Springfield\, 228 W. Miller Street\, Springfield\, 62702\, United States
END:VEVENT
BEGIN:VEVENT
DTSTART;TZID=America/Chicago:20261021T170000
DTEND;TZID=America/Chicago:20261021T180000
DTSTAMP:20260419T095221
CREATED:20251219T020933Z
LAST-MODIFIED:20251219T021845Z
UID:10021347-1792602000-1792605600@www.wlcnonline.com
SUMMARY:Finding Hope monthly cancer support group meetings by LMH Community Health Collaborative held online and at Memorial Learning Center in Springfield
DESCRIPTION:This group is open to anyone facing any type of cancer diagnosis\, including spouse/partner\, friends and family. \nWhen: 3rd Wednesday of each month\, except December\nWhere: Memorial Learning Center (228 W Miller Street) 2nd Floor\, Room 2D\nVirtual option available! \nFor more info or to join\, contact Tia Rapps at (217) 588-5392 or rapps.tia@mhsil.com. \nEvent codes cchwf
URL:https://www.wlcnonline.com/event/finding-hope-monthly-cancer-support-group-meetings-by-lmh-community-health-collaborative-held-online-and-at-memorial-learning-center-in-springfield/2026-10-21/
LOCATION:Memorial Learning Center in Springfield\, 228 W. Miller Street\, Springfield\, 62702\, United States
END:VEVENT
BEGIN:VEVENT
DTSTART;TZID=America/Chicago:20261118T170000
DTEND;TZID=America/Chicago:20261118T180000
DTSTAMP:20260419T095221
CREATED:20251219T020933Z
LAST-MODIFIED:20251219T021845Z
UID:10021348-1795021200-1795024800@www.wlcnonline.com
SUMMARY:Finding Hope monthly cancer support group meetings by LMH Community Health Collaborative held online and at Memorial Learning Center in Springfield
DESCRIPTION:This group is open to anyone facing any type of cancer diagnosis\, including spouse/partner\, friends and family. \nWhen: 3rd Wednesday of each month\, except December\nWhere: Memorial Learning Center (228 W Miller Street) 2nd Floor\, Room 2D\nVirtual option available! \nFor more info or to join\, contact Tia Rapps at (217) 588-5392 or rapps.tia@mhsil.com. \nEvent codes cchwf
URL:https://www.wlcnonline.com/event/finding-hope-monthly-cancer-support-group-meetings-by-lmh-community-health-collaborative-held-online-and-at-memorial-learning-center-in-springfield/2026-11-18/
LOCATION:Memorial Learning Center in Springfield\, 228 W. Miller Street\, Springfield\, 62702\, United States
END:VEVENT
BEGIN:VEVENT
DTSTART;TZID=America/Chicago:20261216T170000
DTEND;TZID=America/Chicago:20261216T180000
DTSTAMP:20260419T095221
CREATED:20251219T020933Z
LAST-MODIFIED:20251219T021845Z
UID:10021349-1797440400-1797444000@www.wlcnonline.com
SUMMARY:Finding Hope monthly cancer support group meetings by LMH Community Health Collaborative held online and at Memorial Learning Center in Springfield
DESCRIPTION:This group is open to anyone facing any type of cancer diagnosis\, including spouse/partner\, friends and family. \nWhen: 3rd Wednesday of each month\, except December\nWhere: Memorial Learning Center (228 W Miller Street) 2nd Floor\, Room 2D\nVirtual option available! \nFor more info or to join\, contact Tia Rapps at (217) 588-5392 or rapps.tia@mhsil.com. \nEvent codes cchwf
URL:https://www.wlcnonline.com/event/finding-hope-monthly-cancer-support-group-meetings-by-lmh-community-health-collaborative-held-online-and-at-memorial-learning-center-in-springfield/2026-12-16/
LOCATION:Memorial Learning Center in Springfield\, 228 W. Miller Street\, Springfield\, 62702\, United States
END:VEVENT
END:VCALENDAR