BEGIN:VCALENDAR
VERSION:2.0
PRODID:-//WLCN 96.3 FM - ECPv6.15.20//NONSGML v1.0//EN
CALSCALE:GREGORIAN
METHOD:PUBLISH
X-WR-CALNAME:WLCN 96.3 FM
X-ORIGINAL-URL:https://www.wlcnonline.com
X-WR-CALDESC:Events for WLCN 96.3 FM
REFRESH-INTERVAL;VALUE=DURATION:PT1H
X-Robots-Tag:noindex
X-PUBLISHED-TTL:PT1H
BEGIN:VTIMEZONE
TZID:America/Chicago
BEGIN:DAYLIGHT
TZOFFSETFROM:-0600
TZOFFSETTO:-0500
TZNAME:CDT
DTSTART:20250309T080000
END:DAYLIGHT
BEGIN:STANDARD
TZOFFSETFROM:-0500
TZOFFSETTO:-0600
TZNAME:CST
DTSTART:20251102T070000
END:STANDARD
BEGIN:DAYLIGHT
TZOFFSETFROM:-0600
TZOFFSETTO:-0500
TZNAME:CDT
DTSTART:20260308T080000
END:DAYLIGHT
BEGIN:STANDARD
TZOFFSETFROM:-0500
TZOFFSETTO:-0600
TZNAME:CST
DTSTART:20261101T070000
END:STANDARD
BEGIN:DAYLIGHT
TZOFFSETFROM:-0600
TZOFFSETTO:-0500
TZNAME:CDT
DTSTART:20270314T080000
END:DAYLIGHT
BEGIN:STANDARD
TZOFFSETFROM:-0500
TZOFFSETTO:-0600
TZNAME:CST
DTSTART:20271107T070000
END:STANDARD
END:VTIMEZONE
BEGIN:VEVENT
DTSTART;TZID=America/Chicago:20260205T170000
DTEND;TZID=America/Chicago:20260205T200000
DTSTAMP:20260419T152809
CREATED:20260129T230228Z
LAST-MODIFIED:20260129T230228Z
UID:10022458-1770310800-1770321600@www.wlcnonline.com
SUMMARY:Fundraiser for Hope on 5th at Culver's of Lincoln
DESCRIPTION:Purchase food from Culver’s of Lincoln and help support a worthy cause whether dining in\, carrying out\, using the drive-thru or ordering through DoorDash. During the hours of the fundraiser\, a portion of all proceeds will be donated to the organization. Donations will also be accepted. \nEvent codes ccfb\, ccfdd
URL:https://www.wlcnonline.com/event/fundraiser-for-hope-on-5th-at-culvers-of-lincoln-2/
LOCATION:Culver’s of Lincoln\, 2530 Woodlawn Road\, Lincoln\, IL\, 62656\, United States
ORGANIZER;CN="Hope on 5th":MAILTO:rhss2005th@gmail.com
END:VEVENT
BEGIN:VEVENT
DTSTART;TZID=America/Chicago:20260205T160000
DTEND;TZID=America/Chicago:20260205T164500
DTSTAMP:20260419T152809
CREATED:20260115T212533Z
LAST-MODIFIED:20260115T212533Z
UID:10022304-1770307200-1770309900@www.wlcnonline.com
SUMMARY:EnerChi class by Silver Fox Fitness at Oasis Senior Center in Lincoln
DESCRIPTION:The forms and stances learned and practiced in this class help build strength and balance. As always\, this class is adaptable to ALL ability levels; a chair is always close by to assist in balance or to sit if needed. \nEvent codes: ccfs\, cchwf
URL:https://www.wlcnonline.com/event/enerchi-class-by-silver-fox-fitness-at-oasis-senior-center-in-lincoln/2026-02-05/
LOCATION:Oasis Senior Center\, 2810 Woodlawn Road\, Lincoln\, IL\, 62656\, United States
END:VEVENT
BEGIN:VEVENT
DTSTART;TZID=America/Chicago:20260205T100000
DTEND;TZID=America/Chicago:20260205T104500
DTSTAMP:20260419T152810
CREATED:20250904T214858Z
LAST-MODIFIED:20260115T211934Z
UID:10022067-1770285600-1770288300@www.wlcnonline.com
SUMMARY:Fall prevention/balance building class by Silver Fox Fitness at Villas of Lincoln
DESCRIPTION:This class is designed for participants to build strength and endurance to help with building balance and preventing falls. \nEvent codes cchwf ccsen
URL:https://www.wlcnonline.com/event/fall-prevention-balance-building-class-by-silver-fox-fitness-at-villas-of-lincoln/2026-02-05/
LOCATION:Villas at Lincoln (formerly The Christian Village) in Lincoln\, 1507 7th Street\, Lincoln\, IL\, 62656\, United States
END:VEVENT
BEGIN:VEVENT
DTSTART;TZID=America/Chicago:20260204T190000
DTEND;TZID=America/Chicago:20260204T210000
DTSTAMP:20260419T152810
CREATED:20251231T172026Z
LAST-MODIFIED:20260220T140551Z
UID:10022171-1770231600-1770238800@www.wlcnonline.com
SUMMARY:Wednesday night trivia at Spirited Republic in Lincoln
DESCRIPTION:Each week features 7 rounds of trivia designed to challenge participants. \nEvent codes: ccgc\, ccsoc\, cctri
URL:https://www.wlcnonline.com/event/wednesday-night-trivia-at-spirited-republic-in-lincoln/2026-02-04/
LOCATION:Spirited Republic in Lincoln\, 509 Pulaski Street\, Lincoln\, IL\, 62656\, United States
ORGANIZER;CN="Spirited Republic/Limerick Brewing Company":MAILTO:spiritedrepublic@gmail.com
END:VEVENT
BEGIN:VEVENT
DTSTART;TZID=America/Chicago:20260204T190000
DTEND;TZID=America/Chicago:20260204T210000
DTSTAMP:20260419T152810
CREATED:20251120T195923Z
LAST-MODIFIED:20251120T200605Z
UID:10021091-1770231600-1770238800@www.wlcnonline.com
SUMMARY:Wednesday night trivia at Minier Tap in Minier
DESCRIPTION:Each weekly event features 7 rounds of trivia designed to challenge participants. \nEvent codes: ccgc\, ccsoc
URL:https://www.wlcnonline.com/event/wednesday-night-trivia-at-minier-tap-in-minier/2026-02-04/
LOCATION:Minier Tap\, 121 S. Main Avenue\, Minier\, IL\, 61759\, United States
END:VEVENT
BEGIN:VEVENT
DTSTART;TZID=America/Chicago:20260204T180000
DTEND;TZID=America/Chicago:20260204T190000
DTSTAMP:20260419T152810
CREATED:20250227T221550Z
LAST-MODIFIED:20251231T171533Z
UID:10022092-1770228000-1770231600@www.wlcnonline.com
SUMMARY:Odds & Ends peer recovery support group meeting at Hardee's in Havana
DESCRIPTION:Meetings are free to attend and take place Wednesdays at 6 PM. \nEvent codes
URL:https://www.wlcnonline.com/event/odds-ends-peer-recovery-support-group-meeting-at-hardees-in-havana/2026-02-04/
LOCATION:Hardee’s in Havana\, 401 W. Dearborn Street\, Havana\, 62644\, United States
ORGANIZER;CN="Logan Mason Recovery Oriented Systems of Care (ROSC)":MAILTO:jedavis@chestnut.org
END:VEVENT
BEGIN:VEVENT
DTSTART;TZID=America/Chicago:20260204T180000
DTEND;TZID=America/Chicago:20260204T190000
DTSTAMP:20260419T152810
CREATED:20250227T220829Z
LAST-MODIFIED:20251231T164443Z
UID:10021960-1770228000-1770231600@www.wlcnonline.com
SUMMARY:Alcoholics Anonymous meetings at Trinity Episcopal Church in Lincoln
DESCRIPTION:Meetings are free to attend and take place at the following times: \n\nMondays at 7 PM\nWednesdays at 6 PM\nFridays at 11 AM\nSundays at 6 PM\n\nEvent codes
URL:https://www.wlcnonline.com/event/alcoholics-anonymous-meetings-at-trinity-episcopal-church-in-lincoln-2/2026-02-04/
LOCATION:Trinity Episcopal Church in Lincoln\, 402 Pekin Street\, Lincoln\, 62656\, United States
ORGANIZER;CN="Logan Mason Recovery Oriented Systems of Care (ROSC)":MAILTO:jedavis@chestnut.org
END:VEVENT
BEGIN:VEVENT
DTSTART;TZID=America/Chicago:20260204T180000
DTEND;TZID=America/Chicago:20260204T190000
DTSTAMP:20260419T152810
CREATED:20250227T214713Z
LAST-MODIFIED:20251231T161900Z
UID:10021524-1770228000-1770231600@www.wlcnonline.com
SUMMARY:Alcoholics Anonymous meetings by Land of Lincoln Recovery Group at Hope on 5th in Lincoln
DESCRIPTION:Meetings are free to attend and take place at 6 PM on Tuesdays\, Wednesdays\, Fridays and Saturdays as well as at 9 AM on Saturdays and Sundays. \nEvent codes
URL:https://www.wlcnonline.com/event/alcoholics-anonymous-meetings-by-land-of-lincoln-recovery-group-at-hope-on-5th-in-lincoln/2026-02-04/
LOCATION:Hope on 5th in Lincoln\, 200 5th Street\, Lincoln\, 62656\, United States
ORGANIZER;CN="Logan Mason Recovery Oriented Systems of Care (ROSC)":MAILTO:jedavis@chestnut.org
END:VEVENT
BEGIN:VEVENT
DTSTART;TZID=America/Chicago:20260204T100000
DTEND;TZID=America/Chicago:20260204T220000
DTSTAMP:20260419T152810
CREATED:20250829T031235Z
LAST-MODIFIED:20250829T031235Z
UID:10020718-1770199200-1770242400@www.wlcnonline.com
SUMMARY:Fundraiser for West Lincoln Broadwell School at Culver's of Lincoln
DESCRIPTION:Purchase food from Culver’s of Lincoln and help support a worthy cause whether dining in\, carrying out\, using the drive-thru or ordering through DoorDash. During the hours of the fundraiser\, a portion of all proceeds will be donated to the organization. Fundraisers for all schools run all day. Those making purchases during school fundraisers must fill out a slip to designate the class to which the donation is to be credited; those ordering via DoorDash can call Culver’s (217-732-7300) to designate how the donation from their purchase should be allocated. \nEvent codes ccfb\, ccfdd
URL:https://www.wlcnonline.com/event/fundraiser-for-west-lincoln-broadwell-school-at-culvers-of-lincoln/2026-02-04/
LOCATION:Culver’s of Lincoln\, 2530 Woodlawn Road\, Lincoln\, IL\, 62656\, United States
ORGANIZER;CN="Culver's of Lincoln":MAILTO:lincolnculvers@comcast.net
END:VEVENT
BEGIN:VEVENT
DTSTART;TZID=America/Chicago:20260204T100000
DTEND;TZID=America/Chicago:20260204T130000
DTSTAMP:20260419T152810
CREATED:20251219T005847Z
LAST-MODIFIED:20251219T022353Z
UID:10021277-1770199200-1770210000@www.wlcnonline.com
SUMMARY:Lincoln Memorial Hospital Trailblazers walking group by LMH Community Health Collaborative indoors at Lincoln YMCA
DESCRIPTION:The LMH Trailblazers walking program moves indoors for winter – no registration or YMCA membership is required to participate. Bring comfortable walking shoes and a water bottle. Prizes will be randomly distributed. \nEvent codes ccsoc cchwf
URL:https://www.wlcnonline.com/event/lincoln-memorial-hospital-trailblazers-walking-group-by-lmh-community-health-collaborative-indoors-at-lincoln-ymca/2026-02-04/
LOCATION:Lincoln Area YMCA\, 719 Wyatt Avenue\, Lincoln\, IL\, 62656\, United States
END:VEVENT
BEGIN:VEVENT
DTSTART;TZID=America/Chicago:20260203T200000
DTEND;TZID=America/Chicago:20260204T000000
DTSTAMP:20260419T152810
CREATED:20260129T002901Z
LAST-MODIFIED:20260216T023314Z
UID:10022370-1770148800-1770163200@www.wlcnonline.com
SUMMARY:Karaoke (February theme: The Aughts) at The Rusty Rail Pub in Lincoln
DESCRIPTION:Karaoke events are scheduled at the Rusty Rail each Tuesday night from 8 PM to midnight. Please note that February’s theme is the decade of The Aughts (2000-2009) \nEvent codes ccfb  ccent cckar cclm
URL:https://www.wlcnonline.com/event/karaoke-february-theme-the-aughts-at-the-rusty-rail-pub-in-lincoln/2026-02-03/
LOCATION:The Rusty Rail Pub in Lincoln\, 405 Pulaski Street\, Lincoln\, IL\, 62656\, United States
END:VEVENT
BEGIN:VEVENT
DTSTART;TZID=America/Chicago:20260203T183000
DTEND;TZID=America/Chicago:20260203T193000
DTSTAMP:20260419T152810
CREATED:20260129T003009Z
LAST-MODIFIED:20260326T173320Z
UID:10022374-1770143400-1770147000@www.wlcnonline.com
SUMMARY:Olympia FFA alumni meeting at Olympia High School
DESCRIPTION:Anyone interested in supporting the program is welcome to attend. The meeting takes place in the Ag Room at the high school; those attending should enter through the rear shop door. \nEvent codes ccag ccedu
URL:https://www.wlcnonline.com/event/olympia-ffa-alumni-meeting-at-olympia-high-school-3/2026-02-03/
LOCATION:Olympia High School in rural Stanford\, 7832 North 100 East Road\, Stanford\, IL\, 61774\, United States
ORGANIZER;CN="Olympia FFA Alumni":MAILTO:olympiaffaalumni@gmail.com
END:VEVENT
BEGIN:VEVENT
DTSTART;TZID=America/Chicago:20260203T180000
DTEND;TZID=America/Chicago:20260203T190000
DTSTAMP:20260419T152810
CREATED:20250227T214713Z
LAST-MODIFIED:20251231T161900Z
UID:10021523-1770141600-1770145200@www.wlcnonline.com
SUMMARY:Alcoholics Anonymous meetings by Land of Lincoln Recovery Group at Hope on 5th in Lincoln
DESCRIPTION:Meetings are free to attend and take place at 6 PM on Tuesdays\, Wednesdays\, Fridays and Saturdays as well as at 9 AM on Saturdays and Sundays. \nEvent codes
URL:https://www.wlcnonline.com/event/alcoholics-anonymous-meetings-by-land-of-lincoln-recovery-group-at-hope-on-5th-in-lincoln/2026-02-03/
LOCATION:Hope on 5th in Lincoln\, 200 5th Street\, Lincoln\, 62656\, United States
ORGANIZER;CN="Logan Mason Recovery Oriented Systems of Care (ROSC)":MAILTO:jedavis@chestnut.org
END:VEVENT
BEGIN:VEVENT
DTSTART;TZID=America/Chicago:20260203T170000
DTEND;TZID=America/Chicago:20260203T203000
DTSTAMP:20260419T152810
CREATED:20250220T233455Z
LAST-MODIFIED:20251231T163935Z
UID:10021908-1770138000-1770150600@www.wlcnonline.com
SUMMARY:Tuesday night bingo (meal @ 5 PM\, bingo @ 6:30 PM) at Oasis Senior Center in Lincoln﻿
DESCRIPTION:Bingo takes place on Tuesday evenings from 6:30 PM to 8:30 PM and is open to the public. Doors open at 5 PM for a meal\, snack and beverages. \nEvent codes ccgc ccbin ccfb ccsoc
URL:https://www.wlcnonline.com/event/tuesday-night-bingo-meal-5-pm-bingo-630-pm-at-oasis-senior-center-in-lincoln/2026-02-03/
LOCATION:Oasis Senior Center\, 2810 Woodlawn Road\, Lincoln\, IL\, 62656\, United States
ORGANIZER;CN="Oasis Senior Center":MAILTO:nancy@oasisseniorcenter.com
END:VEVENT
BEGIN:VEVENT
DTSTART;TZID=America/Chicago:20260203T150000
DTEND;TZID=America/Chicago:20260203T170000
DTSTAMP:20260419T152810
CREATED:20260128T232158Z
LAST-MODIFIED:20260128T232158Z
UID:10022369-1770130800-1770138000@www.wlcnonline.com
SUMMARY:Afterschool programming for junior high students Spring 2026 kickoff at The Center for Creativity & Community in Lincoln
DESCRIPTION:The Center for Creativity and Community will begin its afterschool programming for junior high students with a kickoff event on Tuesday\, February 3 at 3 PM. \nEvent codes ccedu
URL:https://www.wlcnonline.com/event/afterschool-programming-for-junior-high-students-spring-2026-kickoff-at-the-center-for-creativity-community-in-lincoln/
LOCATION:Center for Creativity and Collaboration in Lincoln\, 301 Pekin Street\, Lincoln\, 62656\, United States
ORGANIZER;CN="Center for Community and Collaboration":MAILTO:thecenter4creativitycommunity@gmail.com
END:VEVENT
BEGIN:VEVENT
DTSTART;TZID=America/Chicago:20260203T120000
DTEND;TZID=America/Chicago:20260203T170000
DTSTAMP:20260419T152810
CREATED:20260122T211523Z
LAST-MODIFIED:20260122T211523Z
UID:10022365-1770120000-1770138000@www.wlcnonline.com
SUMMARY:Community blood drive hosted by Lincoln Woman's Club at Lincoln Park District
DESCRIPTION:The GFWC Lincoln Woman’s Club will host this blood drive from noon to 5 PM at the Lincoln Park District. Click here to reserve a time online. \nEvent codes: ccbld\, ccserv
URL:https://www.wlcnonline.com/event/community-blood-drive-hosted-by-lincoln-womans-club-at-lincoln-park-district/
LOCATION:Lincoln Park District\, 1400 Primm Road\, Lincoln\, IL\, 62656\, United States
ORGANIZER;CN="Lincoln Park District":MAILTO:info@lincolnparkdistrict.com
END:VEVENT
BEGIN:VEVENT
DTSTART;TZID=America/Chicago:20260202T190000
DTEND;TZID=America/Chicago:20260202T200000
DTSTAMP:20260419T152810
CREATED:20250227T220659Z
LAST-MODIFIED:20251231T163725Z
UID:10021882-1770058800-1770062400@www.wlcnonline.com
SUMMARY:Alcoholics Anonymous meetings at Trinity Episcopal Church in Lincoln
DESCRIPTION:Meetings are free to attend and take place at the following times: \n\nMondays at 7 PM\nWednesdays at 6 PM\nFridays at 11 AM\nSundays at 6 PM\n\nEvent codes
URL:https://www.wlcnonline.com/event/alcoholics-anonymous-meetings-at-trinity-episcopal-church-in-lincoln/2026-02-02/
LOCATION:Trinity Episcopal Church in Lincoln\, 402 Pekin Street\, Lincoln\, 62656\, United States
ORGANIZER;CN="Logan Mason Recovery Oriented Systems of Care (ROSC)":MAILTO:jedavis@chestnut.org
END:VEVENT
BEGIN:VEVENT
DTSTART;TZID=America/Chicago:20260202T180000
DTEND;TZID=America/Chicago:20260202T200000
DTSTAMP:20260419T152810
CREATED:20250725T024845Z
LAST-MODIFIED:20251231T163623Z
UID:10021856-1770055200-1770062400@www.wlcnonline.com
SUMMARY:Music bingo at Copper & Oak Bourbon & Craft Beer Bar in Lincoln
DESCRIPTION:Music bingo is like regular bingo\, except of numbers being called\, segments of songs are played; if you can identify the song played and it is on your bingo card\, cross it off and continue doing so until someone gets bingo. \nMusic bingo is free to play. \nEvent codes ccbin ccsoc ccfb
URL:https://www.wlcnonline.com/event/music-bingo-at-copper-oak-bourbon-craft-beer-bar-in-lincoln/2026-02-02/
LOCATION:Copper & Oak in Lincoln\, 227 N. Kickapoo Street\, Lincoln\, IL\, 62656\, United States
END:VEVENT
BEGIN:VEVENT
DTSTART;TZID=America/Chicago:20260202T180000
DTEND;TZID=America/Chicago:20260202T190000
DTSTAMP:20260419T152810
CREATED:20250227T215503Z
LAST-MODIFIED:20251231T163530Z
UID:10021830-1770055200-1770058800@www.wlcnonline.com
SUMMARY:Co-Dependents Anonymous (CoDA) meetings by Land of Lincoln Recovery Group at Hope on 5th in Lincoln
DESCRIPTION:Meetings are free to attend and take place at 6 PM Mondays. \nEvent codes
URL:https://www.wlcnonline.com/event/co-dependents-anonymous-coda-meetings-by-land-of-lincoln-recovery-group-at-hope-on-5th-in-lincoln/2026-02-02/
LOCATION:Hope on 5th in Lincoln\, 200 5th Street\, Lincoln\, 62656\, United States
ORGANIZER;CN="Logan Mason Recovery Oriented Systems of Care (ROSC)":MAILTO:jedavis@chestnut.org
END:VEVENT
BEGIN:VEVENT
DTSTART;TZID=America/Chicago:20260202T160000
DTEND;TZID=America/Chicago:20260202T164500
DTSTAMP:20260419T152810
CREATED:20250703T173916Z
LAST-MODIFIED:20260129T224408Z
UID:10022418-1770048000-1770050700@www.wlcnonline.com
SUMMARY:Chair yoga by Silver Fox Fitness at Oasis Senior Center in Lincoln﻿
DESCRIPTION:Seated and standing poses will be utilized with the goal of increasing flexibility\, balance and strength along with providing relaxation. Participants never get down on the floor. \nEvent codes: ccfs\, cchwf
URL:https://www.wlcnonline.com/event/chair-yoga-by-silver-fox-fitness-at-oasis-senior-center-in-lincoln-2-2/2026-02-02/
LOCATION:Oasis Senior Center\, 2810 Woodlawn Road\, Lincoln\, IL\, 62656\, United States
END:VEVENT
BEGIN:VEVENT
DTSTART;TZID=America/Chicago:20260202T150000
DTEND;TZID=America/Chicago:20260202T154500
DTSTAMP:20260419T152810
CREATED:20260115T051012Z
LAST-MODIFIED:20260115T152819Z
UID:10022269-1770044400-1770047100@www.wlcnonline.com
SUMMARY:EnerChi class by Silver Fox Fitness at Oasis Senior Center in Lincoln
DESCRIPTION:The forms and stances learned and practiced in this class help build strength and balance. As always\, this class is adaptable to ALL ability levels; a chair is always close by to assist in balance or to sit if needed. \nEvent codes: ccfs\, cchwf
URL:https://www.wlcnonline.com/event/enerchi-class-by-silver-fox-fitness-at-oasis-senior-center-in-lincoln-103/2026-02-02/
LOCATION:Oasis Senior Center\, 2810 Woodlawn Road\, Lincoln\, IL\, 62656\, United States
END:VEVENT
BEGIN:VEVENT
DTSTART;TZID=America/Chicago:20260202T103000
DTEND;TZID=America/Chicago:20260202T113000
DTSTAMP:20260419T152810
CREATED:20251219T015017Z
LAST-MODIFIED:20251219T022320Z
UID:10021314-1770028200-1770031800@www.wlcnonline.com
SUMMARY:Mind Matters monthly grief and caregiver support group meetings by LMH Community Health Collaborative at Lincoln Memorial Hospital in Lincoln
DESCRIPTION:Meetings are free to attend and are held the first Monday of each month in the Wombacher Room at Lincoln Memorial Hospital. \nThe Mind Matters Support Group is open to adults only and is especially designed for members of our community who struggle with: \n\nLoneliness\nGrief and loss\nCaregiver fatigue\nWays to improve their own mental health or cope\nDevelopment of social support and connection\nSupporting the mental health of family or a friend\nAccessing mental health resources\n\nEvent codes cchwf
URL:https://www.wlcnonline.com/event/mind-matters-monthly-grief-and-caregiver-support-group-meetings-by-lmh-community-health-collaborative-at-lincoln-memorial-hospital-in-lincoln/2026-02-02/
LOCATION:Lincoln Memorial Hospital\, 200 Stahlhut Drive\, Lincoln\, IL\, 62656\, United States
END:VEVENT
BEGIN:VEVENT
DTSTART;TZID=America/Chicago:20260202T100000
DTEND;TZID=America/Chicago:20260202T104500
DTSTAMP:20260419T152810
CREATED:20250814T215225Z
LAST-MODIFIED:20260115T152229Z
UID:10021804-1770026400-1770029100@www.wlcnonline.com
SUMMARY:Chair yoga by Silver Fox Fitness at The Villas at Lincoln﻿
DESCRIPTION:Seated and standing poses will be utilized with the goal of increasing flexibility\, balance and strength along with providing relaxation. Participants never get down on the floor. \nEvent codes: ccfs\, cchwf
URL:https://www.wlcnonline.com/event/chair-yoga-by-silver-fox-fitness-at-the-villas-at-lincoln/2026-02-02/
LOCATION:Villas at Lincoln (formerly The Christian Village) in Lincoln\, 1507 7th Street\, Lincoln\, IL\, 62656\, United States
END:VEVENT
BEGIN:VEVENT
DTSTART;TZID=America/Chicago:20260201T180000
DTEND;TZID=America/Chicago:20260201T190000
DTSTAMP:20260419T152810
CREATED:20250227T221038Z
LAST-MODIFIED:20251231T162443Z
UID:10021690-1769968800-1769972400@www.wlcnonline.com
SUMMARY:Alcoholics Anonymous meetings at Trinity Episcopal Church in Lincoln
DESCRIPTION:Meetings are free to attend and take place at the following times: \n\nMondays at 7 PM\nWednesdays at 6 PM\nFridays at 11 AM\nSundays at 6 PM\n\nEvent codes
URL:https://www.wlcnonline.com/event/alcoholics-anonymous-meetings-at-trinity-episcopal-church-in-lincoln-4/2026-02-01/
LOCATION:Trinity Episcopal Church in Lincoln\, 402 Pekin Street\, Lincoln\, 62656\, United States
ORGANIZER;CN="Logan Mason Recovery Oriented Systems of Care (ROSC)":MAILTO:jedavis@chestnut.org
END:VEVENT
BEGIN:VEVENT
DTSTART;TZID=America/Chicago:20260201T170000
DTEND;TZID=America/Chicago:20260201T180000
DTSTAMP:20260419T152810
CREATED:20250227T215139Z
LAST-MODIFIED:20251231T162319Z
UID:10021664-1769965200-1769968800@www.wlcnonline.com
SUMMARY:Narcotics Anonymous meetings by Land of Lincoln Recovery Group at Hope on 5th in Lincoln
DESCRIPTION:Meetings are free to attend and take place at 6 PM Thursdays as well as at 5 PM on Sundays. \nEvent codes
URL:https://www.wlcnonline.com/event/narcotics-anonymous-meetings-by-land-of-lincoln-recovery-group-at-hope-on-5th-in-lincoln/2026-02-01/
LOCATION:Hope on 5th in Lincoln\, 200 5th Street\, Lincoln\, 62656\, United States
ORGANIZER;CN="Logan Mason Recovery Oriented Systems of Care (ROSC)":MAILTO:jedavis@chestnut.org
END:VEVENT
BEGIN:VEVENT
DTSTART;TZID=America/Chicago:20260201T140000
DTEND;TZID=America/Chicago:20260201T160000
DTSTAMP:20260419T152810
CREATED:20240607T073345Z
LAST-MODIFIED:20251231T163021Z
UID:10021749-1769954400-1769961600@www.wlcnonline.com
SUMMARY:Xtreme Bar Bingo at The Next Stop Saloon in Mt. Pulaski
DESCRIPTION:Games take place every Sunday from 2 PM to 4 PM. \nEvent codes ccfb ccbin
URL:https://www.wlcnonline.com/event/xtreme-bar-bingo-at-the-next-stop-saloon-in-mt-pulaski/2026-02-01/
LOCATION:The Next Stop Saloon in Mt. Pulaski\, 100 E. Cooke Street\, Mt. Pulaski\, IL\, 62548\, United States
END:VEVENT
BEGIN:VEVENT
DTSTART;TZID=America/Chicago:20260201T110000
DTEND;TZID=America/Chicago:20260201T140000
DTSTAMP:20260419T152810
CREATED:20260122T203602Z
LAST-MODIFIED:20260122T203602Z
UID:10022361-1769943600-1769954400@www.wlcnonline.com
SUMMARY:2nd Annual Candy Class at Ollie’s Diner and Candy Shoppe in New Holland
DESCRIPTION:The event is being offered during Valentine season this year. All ages are welcome\, but those 12 and under must be accompanied by an adult. \nCost is $40 per person and includes buffet style luncheon with  choice of Italian chicken or pulled pork. Attendees also get to take their handmade chocolates home. There will be milk\, white\, or dark chocolate options available. Call or text (217) 870-7880 or send an email to olliesdiner@hotmail.com reserve a spot; registration deadline is Jan 30. \nEvent codes ccfb ccsoc
URL:https://www.wlcnonline.com/event/2nd-annual-candy-class-at-ollies-diner-and-candy-shoppe-in-new-holland/
LOCATION:Ollie’s Diner and Sweet Shoppe in New Holland\, 103 W. Lincoln Street\, New Holland\, IL\, 62671\, United States
ORGANIZER;CN="Ollie's Diner and Sweet Shoppe in New Holland":MAILTO:Olliesdiner@hotmail.com
END:VEVENT
BEGIN:VEVENT
DTSTART;TZID=America/Chicago:20260201T090000
DTEND;TZID=America/Chicago:20260201T100000
DTSTAMP:20260419T152810
CREATED:20250227T214918Z
LAST-MODIFIED:20251231T162155Z
UID:10021617-1769936400-1769940000@www.wlcnonline.com
SUMMARY:Alcoholics Anonymous meetings by Land of Lincoln Recovery Group at Hope on 5th in Lincoln
DESCRIPTION:Meetings are free to attend and take place at 6 PM on Tuesdays\, Wednesdays\, Fridays and Saturdays as well as at 9 AM on Saturdays and Sundays. \nEvent codes
URL:https://www.wlcnonline.com/event/alcoholics-anonymous-meetings-by-land-of-lincoln-recovery-group-at-hope-on-5th-in-lincoln-2/2026-02-01/
LOCATION:Hope on 5th in Lincoln\, 200 5th Street\, Lincoln\, 62656\, United States
ORGANIZER;CN="Logan Mason Recovery Oriented Systems of Care (ROSC)":MAILTO:jedavis@chestnut.org
END:VEVENT
BEGIN:VEVENT
DTSTART;TZID=America/Chicago:20260131T200000
DTEND;TZID=America/Chicago:20260201T000000
DTSTAMP:20260419T152810
CREATED:20260128T230404Z
LAST-MODIFIED:20260128T230404Z
UID:10022367-1769889600-1769904000@www.wlcnonline.com
SUMMARY:Luau with karaoke at The Thirsty Rooster in Middletown
DESCRIPTION:Wear a favorite Hawaiian shirt and shades\, enjoy karaoke by Future Entertainment and help shake off the winter blues at this luau event. \nEvent codes cckar ccfb ccsoc ccent
URL:https://www.wlcnonline.com/event/luau-with-karaoke-at-the-thirsty-rooster-in-middletown/
LOCATION:The Thirsty Rooster in Middletown\, 104 South Madison Street\, Middletown\, IL\, 62666\, United States
ORGANIZER;CN="The Thirsty Rooster":MAILTO:thethirstyrooster@yahoo.com
END:VEVENT
BEGIN:VEVENT
DTSTART;TZID=America/Chicago:20260131T200000
DTEND;TZID=America/Chicago:20260201T000000
DTSTAMP:20260419T152810
CREATED:20251231T212300Z
LAST-MODIFIED:20260216T023148Z
UID:10022222-1769889600-1769904000@www.wlcnonline.com
SUMMARY:Classic country karaoke night (through January 2026) at The Next Stop Saloon in Mt. Pulaski
DESCRIPTION:The January events will feature classic country. \nEvent codes ccent cckar cclm
URL:https://www.wlcnonline.com/event/classic-country-karaoke-night-through-january-2026-at-the-next-stop-saloon-in-mt-pulaski/2026-01-31/
LOCATION:The Next Stop Saloon in Mt. Pulaski\, 100 E. Cooke Street\, Mt. Pulaski\, IL\, 62548\, United States
END:VEVENT
END:VCALENDAR