BEGIN:VCALENDAR
VERSION:2.0
PRODID:-//WLCN 96.3 FM - ECPv6.15.20//NONSGML v1.0//EN
CALSCALE:GREGORIAN
METHOD:PUBLISH
X-WR-CALNAME:WLCN 96.3 FM
X-ORIGINAL-URL:https://www.wlcnonline.com
X-WR-CALDESC:Events for WLCN 96.3 FM
REFRESH-INTERVAL;VALUE=DURATION:PT1H
X-Robots-Tag:noindex
X-PUBLISHED-TTL:PT1H
BEGIN:VTIMEZONE
TZID:America/Chicago
BEGIN:DAYLIGHT
TZOFFSETFROM:-0600
TZOFFSETTO:-0500
TZNAME:CDT
DTSTART:20240310T080000
END:DAYLIGHT
BEGIN:STANDARD
TZOFFSETFROM:-0500
TZOFFSETTO:-0600
TZNAME:CST
DTSTART:20241103T070000
END:STANDARD
BEGIN:DAYLIGHT
TZOFFSETFROM:-0600
TZOFFSETTO:-0500
TZNAME:CDT
DTSTART:20250309T080000
END:DAYLIGHT
BEGIN:STANDARD
TZOFFSETFROM:-0500
TZOFFSETTO:-0600
TZNAME:CST
DTSTART:20251102T070000
END:STANDARD
BEGIN:DAYLIGHT
TZOFFSETFROM:-0600
TZOFFSETTO:-0500
TZNAME:CDT
DTSTART:20260308T080000
END:DAYLIGHT
BEGIN:STANDARD
TZOFFSETFROM:-0500
TZOFFSETTO:-0600
TZNAME:CST
DTSTART:20261101T070000
END:STANDARD
END:VTIMEZONE
BEGIN:VEVENT
DTSTART;TZID=America/Chicago:20250425T190000
DTEND;TZID=America/Chicago:20250425T220000
DTSTAMP:20260425T162311
CREATED:20250416T224113Z
LAST-MODIFIED:20250416T224113Z
UID:10019903-1745607600-1745618400@www.wlcnonline.com
SUMMARY:Live music by Aces & Eights at the Irish Circle in Wapella
DESCRIPTION:Aces & Eights brings its catalog of classic and prime country to the Irish Circle. \nEvent codes ccfb ccsoc cclm ccent
URL:https://www.wlcnonline.com/event/live-music-by-aces-eights-at-the-irish-circle-in-wapella/
LOCATION:The Irish Circle in Wapella\, 405 N Walnut Street\, Wapella\, IL\, 61777\, United States
END:VEVENT
BEGIN:VEVENT
DTSTART;TZID=America/Chicago:20250425T180000
DTEND;TZID=America/Chicago:20250425T190000
DTSTAMP:20260425T162311
CREATED:20250227T214713Z
LAST-MODIFIED:20251231T161900Z
UID:10018946-1745604000-1745607600@www.wlcnonline.com
SUMMARY:Alcoholics Anonymous meetings by Land of Lincoln Recovery Group at Hope on 5th in Lincoln
DESCRIPTION:Meetings are free to attend and take place at 6 PM on Tuesdays\, Wednesdays\, Fridays and Saturdays as well as at 9 AM on Saturdays and Sundays. \nEvent codes
URL:https://www.wlcnonline.com/event/alcoholics-anonymous-meetings-by-land-of-lincoln-recovery-group-at-hope-on-5th-in-lincoln/2025-04-25/
LOCATION:Hope on 5th in Lincoln\, 200 5th Street\, Lincoln\, 62656\, United States
ORGANIZER;CN="Logan Mason Recovery Oriented Systems of Care (ROSC)":MAILTO:jedavis@chestnut.org
END:VEVENT
BEGIN:VEVENT
DTSTART;TZID=America/Chicago:20250425T170000
DTEND;TZID=America/Chicago:20250425T200000
DTSTAMP:20260425T162311
CREATED:20250416T223616Z
LAST-MODIFIED:20250416T223616Z
UID:10019902-1745600400-1745611200@www.wlcnonline.com
SUMMARY:Girls' night out (spring edition) at The Lodge Off 66 in rural Hartsburg
DESCRIPTION:A Co Z will have their boutique truck parked out back\, and inside attendees will find Shellz Suds Goat Soap\, Sapphire Blue Jewelry and Tasty Baked Treats. \nEvent codes cclbep ccfb
URL:https://www.wlcnonline.com/event/girls-night-out-spring-edition-at-the-lodge-off-66-in-rural-hartsburg-2/
LOCATION:The Lodge off 66 in rural Hartsburg\, 2265 900th Avenue\, Hartsburg\, IL\, 62643\, United States
END:VEVENT
BEGIN:VEVENT
DTSTART;TZID=America/Chicago:20250425T120000
DTEND;TZID=America/Chicago:20250425T133000
DTSTAMP:20260425T162311
CREATED:20250227T221857Z
LAST-MODIFIED:20251231T161051Z
UID:10019599-1745582400-1745587800@www.wlcnonline.com
SUMMARY:SMART (Self-Management and Recovery Training) recovery meetings at Hope on 5th in Lincoln
DESCRIPTION:Meetings are free to attend and take place Fridays from noon to 1:30 PM. \nEvent codes
URL:https://www.wlcnonline.com/event/smart-self-management-and-recovery-training-recovery-meetings-at-hope-on-5th-in-lincoln/2025-04-25/
LOCATION:Hope on 5th in Lincoln\, 200 5th Street\, Lincoln\, 62656\, United States
ORGANIZER;CN="Logan Mason Recovery Oriented Systems of Care (ROSC)":MAILTO:jedavis@chestnut.org
END:VEVENT
BEGIN:VEVENT
DTSTART;TZID=America/Chicago:20250425T110000
DTEND;TZID=America/Chicago:20250425T120000
DTSTAMP:20260425T162311
CREATED:20250227T220937Z
LAST-MODIFIED:20251231T160939Z
UID:10019424-1745578800-1745582400@www.wlcnonline.com
SUMMARY:Alcoholics Anonymous meetings at Trinity Episcopal Church in Lincoln
DESCRIPTION:Meetings are free to attend and take place at the following times: \n\nMondays at 7 PM\nWednesdays at 6 PM\nFridays at 11 AM\nSundays at 6 PM\n\nEvent codes
URL:https://www.wlcnonline.com/event/alcoholics-anonymous-meetings-at-trinity-episcopal-church-in-lincoln-3/2025-04-25/
LOCATION:Trinity Episcopal Church in Lincoln\, 402 Pekin Street\, Lincoln\, 62656\, United States
ORGANIZER;CN="Logan Mason Recovery Oriented Systems of Care (ROSC)":MAILTO:jedavis@chestnut.org
END:VEVENT
BEGIN:VEVENT
DTSTART;TZID=America/Chicago:20250425T100000
DTEND;TZID=America/Chicago:20250425T104500
DTSTAMP:20260425T162311
CREATED:20250403T194149Z
LAST-MODIFIED:20250403T194149Z
UID:10019840-1745575200-1745577900@www.wlcnonline.com
SUMMARY:Cardio and strength training by Silver Fox Fitness at Lincoln VFW Hall
DESCRIPTION:The sessions feature low-impact exercises to increase strength and endurance which are adaptable to any ability level. \nEvent codes: ccfs\, cchwf
URL:https://www.wlcnonline.com/event/cardio-and-strength-training-by-silver-fox-fitness-at-lincoln-vfw-hall/2025-04-25/
LOCATION:VFW Post 1756 Freedom Hall Event Center in Lincoln\, 915 5th Street\, Lincoln\, IL\, 62656\, United States
END:VEVENT
BEGIN:VEVENT
DTSTART;TZID=America/Chicago:20250425T080000
DTEND;TZID=America/Chicago:20250425T140000
DTSTAMP:20260425T162311
CREATED:20250408T153246Z
LAST-MODIFIED:20250408T153246Z
UID:10019894-1745568000-1745589600@www.wlcnonline.com
SUMMARY:2025 electronics recycling event for Logan County residents sponsored by the City of Lincoln
DESCRIPTION:The City of Lincoln will hold electronics recycling days April 21 through April 25 at the Lincoln Municipal Services Building on Limit Street in Lincoln. \nThe event is open to Logan County residents/residential users only–no commercial users. When dropping off items: \n\nEnter/exit on Limit Street.\nEnter into Door 4 on the Eastside of the Lincoln Municipal Services Building (signs will be posted).\nAn attendant will be on site to check ID’s and addresses.\nYou must unload your electronics yourself.\n\nFor a list of acceptable and unacceptable items as well as quantities accepted\, click the flyer image on this page. \nEvent codes ccfre
URL:https://www.wlcnonline.com/event/2025-electronics-recycling-event-for-logan-county-residents-sponsored-by-the-city-of-lincoln/2025-04-25/
LOCATION:City of Lincoln Municipal Services Building\, 313 Limit Street\, Lincoln\, IL\, 62656\, United States
END:VEVENT
END:VCALENDAR