BEGIN:VCALENDAR
VERSION:2.0
PRODID:-//WLCN 96.3 FM - ECPv6.15.20//NONSGML v1.0//EN
CALSCALE:GREGORIAN
METHOD:PUBLISH
X-WR-CALNAME:WLCN 96.3 FM
X-ORIGINAL-URL:https://www.wlcnonline.com
X-WR-CALDESC:Events for WLCN 96.3 FM
REFRESH-INTERVAL;VALUE=DURATION:PT1H
X-Robots-Tag:noindex
X-PUBLISHED-TTL:PT1H
BEGIN:VTIMEZONE
TZID:America/Chicago
BEGIN:DAYLIGHT
TZOFFSETFROM:-0600
TZOFFSETTO:-0500
TZNAME:CDT
DTSTART:20240310T080000
END:DAYLIGHT
BEGIN:STANDARD
TZOFFSETFROM:-0500
TZOFFSETTO:-0600
TZNAME:CST
DTSTART:20241103T070000
END:STANDARD
BEGIN:DAYLIGHT
TZOFFSETFROM:-0600
TZOFFSETTO:-0500
TZNAME:CDT
DTSTART:20250309T080000
END:DAYLIGHT
BEGIN:STANDARD
TZOFFSETFROM:-0500
TZOFFSETTO:-0600
TZNAME:CST
DTSTART:20251102T070000
END:STANDARD
BEGIN:DAYLIGHT
TZOFFSETFROM:-0600
TZOFFSETTO:-0500
TZNAME:CDT
DTSTART:20260308T080000
END:DAYLIGHT
BEGIN:STANDARD
TZOFFSETFROM:-0500
TZOFFSETTO:-0600
TZNAME:CST
DTSTART:20261101T070000
END:STANDARD
END:VTIMEZONE
BEGIN:VEVENT
DTSTART;TZID=America/Chicago:20250530T090000
DTEND;TZID=America/Chicago:20250530T150000
DTSTAMP:20260424T202428
CREATED:20250417T145555Z
LAST-MODIFIED:20250522T180637Z
UID:10019962-1748595600-1748617200@www.wlcnonline.com
SUMMARY:Free safe sitter babysitting class at Lincoln Memorial Hospital
DESCRIPTION:All participants will learn the safety skills needed to care for babysitting children. \nThe LMH Auxiliary offers this class free of charge. Attendees may bring a lunch or purchase lunch in the cafeteria. \nThe course will be offered on three dates: May 30\, July 9 and August 4 at Lincoln Memorial Hospital. Each class takes place from 9 AM to 3 PM in the Steinfort Conference Rooms at Lincoln Memorial Hospital. Students will use mannequins to practice lifesaving skills. There will also be role playing\, games and activities as students learn how to handle everyday situations that could present a risk to children’s safety\, including what to do when severe weather occurs. \nSpace is limited; those interested should register in advance. Click here to complete the online registration form.  \nEvent codes ccedu ccteen ccfre
URL:https://www.wlcnonline.com/event/free-safe-sitter-babysitting-class-at-lincoln-memorial-hospital/2025-05-30/
LOCATION:Steinfort Conference Rooms at Lincoln Memorial Hospital\, 200 Stahlhut Drive\, Lincoln\, IL\, 62656\, United States
END:VEVENT
BEGIN:VEVENT
DTSTART;VALUE=DATE:20250530
DTEND;VALUE=DATE:20250601
DTSTAMP:20260424T202428
CREATED:20250417T133059Z
LAST-MODIFIED:20250417T133059Z
UID:10019942-1748574000-1748660399@www.wlcnonline.com
SUMMARY:May "Miles of Sunshine Challenge" month-long virtual walking event by LMH Community Health Collaborative
DESCRIPTION:Participants are invited to step into spring with Miles of Sunshine\, a month-long walking challenge running the entire month of May 2025. Participants can track their cumulative miles using the Pacer 4 Teams app (free to all participants). Click this link to visit the information page about the event; use your phone to scan the QR code on that page to download the Pacer app and join the challenge. Participants who walk 75\, 125\, 175\, or 225 miles will earn a special club-level T-shirt. \nEvent codes ccfre cchwf
URL:https://www.wlcnonline.com/event/may-miles-of-sunshine-challenge-month-long-virtual-walking-event-by-lmh-community-health-collaborative/2025-05-30/
LOCATION:IL
END:VEVENT
BEGIN:VEVENT
DTSTART;TZID=America/Chicago:20250529T190000
DTEND;TZID=America/Chicago:20250529T220000
DTSTAMP:20260424T202428
CREATED:20250213T051033Z
LAST-MODIFIED:20250602T141945Z
UID:10018368-1748545200-1748556000@www.wlcnonline.com
SUMMARY:Open mic night at Spirited Republic in Lincoln
DESCRIPTION:Spirited Republic open mic nights are a solo acoustic musical experiment with the goal of cultivating friendship\, support and good times amongst musicians\, comedians\, poets and artists of all kinds. Performers are asked to bring their own instruments (no drum sets; hand drums and percussion equipment only). \nEvent codes: ccent\, ccfb\, cclm\, ccsoc
URL:https://www.wlcnonline.com/event/open-mic-night-at-spirited-republic-in-lincoln/2025-05-29/
LOCATION:Spirited Republic in Lincoln\, 509 Pulaski Street\, Lincoln\, IL\, 62656\, United States
ORGANIZER;CN="Spirited Republic/Limerick Brewing Company":MAILTO:spiritedrepublic@gmail.com
END:VEVENT
BEGIN:VEVENT
DTSTART;TZID=America/Chicago:20250529T190000
DTEND;TZID=America/Chicago:20250529T203000
DTSTAMP:20260424T202428
CREATED:20250522T180449Z
LAST-MODIFIED:20250522T180449Z
UID:10020108-1748545200-1748550600@www.wlcnonline.com
SUMMARY:Music bingo (1980s) (food/drinks @ 5:30 PM; bingo at 7 PM) at LaTeaDa Cafe/Barn Bar/Events in Clinton
DESCRIPTION:Kicking off this year’s music bingo season with great hits from the 1980s. If a song on your card is played\, cross it off; the first person one to bingo wins a fun prize. \nMusic Bingo is free to play; participants must be 18 or older. \nNo reservations are needed. No outside food or drink allowed. The Barn Bar & Outdoor Kitchen begins serving at 5:30 PM before the games begin at 7 PM. \nEvent codes: ccent\, ccfb\, cfre\, ccgc\, ccdj
URL:https://www.wlcnonline.com/event/music-bingo-1980s-food-drinks-530-pm-bingo-at-7-pm-at-lateada-cafe-barn-bar-events-in-clinton/
LOCATION:LaTeaDa Cafe/Barn Bar/Events in Clinton\, 1100 S. Madison Street\, Clinton\, IL\, 61727\, United States
ORGANIZER;CN="LaTeaDa Cafe/Barn Bar/Events":MAILTO:lateadaladies@gmail.com
END:VEVENT
BEGIN:VEVENT
DTSTART;TZID=America/Chicago:20250529T190000
DTEND;TZID=America/Chicago:20250529T200000
DTSTAMP:20260424T202428
CREATED:20250227T221223Z
LAST-MODIFIED:20251231T171824Z
UID:10019516-1748545200-1748548800@www.wlcnonline.com
SUMMARY:Alcoholics Anonymous meetings at Atlanta Community House in Atlanta
DESCRIPTION:Meetings are free to attend and take place Thursdays at 7 PM. \nEvent codes
URL:https://www.wlcnonline.com/event/alcoholics-anonymous-meetings-at-atlanta-community-house-in-atlanta/2025-05-29/
LOCATION:Atlanta Memorial Community House\, 106 SW 6th Street\, Atlanta\, IL\, 61723\, United States
ORGANIZER;CN="Logan Mason Recovery Oriented Systems of Care (ROSC)":MAILTO:jedavis@chestnut.org
END:VEVENT
BEGIN:VEVENT
DTSTART;TZID=America/Chicago:20250529T190000
DTEND;TZID=America/Chicago:20250529T200000
DTSTAMP:20260424T202428
CREATED:20250227T220255Z
LAST-MODIFIED:20251231T170522Z
UID:10019298-1748545200-1748548800@www.wlcnonline.com
SUMMARY:Celebrate recovery events at Open Arms Christian Fellowship in Lincoln
DESCRIPTION:Events take place on Thursday evenings with snacks served at 6 PM and the meeting starting at 7 PM.
URL:https://www.wlcnonline.com/event/celebrate-recovery-events-at-open-arms-christian-fellowship-in-lincoln/2025-05-29/
LOCATION:Open Arms Christian Fellowship\, 1321 State Route 10\, Lincoln\, IL\, 62656\, United States
ORGANIZER;CN="Hope on 5th":MAILTO:rhss2005th@gmail.com
END:VEVENT
BEGIN:VEVENT
DTSTART;TZID=America/Chicago:20250529T190000
DTEND;TZID=America/Chicago:20250529T190000
DTSTAMP:20260424T202428
CREATED:20240329T042327Z
LAST-MODIFIED:20251231T163130Z
UID:10016946-1748545200-1748545200@www.wlcnonline.com
SUMMARY:Xtreme Bar Bingo at The Rusty Rail in Lincoln
DESCRIPTION:Xtreme Bar Bingo is bingo game with awesome prizes. The Rusty Rail features Xtreme Bar Bingo on Thursday nights beginning at 7 PM. \nEvent codes: ccgc\, ccsoc ccbin
URL:https://www.wlcnonline.com/event/xtreme-bar-bingo-at-the-rusty-rail-in-lincoln/2025-05-29/
LOCATION:The Rusty Rail Pub in Lincoln\, 405 Pulaski Street\, Lincoln\, IL\, 62656\, United States
END:VEVENT
BEGIN:VEVENT
DTSTART;TZID=America/Chicago:20250529T180000
DTEND;TZID=America/Chicago:20250529T190000
DTSTAMP:20260424T202428
CREATED:20250227T215251Z
LAST-MODIFIED:20251231T170747Z
UID:10019191-1748541600-1748545200@www.wlcnonline.com
SUMMARY:Narcotics Anonymous meetings by Land of Lincoln Recovery Group at Hope on 5th in Lincoln
DESCRIPTION:Meetings are free to attend and take place at 6 PM Thursdays as well as at 5 PM on Sundays. \nEvent codes
URL:https://www.wlcnonline.com/event/narcotics-anonymous-meetings-by-land-of-lincoln-recovery-group-at-hope-on-5th-in-lincoln-2/2025-05-29/
LOCATION:Hope on 5th in Lincoln\, 200 5th Street\, Lincoln\, 62656\, United States
ORGANIZER;CN="Logan Mason Recovery Oriented Systems of Care (ROSC)":MAILTO:jedavis@chestnut.org
END:VEVENT
BEGIN:VEVENT
DTSTART;TZID=America/Chicago:20250529T100000
DTEND;TZID=America/Chicago:20250529T104500
DTSTAMP:20260424T202428
CREATED:20250109T220309Z
LAST-MODIFIED:20250403T210913Z
UID:10019878-1748512800-1748515500@www.wlcnonline.com
SUMMARY:Fall prevention/balance building class by Silver Fox Fitness at Lincoln YMCA
DESCRIPTION:This class is designed for participants to build strength and endurance to help with building balance and preventing falls. \nEvent codes cchwf ccsen
URL:https://www.wlcnonline.com/event/fall-prevention-balance-building-class-by-silver-fox-fitness-at-lincoln-ymca-2/2025-05-29/
LOCATION:Lincoln Area YMCA\, 719 Wyatt Avenue\, Lincoln\, IL\, 62656\, United States
END:VEVENT
BEGIN:VEVENT
DTSTART;VALUE=DATE:20250529
DTEND;VALUE=DATE:20250531
DTSTAMP:20260424T202428
CREATED:20250417T133059Z
LAST-MODIFIED:20250417T133059Z
UID:10019941-1748487600-1748573999@www.wlcnonline.com
SUMMARY:May "Miles of Sunshine Challenge" month-long virtual walking event by LMH Community Health Collaborative
DESCRIPTION:Participants are invited to step into spring with Miles of Sunshine\, a month-long walking challenge running the entire month of May 2025. Participants can track their cumulative miles using the Pacer 4 Teams app (free to all participants). Click this link to visit the information page about the event; use your phone to scan the QR code on that page to download the Pacer app and join the challenge. Participants who walk 75\, 125\, 175\, or 225 miles will earn a special club-level T-shirt. \nEvent codes ccfre cchwf
URL:https://www.wlcnonline.com/event/may-miles-of-sunshine-challenge-month-long-virtual-walking-event-by-lmh-community-health-collaborative/2025-05-29/
LOCATION:IL
END:VEVENT
BEGIN:VEVENT
DTSTART;TZID=America/Chicago:20250528T180000
DTEND;TZID=America/Chicago:20250528T235900
DTSTAMP:20260424T202428
CREATED:20250508T140922Z
LAST-MODIFIED:20250508T140922Z
UID:10020073-1748455200-1748476740@www.wlcnonline.com
SUMMARY:Bike night at The Rusty Rail Pub in Lincoln
DESCRIPTION:Bike Nights are back on Wednesdays through thru October 8. Enjoy drinks\, games\, contests\, prizes and of course bikes Wednesdays starting at 6 PM. \nEvent codes cclbep ccfb ccsoc
URL:https://www.wlcnonline.com/event/bike-night-at-the-rusty-rail-pub-in-lincoln/2025-05-28/
LOCATION:The Rusty Rail Pub in Lincoln\, 405 Pulaski Street\, Lincoln\, IL\, 62656\, United States
END:VEVENT
BEGIN:VEVENT
DTSTART;TZID=America/Chicago:20250528T180000
DTEND;TZID=America/Chicago:20250528T190000
DTSTAMP:20260424T202428
CREATED:20250423T160306Z
LAST-MODIFIED:20250425T050736Z
UID:10019973-1748455200-1748458800@www.wlcnonline.com
SUMMARY:Weight loss challenge at LoCo Nutrition in Lincoln
DESCRIPTION:This weekly program runs through June 4 and can be used by participants to lose weight\, gain energy\, or just feel their best. \nEvent codes cchwf cclbep
URL:https://www.wlcnonline.com/event/weight-loss-challenge-at-loco-nutrition-in-lincoln/2025-05-28/
LOCATION:LoCo Nutrition in Lincoln\, 622 N. Chicago Street\, Lincoln\, IL\, 62656\, United States
END:VEVENT
BEGIN:VEVENT
DTSTART;TZID=America/Chicago:20250528T180000
DTEND;TZID=America/Chicago:20250528T190000
DTSTAMP:20260424T202428
CREATED:20250227T221550Z
LAST-MODIFIED:20251231T171533Z
UID:10019559-1748455200-1748458800@www.wlcnonline.com
SUMMARY:Odds & Ends peer recovery support group meeting at Hardee's in Havana
DESCRIPTION:Meetings are free to attend and take place Wednesdays at 6 PM. \nEvent codes
URL:https://www.wlcnonline.com/event/odds-ends-peer-recovery-support-group-meeting-at-hardees-in-havana/2025-05-28/
LOCATION:Hardee’s in Havana\, 401 W. Dearborn Street\, Havana\, 62644\, United States
ORGANIZER;CN="Logan Mason Recovery Oriented Systems of Care (ROSC)":MAILTO:jedavis@chestnut.org
END:VEVENT
BEGIN:VEVENT
DTSTART;TZID=America/Chicago:20250528T180000
DTEND;TZID=America/Chicago:20250528T190000
DTSTAMP:20260424T202428
CREATED:20250227T220829Z
LAST-MODIFIED:20251231T164443Z
UID:10019385-1748455200-1748458800@www.wlcnonline.com
SUMMARY:Alcoholics Anonymous meetings at Trinity Episcopal Church in Lincoln
DESCRIPTION:Meetings are free to attend and take place at the following times: \n\nMondays at 7 PM\nWednesdays at 6 PM\nFridays at 11 AM\nSundays at 6 PM\n\nEvent codes
URL:https://www.wlcnonline.com/event/alcoholics-anonymous-meetings-at-trinity-episcopal-church-in-lincoln-2/2025-05-28/
LOCATION:Trinity Episcopal Church in Lincoln\, 402 Pekin Street\, Lincoln\, 62656\, United States
ORGANIZER;CN="Logan Mason Recovery Oriented Systems of Care (ROSC)":MAILTO:jedavis@chestnut.org
END:VEVENT
BEGIN:VEVENT
DTSTART;TZID=America/Chicago:20250528T180000
DTEND;TZID=America/Chicago:20250528T190000
DTSTAMP:20260424T202428
CREATED:20250227T214713Z
LAST-MODIFIED:20251231T161900Z
UID:10018965-1748455200-1748458800@www.wlcnonline.com
SUMMARY:Alcoholics Anonymous meetings by Land of Lincoln Recovery Group at Hope on 5th in Lincoln
DESCRIPTION:Meetings are free to attend and take place at 6 PM on Tuesdays\, Wednesdays\, Fridays and Saturdays as well as at 9 AM on Saturdays and Sundays. \nEvent codes
URL:https://www.wlcnonline.com/event/alcoholics-anonymous-meetings-by-land-of-lincoln-recovery-group-at-hope-on-5th-in-lincoln/2025-05-28/
LOCATION:Hope on 5th in Lincoln\, 200 5th Street\, Lincoln\, 62656\, United States
ORGANIZER;CN="Logan Mason Recovery Oriented Systems of Care (ROSC)":MAILTO:jedavis@chestnut.org
END:VEVENT
BEGIN:VEVENT
DTSTART;VALUE=DATE:20250528
DTEND;VALUE=DATE:20250530
DTSTAMP:20260424T202428
CREATED:20250417T133059Z
LAST-MODIFIED:20250417T133059Z
UID:10019940-1748401200-1748487599@www.wlcnonline.com
SUMMARY:May "Miles of Sunshine Challenge" month-long virtual walking event by LMH Community Health Collaborative
DESCRIPTION:Participants are invited to step into spring with Miles of Sunshine\, a month-long walking challenge running the entire month of May 2025. Participants can track their cumulative miles using the Pacer 4 Teams app (free to all participants). Click this link to visit the information page about the event; use your phone to scan the QR code on that page to download the Pacer app and join the challenge. Participants who walk 75\, 125\, 175\, or 225 miles will earn a special club-level T-shirt. \nEvent codes ccfre cchwf
URL:https://www.wlcnonline.com/event/may-miles-of-sunshine-challenge-month-long-virtual-walking-event-by-lmh-community-health-collaborative/2025-05-28/
LOCATION:IL
END:VEVENT
BEGIN:VEVENT
DTSTART;TZID=America/Chicago:20250527T180000
DTEND;TZID=America/Chicago:20250527T190000
DTSTAMP:20260424T202428
CREATED:20250227T214713Z
LAST-MODIFIED:20251231T161900Z
UID:10018964-1748368800-1748372400@www.wlcnonline.com
SUMMARY:Alcoholics Anonymous meetings by Land of Lincoln Recovery Group at Hope on 5th in Lincoln
DESCRIPTION:Meetings are free to attend and take place at 6 PM on Tuesdays\, Wednesdays\, Fridays and Saturdays as well as at 9 AM on Saturdays and Sundays. \nEvent codes
URL:https://www.wlcnonline.com/event/alcoholics-anonymous-meetings-by-land-of-lincoln-recovery-group-at-hope-on-5th-in-lincoln/2025-05-27/
LOCATION:Hope on 5th in Lincoln\, 200 5th Street\, Lincoln\, 62656\, United States
ORGANIZER;CN="Logan Mason Recovery Oriented Systems of Care (ROSC)":MAILTO:jedavis@chestnut.org
END:VEVENT
BEGIN:VEVENT
DTSTART;TZID=America/Chicago:20250527T170000
DTEND;TZID=America/Chicago:20250527T203000
DTSTAMP:20260424T202428
CREATED:20250220T233455Z
LAST-MODIFIED:20251231T163935Z
UID:10018860-1748365200-1748377800@www.wlcnonline.com
SUMMARY:Tuesday night bingo (meal @ 5 PM\, bingo @ 6:30 PM) at Oasis Senior Center in Lincoln﻿
DESCRIPTION:Bingo takes place on Tuesday evenings from 6:30 PM to 8:30 PM and is open to the public. Doors open at 5 PM for a meal\, snack and beverages. \nEvent codes ccgc ccbin ccfb ccsoc
URL:https://www.wlcnonline.com/event/tuesday-night-bingo-meal-5-pm-bingo-630-pm-at-oasis-senior-center-in-lincoln/2025-05-27/
LOCATION:Oasis Senior Center\, 2810 Woodlawn Road\, Lincoln\, IL\, 62656\, United States
ORGANIZER;CN="Oasis Senior Center":MAILTO:nancy@oasisseniorcenter.com
END:VEVENT
BEGIN:VEVENT
DTSTART;VALUE=DATE:20250527
DTEND;VALUE=DATE:20250529
DTSTAMP:20260424T202428
CREATED:20250417T133059Z
LAST-MODIFIED:20250417T133059Z
UID:10019939-1748314800-1748401199@www.wlcnonline.com
SUMMARY:May "Miles of Sunshine Challenge" month-long virtual walking event by LMH Community Health Collaborative
DESCRIPTION:Participants are invited to step into spring with Miles of Sunshine\, a month-long walking challenge running the entire month of May 2025. Participants can track their cumulative miles using the Pacer 4 Teams app (free to all participants). Click this link to visit the information page about the event; use your phone to scan the QR code on that page to download the Pacer app and join the challenge. Participants who walk 75\, 125\, 175\, or 225 miles will earn a special club-level T-shirt. \nEvent codes ccfre cchwf
URL:https://www.wlcnonline.com/event/may-miles-of-sunshine-challenge-month-long-virtual-walking-event-by-lmh-community-health-collaborative/2025-05-27/
LOCATION:IL
END:VEVENT
BEGIN:VEVENT
DTSTART;TZID=America/Chicago:20250526T190000
DTEND;TZID=America/Chicago:20250526T200000
DTSTAMP:20260424T202428
CREATED:20250227T220659Z
LAST-MODIFIED:20251231T163725Z
UID:10019341-1748286000-1748289600@www.wlcnonline.com
SUMMARY:Alcoholics Anonymous meetings at Trinity Episcopal Church in Lincoln
DESCRIPTION:Meetings are free to attend and take place at the following times: \n\nMondays at 7 PM\nWednesdays at 6 PM\nFridays at 11 AM\nSundays at 6 PM\n\nEvent codes
URL:https://www.wlcnonline.com/event/alcoholics-anonymous-meetings-at-trinity-episcopal-church-in-lincoln/2025-05-26/
LOCATION:Trinity Episcopal Church in Lincoln\, 402 Pekin Street\, Lincoln\, 62656\, United States
ORGANIZER;CN="Logan Mason Recovery Oriented Systems of Care (ROSC)":MAILTO:jedavis@chestnut.org
END:VEVENT
BEGIN:VEVENT
DTSTART;TZID=America/Chicago:20250526T180000
DTEND;TZID=America/Chicago:20250526T200000
DTSTAMP:20260424T202428
CREATED:20240926T041522Z
LAST-MODIFIED:20240926T041522Z
UID:10016851-1748282400-1748289600@www.wlcnonline.com
SUMMARY:Xtreme Bar Bingo at Stag R Inn in Emden
DESCRIPTION:Enjoy Xtreme Bar Bingo along with drink and food specials each week. Participants will have the chance to win prizes and cash. \nEvent codes: ccgc\, ccsoc ccbin
URL:https://www.wlcnonline.com/event/xtreme-bar-bingo-at-stag-r-inn-in-emden-2/2025-05-26/
LOCATION:Stag R Inn in Emden\, 102 Lincoln Street\, Emden\, IL\, 62635\, United States
END:VEVENT
BEGIN:VEVENT
DTSTART;TZID=America/Chicago:20250526T180000
DTEND;TZID=America/Chicago:20250526T190000
DTSTAMP:20260424T202428
CREATED:20250227T215503Z
LAST-MODIFIED:20251231T163530Z
UID:10019234-1748282400-1748286000@www.wlcnonline.com
SUMMARY:Co-Dependents Anonymous (CoDA) meetings by Land of Lincoln Recovery Group at Hope on 5th in Lincoln
DESCRIPTION:Meetings are free to attend and take place at 6 PM Mondays. \nEvent codes
URL:https://www.wlcnonline.com/event/co-dependents-anonymous-coda-meetings-by-land-of-lincoln-recovery-group-at-hope-on-5th-in-lincoln/2025-05-26/
LOCATION:Hope on 5th in Lincoln\, 200 5th Street\, Lincoln\, 62656\, United States
ORGANIZER;CN="Logan Mason Recovery Oriented Systems of Care (ROSC)":MAILTO:jedavis@chestnut.org
END:VEVENT
BEGIN:VEVENT
DTSTART;TZID=America/Chicago:20250526T160000
DTEND;TZID=America/Chicago:20250526T164500
DTSTAMP:20260424T202428
CREATED:20250327T011644Z
LAST-MODIFIED:20250327T011644Z
UID:10019772-1748275200-1748277900@www.wlcnonline.com
SUMMARY:Chair yoga by Silver Fox Fitness at Oasis Senior Center in Lincoln﻿
DESCRIPTION:Seated and standing poses will be utilized with the goal of increasing flexibility\, balance and strength along with providing relaxation. Participants never get down on the floor. \nEvent codes: ccfs\, cchwf
URL:https://www.wlcnonline.com/event/chair-yoga-by-silver-fox-fitness-at-oasis-senior-center-in-lincoln-2/2025-05-26/
LOCATION:Oasis Senior Center\, 2810 Woodlawn Road\, Lincoln\, IL\, 62656\, United States
END:VEVENT
BEGIN:VEVENT
DTSTART;TZID=America/Chicago:20250526T100000
DTEND;TZID=America/Chicago:20250526T104500
DTSTAMP:20260424T202428
CREATED:20250403T194442Z
LAST-MODIFIED:20250403T194442Z
UID:10019853-1748253600-1748256300@www.wlcnonline.com
SUMMARY:Chair yoga by Silver Fox Fitness at Lincoln VFW Hall
DESCRIPTION:Seated and standing poses will be utilized with the goal of increasing flexibility\, balance and strength along with providing relaxation. Participants never get down on the floor. \nEvent codes: ccfs\, cchwf
URL:https://www.wlcnonline.com/event/chair-yoga-by-silver-fox-fitness-at-lincoln-vfw-hall/2025-05-26/
LOCATION:VFW Post 1756 Freedom Hall Event Center in Lincoln\, 915 5th Street\, Lincoln\, IL\, 62656\, United States
END:VEVENT
BEGIN:VEVENT
DTSTART;TZID=America/Chicago:20250526T100000
DTEND;TZID=America/Chicago:20250526T100000
DTSTAMP:20260424T202429
CREATED:20250522T180246Z
LAST-MODIFIED:20250522T180246Z
UID:10020107-1748253600-1748253600@www.wlcnonline.com
SUMMARY:Fallen\, But Not Forgotten: open viewing of Armed Forces Memorial Hall at Atlanta Public Museum
DESCRIPTION:Following the Memorial Day Service on the Atlanta Public Library lawn\, the public is invited to view the Armed Forces Memorial Hall in the Atlanta Public Museum. The Memorial Hall is dedicated to those who served from Atlanta. In addition to the artifacts displayed (some of which date back to the Civil War)\, the Wall of Honor displays the portraits of men and women of Atlanta who served or are serving\, listing their branch\, years served\, conflicts\, honors and stories that have been shared. \nEvent codes ccfre ccedu
URL:https://www.wlcnonline.com/event/fallen-but-not-forgotten-open-viewing-of-armed-forces-memorial-hall-at-atlanta-public-museum/
LOCATION:Atlanta Public Museum\, 114 Arch Street\, Atlanta\, 61723\, United States
ORGANIZER;CN="Atlanta Public Library District":MAILTO:apldinformation@gmail.com
END:VEVENT
BEGIN:VEVENT
DTSTART;VALUE=DATE:20250526
DTEND;VALUE=DATE:20250528
DTSTAMP:20260424T202429
CREATED:20250417T133059Z
LAST-MODIFIED:20250417T133059Z
UID:10019938-1748228400-1748314799@www.wlcnonline.com
SUMMARY:May "Miles of Sunshine Challenge" month-long virtual walking event by LMH Community Health Collaborative
DESCRIPTION:Participants are invited to step into spring with Miles of Sunshine\, a month-long walking challenge running the entire month of May 2025. Participants can track their cumulative miles using the Pacer 4 Teams app (free to all participants). Click this link to visit the information page about the event; use your phone to scan the QR code on that page to download the Pacer app and join the challenge. Participants who walk 75\, 125\, 175\, or 225 miles will earn a special club-level T-shirt. \nEvent codes ccfre cchwf
URL:https://www.wlcnonline.com/event/may-miles-of-sunshine-challenge-month-long-virtual-walking-event-by-lmh-community-health-collaborative/2025-05-26/
LOCATION:IL
END:VEVENT
BEGIN:VEVENT
DTSTART;TZID=America/Chicago:20250525T180000
DTEND;TZID=America/Chicago:20250525T190000
DTSTAMP:20260424T202429
CREATED:20250227T221038Z
LAST-MODIFIED:20251231T162443Z
UID:10019472-1748196000-1748199600@www.wlcnonline.com
SUMMARY:Alcoholics Anonymous meetings at Trinity Episcopal Church in Lincoln
DESCRIPTION:Meetings are free to attend and take place at the following times: \n\nMondays at 7 PM\nWednesdays at 6 PM\nFridays at 11 AM\nSundays at 6 PM\n\nEvent codes
URL:https://www.wlcnonline.com/event/alcoholics-anonymous-meetings-at-trinity-episcopal-church-in-lincoln-4/2025-05-25/
LOCATION:Trinity Episcopal Church in Lincoln\, 402 Pekin Street\, Lincoln\, 62656\, United States
ORGANIZER;CN="Logan Mason Recovery Oriented Systems of Care (ROSC)":MAILTO:jedavis@chestnut.org
END:VEVENT
BEGIN:VEVENT
DTSTART;TZID=America/Chicago:20250525T170000
DTEND;TZID=America/Chicago:20250525T180000
DTSTAMP:20260424T202429
CREATED:20250227T215139Z
LAST-MODIFIED:20251231T162319Z
UID:10019647-1748192400-1748196000@www.wlcnonline.com
SUMMARY:Narcotics Anonymous meetings by Land of Lincoln Recovery Group at Hope on 5th in Lincoln
DESCRIPTION:Meetings are free to attend and take place at 6 PM Thursdays as well as at 5 PM on Sundays. \nEvent codes
URL:https://www.wlcnonline.com/event/narcotics-anonymous-meetings-by-land-of-lincoln-recovery-group-at-hope-on-5th-in-lincoln/2025-05-25/
LOCATION:Hope on 5th in Lincoln\, 200 5th Street\, Lincoln\, 62656\, United States
ORGANIZER;CN="Logan Mason Recovery Oriented Systems of Care (ROSC)":MAILTO:jedavis@chestnut.org
END:VEVENT
BEGIN:VEVENT
DTSTART;TZID=America/Chicago:20250525T140000
DTEND;TZID=America/Chicago:20250525T160000
DTSTAMP:20260424T202429
CREATED:20240607T073345Z
LAST-MODIFIED:20251231T163021Z
UID:10016984-1748181600-1748188800@www.wlcnonline.com
SUMMARY:Xtreme Bar Bingo at The Next Stop Saloon in Mt. Pulaski
DESCRIPTION:Games take place every Sunday from 2 PM to 4 PM. \nEvent codes ccfb ccbin
URL:https://www.wlcnonline.com/event/xtreme-bar-bingo-at-the-next-stop-saloon-in-mt-pulaski/2025-05-25/
LOCATION:The Next Stop Saloon in Mt. Pulaski\, 100 E. Cooke Street\, Mt. Pulaski\, IL\, 62548\, United States
END:VEVENT
BEGIN:VEVENT
DTSTART;TZID=America/Chicago:20250525T090000
DTEND;TZID=America/Chicago:20250525T140000
DTSTAMP:20260424T202429
CREATED:20250515T165223Z
LAST-MODIFIED:20250618T231140Z
UID:10020098-1748163600-1748181600@www.wlcnonline.com
SUMMARY:2025 Williamsville Makers Market at Interurban Merchant in Williamsville
DESCRIPTION:The Williamsville Makers Market takes place in downtown Williamsville every fourth Sunday between May and September from 9 AM to 2 PM. Events feature live music and local goods from local merchants. \nEvent codes ccfb ccent cclm ccvs
URL:https://www.wlcnonline.com/event/2025-williamsville-makers-market-at-interurban-merchant-in-williamsville/2025-05-25/
LOCATION:Interurban Merchant in Williamsville\, 112 W. Main Street\, Williamsville\, IL\, 62693\, United States
ORGANIZER;CN="Interurban Merchant":MAILTO:interurbanmerchant@gmail.com
END:VEVENT
END:VCALENDAR