BEGIN:VCALENDAR
VERSION:2.0
PRODID:-//WLCN 96.3 FM - ECPv6.15.20//NONSGML v1.0//EN
CALSCALE:GREGORIAN
METHOD:PUBLISH
X-WR-CALNAME:WLCN 96.3 FM
X-ORIGINAL-URL:https://www.wlcnonline.com
X-WR-CALDESC:Events for WLCN 96.3 FM
REFRESH-INTERVAL;VALUE=DURATION:PT1H
X-Robots-Tag:noindex
X-PUBLISHED-TTL:PT1H
BEGIN:VTIMEZONE
TZID:America/Chicago
BEGIN:DAYLIGHT
TZOFFSETFROM:-0600
TZOFFSETTO:-0500
TZNAME:CDT
DTSTART:20240310T080000
END:DAYLIGHT
BEGIN:STANDARD
TZOFFSETFROM:-0500
TZOFFSETTO:-0600
TZNAME:CST
DTSTART:20241103T070000
END:STANDARD
BEGIN:DAYLIGHT
TZOFFSETFROM:-0600
TZOFFSETTO:-0500
TZNAME:CDT
DTSTART:20250309T080000
END:DAYLIGHT
BEGIN:STANDARD
TZOFFSETFROM:-0500
TZOFFSETTO:-0600
TZNAME:CST
DTSTART:20251102T070000
END:STANDARD
BEGIN:DAYLIGHT
TZOFFSETFROM:-0600
TZOFFSETTO:-0500
TZNAME:CDT
DTSTART:20260308T080000
END:DAYLIGHT
BEGIN:STANDARD
TZOFFSETFROM:-0500
TZOFFSETTO:-0600
TZNAME:CST
DTSTART:20261101T070000
END:STANDARD
END:VTIMEZONE
BEGIN:VEVENT
DTSTART;TZID=America/Chicago:20250704T090000
DTEND;TZID=America/Chicago:20250704T110000
DTSTAMP:20260424T053722
CREATED:20250701T135932Z
LAST-MODIFIED:20250701T135932Z
UID:10020376-1751619600-1751626800@www.wlcnonline.com
SUMMARY:Live music by Mark playing American classics at Interurban Merchant in Williamsville
DESCRIPTION:The public is invited to attend and listen to one of Williamsville’s most talented acoustic musicians playing a salute to American classics. \nEvent codes cclm ccent ccsoc ccfb
URL:https://www.wlcnonline.com/event/live-music-by-mark-playing-american-classics-at-interurban-merchant-in-williamsville/
LOCATION:Interurban Merchant in Williamsville\, 112 W. Main Street\, Williamsville\, IL\, 62693\, United States
ORGANIZER;CN="Interurban Merchant":MAILTO:interurbanmerchant@gmail.com
END:VEVENT
BEGIN:VEVENT
DTSTART;TZID=America/Chicago:20250703T190000
DTEND;TZID=America/Chicago:20250703T230000
DTSTAMP:20260424T053722
CREATED:20250626T142910Z
LAST-MODIFIED:20250626T142910Z
UID:10020308-1751569200-1751583600@www.wlcnonline.com
SUMMARY:Full racing program featuring Brandt Red\, White\, and Blue Triple 30’s at Lincoln Speedway
DESCRIPTION:BRANDT Red\, White\, & Blue Triple 30’s \nDivisions:\nDIRTcar Pro Late Model 30\nDIRTcar Modified 30\nDIRTcar Street Stock 30\nMARA Midgets\nPro Mod \nTimes:\nPits: 4 PM\nStands: 5 PM\nLocal Pill Draw Ends: 5:50 PM\nHotlaps: 6 PM\nRacing: 7 PM \nGrandstand Pricing:\nAdults – $15\nChildren 11 & Under – Free \nTickets as well as all pit passes will be sold at track on raceday \nEvent codes ccmrac cccavse ccgc
URL:https://www.wlcnonline.com/event/full-racing-program-featuring-brandt-red-white-and-blue-triple-30s-at-lincoln-speedway/
LOCATION:Lincoln Speedway at Logan County Fairgrounds\, 230 N. Postville Drive\, Lincoln\, IL\, 62656\, United States
ORGANIZER;CN="Track Enterprises":MAILTO:track@trackenterprises.com
END:VEVENT
BEGIN:VEVENT
DTSTART;TZID=America/Chicago:20250703T190000
DTEND;TZID=America/Chicago:20250703T220000
DTSTAMP:20260424T053722
CREATED:20250213T051033Z
LAST-MODIFIED:20250602T141945Z
UID:10018373-1751569200-1751580000@www.wlcnonline.com
SUMMARY:Open mic night at Spirited Republic in Lincoln
DESCRIPTION:Spirited Republic open mic nights are a solo acoustic musical experiment with the goal of cultivating friendship\, support and good times amongst musicians\, comedians\, poets and artists of all kinds. Performers are asked to bring their own instruments (no drum sets; hand drums and percussion equipment only). \nEvent codes: ccent\, ccfb\, cclm\, ccsoc
URL:https://www.wlcnonline.com/event/open-mic-night-at-spirited-republic-in-lincoln/2025-07-03/
LOCATION:Spirited Republic in Lincoln\, 509 Pulaski Street\, Lincoln\, IL\, 62656\, United States
ORGANIZER;CN="Spirited Republic/Limerick Brewing Company":MAILTO:spiritedrepublic@gmail.com
END:VEVENT
BEGIN:VEVENT
DTSTART;TZID=America/Chicago:20250703T190000
DTEND;TZID=America/Chicago:20250703T200000
DTSTAMP:20260424T053722
CREATED:20250227T221223Z
LAST-MODIFIED:20251231T171824Z
UID:10019521-1751569200-1751572800@www.wlcnonline.com
SUMMARY:Alcoholics Anonymous meetings at Atlanta Community House in Atlanta
DESCRIPTION:Meetings are free to attend and take place Thursdays at 7 PM. \nEvent codes
URL:https://www.wlcnonline.com/event/alcoholics-anonymous-meetings-at-atlanta-community-house-in-atlanta/2025-07-03/
LOCATION:Atlanta Memorial Community House\, 106 SW 6th Street\, Atlanta\, IL\, 61723\, United States
ORGANIZER;CN="Logan Mason Recovery Oriented Systems of Care (ROSC)":MAILTO:jedavis@chestnut.org
END:VEVENT
BEGIN:VEVENT
DTSTART;TZID=America/Chicago:20250703T190000
DTEND;TZID=America/Chicago:20250703T200000
DTSTAMP:20260424T053722
CREATED:20250227T220255Z
LAST-MODIFIED:20251231T170522Z
UID:10019303-1751569200-1751572800@www.wlcnonline.com
SUMMARY:Celebrate recovery events at Open Arms Christian Fellowship in Lincoln
DESCRIPTION:Events take place on Thursday evenings with snacks served at 6 PM and the meeting starting at 7 PM.
URL:https://www.wlcnonline.com/event/celebrate-recovery-events-at-open-arms-christian-fellowship-in-lincoln/2025-07-03/
LOCATION:Open Arms Christian Fellowship\, 1321 State Route 10\, Lincoln\, IL\, 62656\, United States
ORGANIZER;CN="Hope on 5th":MAILTO:rhss2005th@gmail.com
END:VEVENT
BEGIN:VEVENT
DTSTART;TZID=America/Chicago:20250703T190000
DTEND;TZID=America/Chicago:20250703T190000
DTSTAMP:20260424T053722
CREATED:20240329T042327Z
LAST-MODIFIED:20251231T163130Z
UID:10020318-1751569200-1751569200@www.wlcnonline.com
SUMMARY:Xtreme Bar Bingo at The Rusty Rail in Lincoln
DESCRIPTION:Xtreme Bar Bingo is bingo game with awesome prizes. The Rusty Rail features Xtreme Bar Bingo on Thursday nights beginning at 7 PM. \nEvent codes: ccgc\, ccsoc ccbin
URL:https://www.wlcnonline.com/event/xtreme-bar-bingo-at-the-rusty-rail-in-lincoln/2025-07-03/
LOCATION:The Rusty Rail Pub in Lincoln\, 405 Pulaski Street\, Lincoln\, IL\, 62656\, United States
END:VEVENT
BEGIN:VEVENT
DTSTART;TZID=America/Chicago:20250703T180000
DTEND;TZID=America/Chicago:20250703T190000
DTSTAMP:20260424T053722
CREATED:20250227T215251Z
LAST-MODIFIED:20251231T170747Z
UID:10019196-1751565600-1751569200@www.wlcnonline.com
SUMMARY:Narcotics Anonymous meetings by Land of Lincoln Recovery Group at Hope on 5th in Lincoln
DESCRIPTION:Meetings are free to attend and take place at 6 PM Thursdays as well as at 5 PM on Sundays. \nEvent codes
URL:https://www.wlcnonline.com/event/narcotics-anonymous-meetings-by-land-of-lincoln-recovery-group-at-hope-on-5th-in-lincoln-2/2025-07-03/
LOCATION:Hope on 5th in Lincoln\, 200 5th Street\, Lincoln\, 62656\, United States
ORGANIZER;CN="Logan Mason Recovery Oriented Systems of Care (ROSC)":MAILTO:jedavis@chestnut.org
END:VEVENT
BEGIN:VEVENT
DTSTART;TZID=America/Chicago:20250703T173000
DTEND;TZID=America/Chicago:20250703T210000
DTSTAMP:20260424T053722
CREATED:20250626T140013Z
LAST-MODIFIED:20250626T140013Z
UID:10020303-1751563800-1751576400@www.wlcnonline.com
SUMMARY:July 3 Celebation of Independence Day with live music and fireworks at Lincoln Park District
DESCRIPTION:This family-friendly Independence Day celebration takes place July 3rd with Food trucks\, games on the lawn\, live music\, and kids’ activities scheduled from 6 PM to 9 PM. There will be fireworks by American Patriot Pyro shortly after 9 PM
URL:https://www.wlcnonline.com/event/july-3-celebation-of-independence-day-with-live-music-and-fireworks-at-lincoln-park-district/
LOCATION:Lincoln Park District\, 1400 Primm Road\, Lincoln\, IL\, 62656\, United States
ORGANIZER;CN="Lincoln Park District":MAILTO:info@lincolnparkdistrict.com
END:VEVENT
BEGIN:VEVENT
DTSTART;TZID=America/Chicago:20250703T140000
DTEND;TZID=America/Chicago:20250703T140000
DTSTAMP:20260424T053722
CREATED:20250701T133524Z
LAST-MODIFIED:20250701T133524Z
UID:10020374-1751551200-1751551200@www.wlcnonline.com
SUMMARY:Independence Day activities on July 3 and July 4 at the Lincoln Park District Aquatic Center
DESCRIPTION:The Lincoln Park District Aquatic Center offers fun for the entire family during July 3 and July 4. \nPool games will start at 2 PM both days; each attendee will get a free popcicle. \ncc4oj ccff ccfk cchwf
URL:https://www.wlcnonline.com/event/independence-day-activities-on-july-3-and-july-4-at-the-lincoln-park-district-aquatic-center/2025-07-03/
LOCATION:Lincoln Park District Aquatic Center\, 1400 Railer Way\, Lincoln\, 62656
ORGANIZER;CN="Lincoln Park District":MAILTO:info@lincolnparkdistrict.com
END:VEVENT
BEGIN:VEVENT
DTSTART;TZID=America/Chicago:20250703T080000
DTEND;TZID=America/Chicago:20250703T170000
DTSTAMP:20260424T053722
CREATED:20250605T133707Z
LAST-MODIFIED:20250605T133708Z
UID:10020217-1751529600-1751562000@www.wlcnonline.com
SUMMARY:2025 Summer Family Flicks Series at VIP Grand Theater in Lincoln (Wed 7/2 and Th 7/3 -- "Sonic the Hedgehog 3")
DESCRIPTION:The VIP Grand offers a line-up of family-friendly movies every Wednesday and Thursday morning for 10 weeks throughout the summer. Tickets cost $2 per person for each guest every Summer Flicks showing. Tickets can now be purchased online for each showing\, so be aware spots may fill up before the day of the event. \nEvent codes ccfre ccff ccfk ccent
URL:https://www.wlcnonline.com/event/2025-summer-family-flicks-series-at-vip-grand-theater-in-lincoln-5-3/
LOCATION:VIP Lincoln Grand\, 225 S. Kickapoo Street\, Lincoln\, IL\, 62656\, United States
ORGANIZER;CN="VIP Lincoln Grand":MAILTO:lincoln@vipcinemas.com
END:VEVENT
BEGIN:VEVENT
DTSTART;TZID=America/Chicago:20250702T180000
DTEND;TZID=America/Chicago:20250702T235900
DTSTAMP:20260424T053722
CREATED:20250508T140922Z
LAST-MODIFIED:20250508T140922Z
UID:10020078-1751479200-1751500740@www.wlcnonline.com
SUMMARY:Bike night at The Rusty Rail Pub in Lincoln
DESCRIPTION:Bike Nights are back on Wednesdays through thru October 8. Enjoy drinks\, games\, contests\, prizes and of course bikes Wednesdays starting at 6 PM. \nEvent codes cclbep ccfb ccsoc
URL:https://www.wlcnonline.com/event/bike-night-at-the-rusty-rail-pub-in-lincoln/2025-07-02/
LOCATION:The Rusty Rail Pub in Lincoln\, 405 Pulaski Street\, Lincoln\, IL\, 62656\, United States
END:VEVENT
BEGIN:VEVENT
DTSTART;TZID=America/Chicago:20250702T180000
DTEND;TZID=America/Chicago:20250702T190000
DTSTAMP:20260424T053722
CREATED:20250227T221550Z
LAST-MODIFIED:20251231T171533Z
UID:10019564-1751479200-1751482800@www.wlcnonline.com
SUMMARY:Odds & Ends peer recovery support group meeting at Hardee's in Havana
DESCRIPTION:Meetings are free to attend and take place Wednesdays at 6 PM. \nEvent codes
URL:https://www.wlcnonline.com/event/odds-ends-peer-recovery-support-group-meeting-at-hardees-in-havana/2025-07-02/
LOCATION:Hardee’s in Havana\, 401 W. Dearborn Street\, Havana\, 62644\, United States
ORGANIZER;CN="Logan Mason Recovery Oriented Systems of Care (ROSC)":MAILTO:jedavis@chestnut.org
END:VEVENT
BEGIN:VEVENT
DTSTART;TZID=America/Chicago:20250702T180000
DTEND;TZID=America/Chicago:20250702T190000
DTSTAMP:20260424T053722
CREATED:20250227T220829Z
LAST-MODIFIED:20251231T164443Z
UID:10019390-1751479200-1751482800@www.wlcnonline.com
SUMMARY:Alcoholics Anonymous meetings at Trinity Episcopal Church in Lincoln
DESCRIPTION:Meetings are free to attend and take place at the following times: \n\nMondays at 7 PM\nWednesdays at 6 PM\nFridays at 11 AM\nSundays at 6 PM\n\nEvent codes
URL:https://www.wlcnonline.com/event/alcoholics-anonymous-meetings-at-trinity-episcopal-church-in-lincoln-2/2025-07-02/
LOCATION:Trinity Episcopal Church in Lincoln\, 402 Pekin Street\, Lincoln\, 62656\, United States
ORGANIZER;CN="Logan Mason Recovery Oriented Systems of Care (ROSC)":MAILTO:jedavis@chestnut.org
END:VEVENT
BEGIN:VEVENT
DTSTART;TZID=America/Chicago:20250702T180000
DTEND;TZID=America/Chicago:20250702T190000
DTSTAMP:20260424T053722
CREATED:20250227T214713Z
LAST-MODIFIED:20251231T161900Z
UID:10018985-1751479200-1751482800@www.wlcnonline.com
SUMMARY:Alcoholics Anonymous meetings by Land of Lincoln Recovery Group at Hope on 5th in Lincoln
DESCRIPTION:Meetings are free to attend and take place at 6 PM on Tuesdays\, Wednesdays\, Fridays and Saturdays as well as at 9 AM on Saturdays and Sundays. \nEvent codes
URL:https://www.wlcnonline.com/event/alcoholics-anonymous-meetings-by-land-of-lincoln-recovery-group-at-hope-on-5th-in-lincoln/2025-07-02/
LOCATION:Hope on 5th in Lincoln\, 200 5th Street\, Lincoln\, 62656\, United States
ORGANIZER;CN="Logan Mason Recovery Oriented Systems of Care (ROSC)":MAILTO:jedavis@chestnut.org
END:VEVENT
BEGIN:VEVENT
DTSTART;TZID=America/Chicago:20250702T120000
DTEND;TZID=America/Chicago:20250702T170000
DTSTAMP:20260424T053722
CREATED:20250626T203329Z
LAST-MODIFIED:20250626T203329Z
UID:10020312-1751457600-1751475600@www.wlcnonline.com
SUMMARY:Community blood drive at Lincoln Park District
DESCRIPTION:Click here to reserve a time online. \nEvent codes: ccbld\, ccserv
URL:https://www.wlcnonline.com/event/community-blood-drive-at-lincoln-park-district-3/
LOCATION:Lincoln Park District\, 1400 Primm Road\, Lincoln\, IL\, 62656\, United States
ORGANIZER;CN="Lincoln Park District":MAILTO:info@lincolnparkdistrict.com
END:VEVENT
BEGIN:VEVENT
DTSTART;TZID=America/Chicago:20250702T100000
DTEND;TZID=America/Chicago:20250702T113000
DTSTAMP:20260424T053722
CREATED:20250626T143844Z
LAST-MODIFIED:20250626T143844Z
UID:10020310-1751450400-1751455800@www.wlcnonline.com
SUMMARY:Health & Wellness Series social game day event at Lincoln Park District
DESCRIPTION:This event will be full of games\, snacks\, and good times. Attendees may bring their own games or just attend and play the games provided during the session. \nThe event is free to the public; you do not need to be a member of the Lincoln Park District to attend. \nEvent codes ccfre cchwf ccedu
URL:https://www.wlcnonline.com/event/health-wellness-series-social-game-day-event-at-lincoln-park-district/
LOCATION:Lincoln Park District\, 1400 Primm Road\, Lincoln\, IL\, 62656\, United States
ORGANIZER;CN="Lincoln Park District":MAILTO:info@lincolnparkdistrict.com
END:VEVENT
BEGIN:VEVENT
DTSTART;TZID=America/Chicago:20250702T100000
DTEND;TZID=America/Chicago:20250702T113000
DTSTAMP:20260424T053722
CREATED:20250605T134617Z
LAST-MODIFIED:20250605T134617Z
UID:10020245-1751450400-1751455800@www.wlcnonline.com
SUMMARY:2025 Summer Kids Movie Series at Clintonia Eagle Theater in Clinton (Tu 7/1 & We 7/2 - The Angry Birds Movie)
DESCRIPTION:The 2025 Summer Kids Movie series offers free admission to all attendees. Movies begin at 10 AM; free popcorn Wednesday does not apply. \nEvent codes ccfre ccff ccfk ccent
URL:https://www.wlcnonline.com/event/2025-summer-kids-movie-series-at-clintonia-eagle-theater-in-clinton-tu-6-3-we-6-4-the-lego-movie-2-2-2-2/2025-07-02/
LOCATION:Clintonia Eagle Theater in Clinton\, 13 Kelli Court\, Clinton\, IL\, 61727\, United States
ORGANIZER;CN="Clintonia Eagle Theater":MAILTO:bethany@eagletheater.net
END:VEVENT
BEGIN:VEVENT
DTSTART;TZID=America/Chicago:20250702T100000
DTEND;TZID=America/Chicago:20250702T113000
DTSTAMP:20260424T053722
CREATED:20250605T133652Z
LAST-MODIFIED:20250605T133652Z
UID:10020208-1751450400-1751455800@www.wlcnonline.com
SUMMARY:2025 Summer Family Flicks Series at VIP Grand Theater in Lincoln (Wed 7/2 and Th 7/3 -- "Sonic the Hedgehog 3")
DESCRIPTION:The VIP Grand offers a line-up of family-friendly movies every Wednesday and Thursday morning for 10 weeks throughout the summer. Tickets cost $2 per person for each guest every Summer Flicks showing. Tickets can now be purchased online for each showing\, so be aware spots may fill up before the day of the event. \nEvent codes ccfre ccff ccfk ccent
URL:https://www.wlcnonline.com/event/2025-summer-family-flicks-series-at-vip-grand-theater-in-lincoln-5-2/
LOCATION:VIP Lincoln Grand\, 225 S. Kickapoo Street\, Lincoln\, IL\, 62656\, United States
ORGANIZER;CN="VIP Lincoln Grand":MAILTO:lincoln@vipcinemas.com
END:VEVENT
BEGIN:VEVENT
DTSTART;TZID=America/Chicago:20250701T180000
DTEND;TZID=America/Chicago:20250701T190000
DTSTAMP:20260424T053722
CREATED:20250227T214713Z
LAST-MODIFIED:20251231T161900Z
UID:10018984-1751392800-1751396400@www.wlcnonline.com
SUMMARY:Alcoholics Anonymous meetings by Land of Lincoln Recovery Group at Hope on 5th in Lincoln
DESCRIPTION:Meetings are free to attend and take place at 6 PM on Tuesdays\, Wednesdays\, Fridays and Saturdays as well as at 9 AM on Saturdays and Sundays. \nEvent codes
URL:https://www.wlcnonline.com/event/alcoholics-anonymous-meetings-by-land-of-lincoln-recovery-group-at-hope-on-5th-in-lincoln/2025-07-01/
LOCATION:Hope on 5th in Lincoln\, 200 5th Street\, Lincoln\, 62656\, United States
ORGANIZER;CN="Logan Mason Recovery Oriented Systems of Care (ROSC)":MAILTO:jedavis@chestnut.org
END:VEVENT
BEGIN:VEVENT
DTSTART;TZID=America/Chicago:20250701T170000
DTEND;TZID=America/Chicago:20250701T203000
DTSTAMP:20260424T053722
CREATED:20250220T233455Z
LAST-MODIFIED:20251231T163935Z
UID:10018865-1751389200-1751401800@www.wlcnonline.com
SUMMARY:Tuesday night bingo (meal @ 5 PM\, bingo @ 6:30 PM) at Oasis Senior Center in Lincoln﻿
DESCRIPTION:Bingo takes place on Tuesday evenings from 6:30 PM to 8:30 PM and is open to the public. Doors open at 5 PM for a meal\, snack and beverages. \nEvent codes ccgc ccbin ccfb ccsoc
URL:https://www.wlcnonline.com/event/tuesday-night-bingo-meal-5-pm-bingo-630-pm-at-oasis-senior-center-in-lincoln/2025-07-01/
LOCATION:Oasis Senior Center\, 2810 Woodlawn Road\, Lincoln\, IL\, 62656\, United States
ORGANIZER;CN="Oasis Senior Center":MAILTO:nancy@oasisseniorcenter.com
END:VEVENT
BEGIN:VEVENT
DTSTART;TZID=America/Chicago:20250701T170000
DTEND;TZID=America/Chicago:20250701T200000
DTSTAMP:20260424T053722
CREATED:20250130T142928Z
LAST-MODIFIED:20250228T024515Z
UID:10018085-1751389200-1751400000@www.wlcnonline.com
SUMMARY:Fundraiser for Faith Church of Lincoln at Culver's of Lincoln
DESCRIPTION:Purchase food from Culver’s of Lincoln and help support a worthy cause whether dining in\, carrying out\, using the drive-thru or ordering through DoorDash. During the hours of the fundraiser\, a portion of all proceeds will be donated to the organization. \nEvent codes ccfb\, ccfdd
URL:https://www.wlcnonline.com/event/fundraiser-for-faith-church-of-lincoln-at-culvers-of-lincoln/2025-07-01/
LOCATION:Culver’s of Lincoln\, 2530 Woodlawn Road\, Lincoln\, IL\, 62656\, United States
ORGANIZER;CN="Culver's of Lincoln":MAILTO:lincolnculvers@comcast.net
END:VEVENT
BEGIN:VEVENT
DTSTART;TZID=America/Chicago:20250701T100000
DTEND;TZID=America/Chicago:20250701T113000
DTSTAMP:20260424T053722
CREATED:20250605T134617Z
LAST-MODIFIED:20250605T134617Z
UID:10020228-1751364000-1751369400@www.wlcnonline.com
SUMMARY:2025 Summer Kids Movie Series at Clintonia Eagle Theater in Clinton (Tu 7/1 & We 7/2 - The Angry Birds Movie)
DESCRIPTION:The 2025 Summer Kids Movie series offers free admission to all attendees. Movies begin at 10 AM; free popcorn Wednesday does not apply. \nEvent codes ccfre ccff ccfk ccent
URL:https://www.wlcnonline.com/event/2025-summer-kids-movie-series-at-clintonia-eagle-theater-in-clinton-tu-6-3-we-6-4-the-lego-movie-2-2-2-2/2025-07-01/
LOCATION:Clintonia Eagle Theater in Clinton\, 13 Kelli Court\, Clinton\, IL\, 61727\, United States
ORGANIZER;CN="Clintonia Eagle Theater":MAILTO:bethany@eagletheater.net
END:VEVENT
BEGIN:VEVENT
DTSTART;TZID=America/Chicago:20250701T100000
DTEND;TZID=America/Chicago:20250701T110000
DTSTAMP:20260424T053722
CREATED:20250626T143201Z
LAST-MODIFIED:20250626T143201Z
UID:10020309-1751364000-1751367600@www.wlcnonline.com
SUMMARY:Presentation by Macon County Reptile Preservation Program at Mt. Pulaski Public Library in Mt. Pulaski
DESCRIPTION:Attendees will learn about local reptiles and meet a painted turtle\, box turtle\, and snake. \nEvent codes ccfk ccedu
URL:https://www.wlcnonline.com/event/presentation-by-macon-county-reptile-preservation-program-at-mt-pulaski-public-library-in-mt-pulaski/
LOCATION:Mt. Pulaski Public Library\, 320 N. Washington Street\, Mt. Pulaski\, IL\, 62548\, United States
ORGANIZER;CN="Mt. Pulasku Public Library":MAILTO:staff@mplibrary.org
END:VEVENT
BEGIN:VEVENT
DTSTART;TZID=America/Chicago:20250630T190000
DTEND;TZID=America/Chicago:20250630T200000
DTSTAMP:20260424T053722
CREATED:20250227T220659Z
LAST-MODIFIED:20251231T163725Z
UID:10019346-1751310000-1751313600@www.wlcnonline.com
SUMMARY:Alcoholics Anonymous meetings at Trinity Episcopal Church in Lincoln
DESCRIPTION:Meetings are free to attend and take place at the following times: \n\nMondays at 7 PM\nWednesdays at 6 PM\nFridays at 11 AM\nSundays at 6 PM\n\nEvent codes
URL:https://www.wlcnonline.com/event/alcoholics-anonymous-meetings-at-trinity-episcopal-church-in-lincoln/2025-06-30/
LOCATION:Trinity Episcopal Church in Lincoln\, 402 Pekin Street\, Lincoln\, 62656\, United States
ORGANIZER;CN="Logan Mason Recovery Oriented Systems of Care (ROSC)":MAILTO:jedavis@chestnut.org
END:VEVENT
BEGIN:VEVENT
DTSTART;TZID=America/Chicago:20250630T180000
DTEND;TZID=America/Chicago:20250630T200000
DTSTAMP:20260424T053722
CREATED:20240926T041522Z
LAST-MODIFIED:20240926T041522Z
UID:10016856-1751306400-1751313600@www.wlcnonline.com
SUMMARY:Xtreme Bar Bingo at Stag R Inn in Emden
DESCRIPTION:Enjoy Xtreme Bar Bingo along with drink and food specials each week. Participants will have the chance to win prizes and cash. \nEvent codes: ccgc\, ccsoc ccbin
URL:https://www.wlcnonline.com/event/xtreme-bar-bingo-at-stag-r-inn-in-emden-2/2025-06-30/
LOCATION:Stag R Inn in Emden\, 102 Lincoln Street\, Emden\, IL\, 62635\, United States
END:VEVENT
BEGIN:VEVENT
DTSTART;TZID=America/Chicago:20250630T180000
DTEND;TZID=America/Chicago:20250630T190000
DTSTAMP:20260424T053722
CREATED:20250227T215503Z
LAST-MODIFIED:20251231T163530Z
UID:10019239-1751306400-1751310000@www.wlcnonline.com
SUMMARY:Co-Dependents Anonymous (CoDA) meetings by Land of Lincoln Recovery Group at Hope on 5th in Lincoln
DESCRIPTION:Meetings are free to attend and take place at 6 PM Mondays. \nEvent codes
URL:https://www.wlcnonline.com/event/co-dependents-anonymous-coda-meetings-by-land-of-lincoln-recovery-group-at-hope-on-5th-in-lincoln/2025-06-30/
LOCATION:Hope on 5th in Lincoln\, 200 5th Street\, Lincoln\, 62656\, United States
ORGANIZER;CN="Logan Mason Recovery Oriented Systems of Care (ROSC)":MAILTO:jedavis@chestnut.org
END:VEVENT
BEGIN:VEVENT
DTSTART;TZID=America/Chicago:20250629T180000
DTEND;TZID=America/Chicago:20250629T190000
DTSTAMP:20260424T053722
CREATED:20250227T221038Z
LAST-MODIFIED:20251231T162443Z
UID:10019477-1751220000-1751223600@www.wlcnonline.com
SUMMARY:Alcoholics Anonymous meetings at Trinity Episcopal Church in Lincoln
DESCRIPTION:Meetings are free to attend and take place at the following times: \n\nMondays at 7 PM\nWednesdays at 6 PM\nFridays at 11 AM\nSundays at 6 PM\n\nEvent codes
URL:https://www.wlcnonline.com/event/alcoholics-anonymous-meetings-at-trinity-episcopal-church-in-lincoln-4/2025-06-29/
LOCATION:Trinity Episcopal Church in Lincoln\, 402 Pekin Street\, Lincoln\, 62656\, United States
ORGANIZER;CN="Logan Mason Recovery Oriented Systems of Care (ROSC)":MAILTO:jedavis@chestnut.org
END:VEVENT
BEGIN:VEVENT
DTSTART;TZID=America/Chicago:20250629T170000
DTEND;TZID=America/Chicago:20250629T180000
DTSTAMP:20260424T053722
CREATED:20250227T215139Z
LAST-MODIFIED:20251231T162319Z
UID:10019652-1751216400-1751220000@www.wlcnonline.com
SUMMARY:Narcotics Anonymous meetings by Land of Lincoln Recovery Group at Hope on 5th in Lincoln
DESCRIPTION:Meetings are free to attend and take place at 6 PM Thursdays as well as at 5 PM on Sundays. \nEvent codes
URL:https://www.wlcnonline.com/event/narcotics-anonymous-meetings-by-land-of-lincoln-recovery-group-at-hope-on-5th-in-lincoln/2025-06-29/
LOCATION:Hope on 5th in Lincoln\, 200 5th Street\, Lincoln\, 62656\, United States
ORGANIZER;CN="Logan Mason Recovery Oriented Systems of Care (ROSC)":MAILTO:jedavis@chestnut.org
END:VEVENT
BEGIN:VEVENT
DTSTART;TZID=America/Chicago:20250629T163000
DTEND;TZID=America/Chicago:20250629T220000
DTSTAMP:20260424T053722
CREATED:20250627T032305Z
LAST-MODIFIED:20250627T032305Z
UID:10020371-1751214600-1751234400@www.wlcnonline.com
SUMMARY:June 29 Independence Day celebration with picnic in the park and fireworks in Williamsville
DESCRIPTION:Scheduled activities include a meal and kids activities both beginning at 4:30 PM\, a patriotic kids and pets parade at 6:30 PM and fireworks at dusk. \nEvent codes cc4oj ccsoc ccfce ccff ccfk
URL:https://www.wlcnonline.com/event/june-29-independence-day-celebration-with-picnic-in-the-park-and-fireworks-in-williamsville/
LOCATION:Williamsville Community Park\, 706 E. Main Street\, Williamsville\, IL\, 62693\, United States
ORGANIZER;CN="Williamsville Community Foundation":MAILTO:wville@gcctv.com
END:VEVENT
BEGIN:VEVENT
DTSTART;TZID=America/Chicago:20250629T160000
DTEND;TZID=America/Chicago:20250629T220000
DTSTAMP:20260424T053722
CREATED:20250626T135413Z
LAST-MODIFIED:20250626T135413Z
UID:10020302-1751212800-1751234400@www.wlcnonline.com
SUMMARY:Mt. Hope-Funks Grove Park District Independence Day celebration at Mt. Hope-Funks Grove Park District in McLean
DESCRIPTION:The annual Mt. Hope-Funks Grove Park District Independence Day Celebration takes place at the park district. Decorated golf carts and bikes should line up on the walking track at 3:30 PM for the parade. Dinner and activities start at 4 PM with face painting\, henna\, foam party\, sensory trailer\, inflatables\, water slides\, games\, and music scheduled to take place. All the activities are free. \nThe park district will sell a pulled pork meal for $9\, ribeye meal for $10 and a kid’s hot dog meal for $5 along with other concessions. In addition\, Sonshine Daycare Center will be selling walking tacos and the American Legion will be selling lemonade shake ups. \nFireworks will begin at dusk. \nEvent codes cc4oj ccfb ccent cclm ccff ccfk ccfre ccfce ccsoc ccgc
URL:https://www.wlcnonline.com/event/mt-hope-funks-grove-park-district-independence-day-celebration-at-mt-hope-funks-grove-park-district-in-mclean-2/
LOCATION:Mt. Hope-Funks Grove Park District in McLean\, 107 W. North Street\, McLean\, IL\, 61754\, United States
ORGANIZER;CN="Mt. Hope-Funks Grove Park District":MAILTO:mhfgpd@frontier.com
END:VEVENT
END:VCALENDAR