BEGIN:VCALENDAR
VERSION:2.0
PRODID:-//WLCN 96.3 FM - ECPv6.15.20//NONSGML v1.0//EN
CALSCALE:GREGORIAN
METHOD:PUBLISH
X-WR-CALNAME:WLCN 96.3 FM
X-ORIGINAL-URL:https://www.wlcnonline.com
X-WR-CALDESC:Events for WLCN 96.3 FM
REFRESH-INTERVAL;VALUE=DURATION:PT1H
X-Robots-Tag:noindex
X-PUBLISHED-TTL:PT1H
BEGIN:VTIMEZONE
TZID:America/Chicago
BEGIN:DAYLIGHT
TZOFFSETFROM:-0600
TZOFFSETTO:-0500
TZNAME:CDT
DTSTART:20240310T080000
END:DAYLIGHT
BEGIN:STANDARD
TZOFFSETFROM:-0500
TZOFFSETTO:-0600
TZNAME:CST
DTSTART:20241103T070000
END:STANDARD
BEGIN:DAYLIGHT
TZOFFSETFROM:-0600
TZOFFSETTO:-0500
TZNAME:CDT
DTSTART:20250309T080000
END:DAYLIGHT
BEGIN:STANDARD
TZOFFSETFROM:-0500
TZOFFSETTO:-0600
TZNAME:CST
DTSTART:20251102T070000
END:STANDARD
BEGIN:DAYLIGHT
TZOFFSETFROM:-0600
TZOFFSETTO:-0500
TZNAME:CDT
DTSTART:20260308T080000
END:DAYLIGHT
BEGIN:STANDARD
TZOFFSETFROM:-0500
TZOFFSETTO:-0600
TZNAME:CST
DTSTART:20261101T070000
END:STANDARD
END:VTIMEZONE
BEGIN:VEVENT
DTSTART;TZID=America/Chicago:20250708T100000
DTEND;TZID=America/Chicago:20250708T113000
DTSTAMP:20260423T233335
CREATED:20250703T182323Z
LAST-MODIFIED:20250703T183227Z
UID:10020229-1751968800-1751974200@www.wlcnonline.com
SUMMARY:2025 Summer Kids Movie Series at Clintonia Eagle Theater in Clinton (Tu 7/8 & We 7/9 - Sing)
DESCRIPTION:The 2025 Summer Kids Movie series offers free admission to all attendees. Movies begin at 10 AM; free popcorn Wednesday does not apply. \nEvent codes ccfre ccff ccfk ccent
URL:https://www.wlcnonline.com/event/2025-summer-kids-movie-series-at-clintonia-eagle-theater-in-clinton-tu-6-3-we-6-4-the-lego-movie-2-2-2-2-2/2025-07-08/
LOCATION:Clintonia Eagle Theater in Clinton\, 13 Kelli Court\, Clinton\, IL\, 61727\, United States
ORGANIZER;CN="Clintonia Eagle Theater":MAILTO:bethany@eagletheater.net
END:VEVENT
BEGIN:VEVENT
DTSTART;TZID=America/Chicago:20250707T190000
DTEND;TZID=America/Chicago:20250707T200000
DTSTAMP:20260423T233335
CREATED:20250227T220659Z
LAST-MODIFIED:20251231T163725Z
UID:10019347-1751914800-1751918400@www.wlcnonline.com
SUMMARY:Alcoholics Anonymous meetings at Trinity Episcopal Church in Lincoln
DESCRIPTION:Meetings are free to attend and take place at the following times: \n\nMondays at 7 PM\nWednesdays at 6 PM\nFridays at 11 AM\nSundays at 6 PM\n\nEvent codes
URL:https://www.wlcnonline.com/event/alcoholics-anonymous-meetings-at-trinity-episcopal-church-in-lincoln/2025-07-07/
LOCATION:Trinity Episcopal Church in Lincoln\, 402 Pekin Street\, Lincoln\, 62656\, United States
ORGANIZER;CN="Logan Mason Recovery Oriented Systems of Care (ROSC)":MAILTO:jedavis@chestnut.org
END:VEVENT
BEGIN:VEVENT
DTSTART;TZID=America/Chicago:20250707T180000
DTEND;TZID=America/Chicago:20250707T200000
DTSTAMP:20260423T233335
CREATED:20240926T041522Z
LAST-MODIFIED:20240926T041522Z
UID:10016857-1751911200-1751918400@www.wlcnonline.com
SUMMARY:Xtreme Bar Bingo at Stag R Inn in Emden
DESCRIPTION:Enjoy Xtreme Bar Bingo along with drink and food specials each week. Participants will have the chance to win prizes and cash. \nEvent codes: ccgc\, ccsoc ccbin
URL:https://www.wlcnonline.com/event/xtreme-bar-bingo-at-stag-r-inn-in-emden-2/2025-07-07/
LOCATION:Stag R Inn in Emden\, 102 Lincoln Street\, Emden\, IL\, 62635\, United States
END:VEVENT
BEGIN:VEVENT
DTSTART;TZID=America/Chicago:20250707T180000
DTEND;TZID=America/Chicago:20250707T190000
DTSTAMP:20260423T233335
CREATED:20250227T215503Z
LAST-MODIFIED:20251231T163530Z
UID:10019240-1751911200-1751914800@www.wlcnonline.com
SUMMARY:Co-Dependents Anonymous (CoDA) meetings by Land of Lincoln Recovery Group at Hope on 5th in Lincoln
DESCRIPTION:Meetings are free to attend and take place at 6 PM Mondays. \nEvent codes
URL:https://www.wlcnonline.com/event/co-dependents-anonymous-coda-meetings-by-land-of-lincoln-recovery-group-at-hope-on-5th-in-lincoln/2025-07-07/
LOCATION:Hope on 5th in Lincoln\, 200 5th Street\, Lincoln\, 62656\, United States
ORGANIZER;CN="Logan Mason Recovery Oriented Systems of Care (ROSC)":MAILTO:jedavis@chestnut.org
END:VEVENT
BEGIN:VEVENT
DTSTART;TZID=America/Chicago:20250707T170000
DTEND;TZID=America/Chicago:20250707T200000
DTSTAMP:20260423T233335
CREATED:20250130T142758Z
LAST-MODIFIED:20250417T125953Z
UID:10018075-1751907600-1751918400@www.wlcnonline.com
SUMMARY:Fundraiser for Jefferson Street Christian Church at Culver's of Lincoln
DESCRIPTION:Purchase food from Culver’s of Lincoln and help support a worthy cause whether dining in\, carrying out\, using the drive-thru or ordering through DoorDash. During the hours of the fundraiser\, a portion of all proceeds will be donated to the organization. \nEvent codes ccfb\, ccfdd
URL:https://www.wlcnonline.com/event/fundraiser-for-jefferson-street-christian-church-at-culvers-of-lincoln/2025-07-07/
LOCATION:Culver’s of Lincoln\, 2530 Woodlawn Road\, Lincoln\, IL\, 62656\, United States
ORGANIZER;CN="Culver's of Lincoln":MAILTO:lincolnculvers@comcast.net
END:VEVENT
BEGIN:VEVENT
DTSTART;TZID=America/Chicago:20250706T180000
DTEND;TZID=America/Chicago:20250706T190000
DTSTAMP:20260423T233335
CREATED:20250227T221038Z
LAST-MODIFIED:20251231T162443Z
UID:10019478-1751824800-1751828400@www.wlcnonline.com
SUMMARY:Alcoholics Anonymous meetings at Trinity Episcopal Church in Lincoln
DESCRIPTION:Meetings are free to attend and take place at the following times: \n\nMondays at 7 PM\nWednesdays at 6 PM\nFridays at 11 AM\nSundays at 6 PM\n\nEvent codes
URL:https://www.wlcnonline.com/event/alcoholics-anonymous-meetings-at-trinity-episcopal-church-in-lincoln-4/2025-07-06/
LOCATION:Trinity Episcopal Church in Lincoln\, 402 Pekin Street\, Lincoln\, 62656\, United States
ORGANIZER;CN="Logan Mason Recovery Oriented Systems of Care (ROSC)":MAILTO:jedavis@chestnut.org
END:VEVENT
BEGIN:VEVENT
DTSTART;TZID=America/Chicago:20250706T170000
DTEND;TZID=America/Chicago:20250706T180000
DTSTAMP:20260423T233335
CREATED:20250227T215139Z
LAST-MODIFIED:20251231T162319Z
UID:10019653-1751821200-1751824800@www.wlcnonline.com
SUMMARY:Narcotics Anonymous meetings by Land of Lincoln Recovery Group at Hope on 5th in Lincoln
DESCRIPTION:Meetings are free to attend and take place at 6 PM Thursdays as well as at 5 PM on Sundays. \nEvent codes
URL:https://www.wlcnonline.com/event/narcotics-anonymous-meetings-by-land-of-lincoln-recovery-group-at-hope-on-5th-in-lincoln/2025-07-06/
LOCATION:Hope on 5th in Lincoln\, 200 5th Street\, Lincoln\, 62656\, United States
ORGANIZER;CN="Logan Mason Recovery Oriented Systems of Care (ROSC)":MAILTO:jedavis@chestnut.org
END:VEVENT
BEGIN:VEVENT
DTSTART;TZID=America/Chicago:20250706T140000
DTEND;TZID=America/Chicago:20250706T160000
DTSTAMP:20260423T233335
CREATED:20240607T073345Z
LAST-MODIFIED:20251231T163021Z
UID:10020344-1751810400-1751817600@www.wlcnonline.com
SUMMARY:Xtreme Bar Bingo at The Next Stop Saloon in Mt. Pulaski
DESCRIPTION:Games take place every Sunday from 2 PM to 4 PM. \nEvent codes ccfb ccbin
URL:https://www.wlcnonline.com/event/xtreme-bar-bingo-at-the-next-stop-saloon-in-mt-pulaski/2025-07-06/
LOCATION:The Next Stop Saloon in Mt. Pulaski\, 100 E. Cooke Street\, Mt. Pulaski\, IL\, 62548\, United States
END:VEVENT
BEGIN:VEVENT
DTSTART;TZID=America/Chicago:20250706T090000
DTEND;TZID=America/Chicago:20250706T100000
DTSTAMP:20260423T233335
CREATED:20250227T214918Z
LAST-MODIFIED:20251231T162155Z
UID:10019127-1751792400-1751796000@www.wlcnonline.com
SUMMARY:Alcoholics Anonymous meetings by Land of Lincoln Recovery Group at Hope on 5th in Lincoln
DESCRIPTION:Meetings are free to attend and take place at 6 PM on Tuesdays\, Wednesdays\, Fridays and Saturdays as well as at 9 AM on Saturdays and Sundays. \nEvent codes
URL:https://www.wlcnonline.com/event/alcoholics-anonymous-meetings-by-land-of-lincoln-recovery-group-at-hope-on-5th-in-lincoln-2/2025-07-06/
LOCATION:Hope on 5th in Lincoln\, 200 5th Street\, Lincoln\, 62656\, United States
ORGANIZER;CN="Logan Mason Recovery Oriented Systems of Care (ROSC)":MAILTO:jedavis@chestnut.org
END:VEVENT
BEGIN:VEVENT
DTSTART;TZID=America/Chicago:20250705T204500
DTEND;TZID=America/Chicago:20250705T210000
DTSTAMP:20260423T233335
CREATED:20250627T031843Z
LAST-MODIFIED:20250627T031843Z
UID:10020370-1751748300-1751749200@www.wlcnonline.com
SUMMARY:July 5 Independence Day fireworks at baseball field in Atlanta
DESCRIPTION:The fireworks will begin at dusk. \nEvent codes cc4oj ccsoc ccfce
URL:https://www.wlcnonline.com/event/july-5-independence-day-fireworks-at-baseball-field-in-atlanta/
LOCATION:Atlanta Sports Complex\, 647-669 W North Street\, Atlanta\, IL\, 61723\, United States
ORGANIZER;CN="Atlanta Park District":MAILTO:info@atlantapark.org
END:VEVENT
BEGIN:VEVENT
DTSTART;TZID=America/Chicago:20250705T200000
DTEND;TZID=America/Chicago:20250705T230000
DTSTAMP:20260423T233335
CREATED:20250625T200330Z
LAST-MODIFIED:20250625T200330Z
UID:10020300-1751745600-1751756400@www.wlcnonline.com
SUMMARY:Live music by The Killer Riffs at the Rusty Rail Pub in Lincoln
DESCRIPTION:Enjoy music from Peoria-based band The Killer Riffs\, which combines elements of electric\, blues and boogie. \nEvent codes cclm ccent ccfb
URL:https://www.wlcnonline.com/event/live-music-by-the-killer-riffs-at-the-rusty-rail-pub-in-lincoln-5/
LOCATION:The Rusty Rail Pub in Lincoln\, 405 Pulaski Street\, Lincoln\, IL\, 62656\, United States
END:VEVENT
BEGIN:VEVENT
DTSTART;TZID=America/Chicago:20250705T180000
DTEND;TZID=America/Chicago:20250705T190000
DTSTAMP:20260423T233335
CREATED:20250227T214713Z
LAST-MODIFIED:20251231T161900Z
UID:10018987-1751738400-1751742000@www.wlcnonline.com
SUMMARY:Alcoholics Anonymous meetings by Land of Lincoln Recovery Group at Hope on 5th in Lincoln
DESCRIPTION:Meetings are free to attend and take place at 6 PM on Tuesdays\, Wednesdays\, Fridays and Saturdays as well as at 9 AM on Saturdays and Sundays. \nEvent codes
URL:https://www.wlcnonline.com/event/alcoholics-anonymous-meetings-by-land-of-lincoln-recovery-group-at-hope-on-5th-in-lincoln/2025-07-05/
LOCATION:Hope on 5th in Lincoln\, 200 5th Street\, Lincoln\, 62656\, United States
ORGANIZER;CN="Logan Mason Recovery Oriented Systems of Care (ROSC)":MAILTO:jedavis@chestnut.org
END:VEVENT
BEGIN:VEVENT
DTSTART;TZID=America/Chicago:20250705T110000
DTEND;TZID=America/Chicago:20250705T110000
DTSTAMP:20260423T233335
CREATED:20250626T144327Z
LAST-MODIFIED:20250626T144327Z
UID:10020311-1751713200-1751713200@www.wlcnonline.com
SUMMARY:Book launch and signing event with Bloomington author Chrissy Curry at Ink & Imprint Books in Lincoln
DESCRIPTION:Bloomington author Chrissy Curry adds to her award-winning dark romance series with the release of her second book in the series\, Open Promise. Attendees will have the opportunity to meet Chrissy\, learn more about her books and purchase signed copies. \nEvent codes cclbep
URL:https://www.wlcnonline.com/event/book-launch-and-signing-event-with-bloomington-author-chrissy-curry-at-ink-imprint-books-in-lincoln/
LOCATION:Ink & Imprint Books in Lincoln\, 125 N Kickapoo Street\, Lincoln\, 62656\, United States
ORGANIZER;CN="Ink & Imprint Books":MAILTO:inkandimprintbooks@gmail.com
END:VEVENT
BEGIN:VEVENT
DTSTART;TZID=America/Chicago:20250705T090000
DTEND;TZID=America/Chicago:20250705T150000
DTSTAMP:20260423T233335
CREATED:20250529T154649Z
LAST-MODIFIED:20250529T154649Z
UID:10020139-1751706000-1751727600@www.wlcnonline.com
SUMMARY:Strawberry season at Mariah's Mums and More in rural Clinton
DESCRIPTION:Mariah’s offers U-Pick strawberries grown in vertical high tunnels for the entire six-month picking season. \nBerry availability can vary throughout the season; the best way to stay informed about picking conditions and volume is by subscribing to Mariah’s weekly e-newsletter. You can also check the Mariah’s Facebook page to see if any updates have been posted. \nMariah’s recommends arriving as soon as they open during the spring and summer hours for the best chance to pick; depending on the number of pickers\, some days Mariah’s is picked out by noon. \nMariah’s opens at 9 AM until September\, when opening time switches to 10 AM. \nEvent codes cclbep
URL:https://www.wlcnonline.com/event/strawberry-season-at-mariahs-mums-and-more-in-rural-clinton/2025-07-05/
LOCATION:Mariah’s Mums & More in rural Clinton\, 16727 Airport Road\, Clinton\, IL\, 61727\, United States
ORGANIZER;CN="Mariah's Mums & More in rural Clinton":MAILTO:mariahandgreg@mariahsmums.com
END:VEVENT
BEGIN:VEVENT
DTSTART;TZID=America/Chicago:20250705T090000
DTEND;TZID=America/Chicago:20250705T100000
DTSTAMP:20260423T233335
CREATED:20250227T214918Z
LAST-MODIFIED:20251231T162155Z
UID:10019126-1751706000-1751709600@www.wlcnonline.com
SUMMARY:Alcoholics Anonymous meetings by Land of Lincoln Recovery Group at Hope on 5th in Lincoln
DESCRIPTION:Meetings are free to attend and take place at 6 PM on Tuesdays\, Wednesdays\, Fridays and Saturdays as well as at 9 AM on Saturdays and Sundays. \nEvent codes
URL:https://www.wlcnonline.com/event/alcoholics-anonymous-meetings-by-land-of-lincoln-recovery-group-at-hope-on-5th-in-lincoln-2/2025-07-05/
LOCATION:Hope on 5th in Lincoln\, 200 5th Street\, Lincoln\, 62656\, United States
ORGANIZER;CN="Logan Mason Recovery Oriented Systems of Care (ROSC)":MAILTO:jedavis@chestnut.org
END:VEVENT
BEGIN:VEVENT
DTSTART;TZID=America/Chicago:20250705T080000
DTEND;TZID=America/Chicago:20250705T120000
DTSTAMP:20260423T233335
CREATED:20250417T142149Z
LAST-MODIFIED:20250417T142149Z
UID:10019951-1751702400-1751716800@www.wlcnonline.com
SUMMARY:LMH Market hosted by the LMH Health Collaborative at Logan County Fairgrounds
DESCRIPTION:The Lincoln Memorial Hospital Market opens for its 10th season on Saturday\, May 17 and runs through September 20 in the expo buildings on the Logan County Fairgrounds. Sponsored by the Lincoln Memorial Foundation\, the indoor event is a “producer-only” farmers market\, which means vendors sell only what they have grown or produced themselves. Vendors at The LMH Market offer fruits\, vegetables\, eggs\, poultry\, baked goods\, honey and more. Shoppers enrolled in the Supplemental Nutrition Assistance Program (SNAP)\, which provides assistance to supplement the grocery budgets of families in need\, may use a Link card to purchase food at the farmers market. The Market offers SNAP matching for Link card holders\, and the match is tripled every third Saturday. \nOther offerings at The LMH Market include free health screenings on the second and fourth Saturdays of each month. The Power of Produce (POP) Club provides activities for children from 5 to 12 years old to engage them in the local food system with educational games and demonstrations\, conversations with farmers and exposure to fruits and vegetables. Attendees will also find a “Local Roots” booth that provides an opportunity for vendors who are not producer-only\, but who have a local connection and a quality product to share with customers. The LMH Market is presented by Lincoln Memorial Hospital and promotes health and wellness through fresh food and health-focused programs. For additional information\, click here to visit The LMH Market page on Facebook. \nEvent codes cchwf cclbep ccfd
URL:https://www.wlcnonline.com/event/lmh-market-hosted-by-the-lmh-health-collaborative-at-logan-county-fairgrounds/2025-07-05/
LOCATION:Logan County Fairgrounds\, 230 N. Postville Drive\, Lincoln\, IL\, 62656\, United States
ORGANIZER;CN="Lincoln Memorial Hospital Market Coordinator":MAILTO:jones.jamie@mhsil.com
END:VEVENT
BEGIN:VEVENT
DTSTART;TZID=America/Chicago:20250705T080000
DTEND;TZID=America/Chicago:20250705T100000
DTSTAMP:20260423T233336
CREATED:20250701T141710Z
LAST-MODIFIED:20250701T141710Z
UID:10020378-1751702400-1751709600@www.wlcnonline.com
SUMMARY:Precision Church Faith + Fitness workout session at Precision Movement in Lincoln
DESCRIPTION:This event mixes faith and fitness to strengthen both bodies and spirits. The class is open to the public; attendees do not have to be a Precision Fitness member to come break a sweat\, share positive energy and connect with other believers. \nThe event starts with prayer\, a group workout session suitable for all fitness levels\, followed by a time of fellowship and reflection. \nEvent codes cchwf ccrel
URL:https://www.wlcnonline.com/event/precision-church-faith-fitness-workout-session-at-precision-movement-in-lincoln-7/
LOCATION:Precision Movement in Lincoln\, 1417 N. Kickapoo Street\, Lincoln\, IL\, 62656\, United States
ORGANIZER;CN="Precision Movement in Lincoln":MAILTO:ashley@precision-movement.com
END:VEVENT
BEGIN:VEVENT
DTSTART;TZID=America/Chicago:20250705T080000
DTEND;TZID=America/Chicago:20250705T084500
DTSTAMP:20260423T233336
CREATED:20250529T203547Z
LAST-MODIFIED:20250529T203547Z
UID:10020179-1751702400-1751705100@www.wlcnonline.com
SUMMARY:Saturday morning Yoga in the Park events by Lincoln Park District at Memorial Park in Lincoln
DESCRIPTION:The Yoga in the Park series is scheduled for Saturday mornings in June and July from 8 AM to 8:45 AM. \nClasses take place at Memorial Park in Lincoln. \nInterested persons should sign up online through the Lincoln Park District web site. This will ensure registrants are notified in case of class cancellations. \nParticipants should bring: water bottle\, yoga mat or towel\, sunblock/bug spray. \nNo experience is necessary; participants are asked to arrive 10 minutes early so class can start promptly. \nEvent codes ccsoc cchwf
URL:https://www.wlcnonline.com/event/saturday-morning-yoga-in-the-park-events-by-lincoln-park-district-at-memorial-park-in-lincoln/2025-07-05/
LOCATION:Memorial Park in Lincoln\, Memorial Park Road 1520 Street\, Lincoln\, IL\, 62656\, United States
ORGANIZER;CN="Lincoln Park District":MAILTO:info@lincolnparkdistrict.com
END:VEVENT
BEGIN:VEVENT
DTSTART;TZID=America/Chicago:20250704T204500
DTEND;TZID=America/Chicago:20250704T211500
DTSTAMP:20260423T233336
CREATED:20250627T033020Z
LAST-MODIFIED:20250627T033020Z
UID:10020372-1751661900-1751663700@www.wlcnonline.com
SUMMARY:July 4 Independence Day fireworks at Frazier Park in Mt. Pulaski
DESCRIPTION:The fireworks will begin at dusk. \nEvent codes cc4oj ccsoc ccfce
URL:https://www.wlcnonline.com/event/july-4-independence-day-fireworks-at-frazier-park-in-mt-pulaski/
LOCATION:Frazier Park in Mt. Pulaski\, 620 S. Spring Street\, Mt. Pulaski\, IL\, 62548\, United States
END:VEVENT
BEGIN:VEVENT
DTSTART;TZID=America/Chicago:20250704T183000
DTEND;TZID=America/Chicago:20250704T210000
DTSTAMP:20260423T233336
CREATED:20250625T202055Z
LAST-MODIFIED:20250627T035042Z
UID:10020301-1751653800-1751662800@www.wlcnonline.com
SUMMARY:Live music by Next Thing Smokin' during 4th of July celebration followed by fireworks at Hopedale Park in Hopedale
DESCRIPTION:The town of Hopedale celebrates Independence Day with events on July 3\, 4 and 5. Next Thing Smokin’ performs on the park stage from 6:30 PM to 9 PM followed by fireworks. \nAttendees are encouraged to bring lawn chairs. \nEvent codes ccsoc cc4oj cclm ccent
URL:https://www.wlcnonline.com/event/live-music-by-next-thing-smokin-during-4th-of-july-celebration-followed-by-fireworks-at-hopedale-park-in-hopedale/
LOCATION:Hopedale Park in Hopedale\, 222 Tremont Street\, Hopedale\, 61747\, United States
END:VEVENT
BEGIN:VEVENT
DTSTART;TZID=America/Chicago:20250704T180000
DTEND;TZID=America/Chicago:20250704T190000
DTSTAMP:20260423T233336
CREATED:20250227T215905Z
LAST-MODIFIED:20251231T161347Z
UID:10019270-1751652000-1751655600@www.wlcnonline.com
SUMMARY:Veterans recovery group meetings by Never Alone at Hope on 5th in Lincoln
DESCRIPTION:Meetings are free to attend and take place at 6 PM on the first and third Fridays of the month. \nEvent codes
URL:https://www.wlcnonline.com/event/veterans-recovery-group-meetings-by-never-alone-at-hope-on-5th-in-lincoln/2025-07-04/
LOCATION:Hope on 5th in Lincoln\, 200 5th Street\, Lincoln\, 62656\, United States
ORGANIZER;CN="Logan Mason Recovery Oriented Systems of Care (ROSC)":MAILTO:jedavis@chestnut.org
END:VEVENT
BEGIN:VEVENT
DTSTART;TZID=America/Chicago:20250704T180000
DTEND;TZID=America/Chicago:20250704T190000
DTSTAMP:20260423T233336
CREATED:20250227T214713Z
LAST-MODIFIED:20251231T161900Z
UID:10018986-1751652000-1751655600@www.wlcnonline.com
SUMMARY:Alcoholics Anonymous meetings by Land of Lincoln Recovery Group at Hope on 5th in Lincoln
DESCRIPTION:Meetings are free to attend and take place at 6 PM on Tuesdays\, Wednesdays\, Fridays and Saturdays as well as at 9 AM on Saturdays and Sundays. \nEvent codes
URL:https://www.wlcnonline.com/event/alcoholics-anonymous-meetings-by-land-of-lincoln-recovery-group-at-hope-on-5th-in-lincoln/2025-07-04/
LOCATION:Hope on 5th in Lincoln\, 200 5th Street\, Lincoln\, 62656\, United States
ORGANIZER;CN="Logan Mason Recovery Oriented Systems of Care (ROSC)":MAILTO:jedavis@chestnut.org
END:VEVENT
BEGIN:VEVENT
DTSTART;TZID=America/Chicago:20250704T170000
DTEND;TZID=America/Chicago:20250704T200000
DTSTAMP:20260423T233336
CREATED:20250701T141402Z
LAST-MODIFIED:20250701T141422Z
UID:10020377-1751648400-1751659200@www.wlcnonline.com
SUMMARY:A Red\, White & Blue Independence Day celebration at Weldon Springs State Park in rural Clinton
DESCRIPTION:Enjoy live music by the DreamCatchers as the group plays a mixture modern hits\, pop favorites\, classic rock\, blues and country. In addition\, there will be family-friends recreational activities as attendees can explore nature and rent kayaks\, canoes and jon boats. Snacks and drinks will be available for purchase from the concession stand. Admission is free. \nEvent codes cc4oj ccff ccent cclm
URL:https://www.wlcnonline.com/event/a-red-white-blue-independence-day-celebration-at-weldon-springs-state-park-in-rural-clinton/
LOCATION:Weldon Springs State Park\, 4734 Weldon Springs Road\, Clinton\, 61727\, United States
ORGANIZER;CN="Weldon Springs State Park":MAILTO:weldonspringsconcession@gmail.com
END:VEVENT
BEGIN:VEVENT
DTSTART;TZID=America/Chicago:20250704T140000
DTEND;TZID=America/Chicago:20250704T140000
DTSTAMP:20260423T233336
CREATED:20250701T133524Z
LAST-MODIFIED:20250701T133524Z
UID:10020375-1751637600-1751637600@www.wlcnonline.com
SUMMARY:Independence Day activities on July 3 and July 4 at the Lincoln Park District Aquatic Center
DESCRIPTION:The Lincoln Park District Aquatic Center offers fun for the entire family during July 3 and July 4. \nPool games will start at 2 PM both days; each attendee will get a free popcicle. \ncc4oj ccff ccfk cchwf
URL:https://www.wlcnonline.com/event/independence-day-activities-on-july-3-and-july-4-at-the-lincoln-park-district-aquatic-center/2025-07-04/
LOCATION:Lincoln Park District Aquatic Center\, 1400 Railer Way\, Lincoln\, 62656
ORGANIZER;CN="Lincoln Park District":MAILTO:info@lincolnparkdistrict.com
END:VEVENT
BEGIN:VEVENT
DTSTART;TZID=America/Chicago:20250704T120000
DTEND;TZID=America/Chicago:20250704T133000
DTSTAMP:20260423T233336
CREATED:20250227T221857Z
LAST-MODIFIED:20251231T161051Z
UID:10019609-1751630400-1751635800@www.wlcnonline.com
SUMMARY:SMART (Self-Management and Recovery Training) recovery meetings at Hope on 5th in Lincoln
DESCRIPTION:Meetings are free to attend and take place Fridays from noon to 1:30 PM. \nEvent codes
URL:https://www.wlcnonline.com/event/smart-self-management-and-recovery-training-recovery-meetings-at-hope-on-5th-in-lincoln/2025-07-04/
LOCATION:Hope on 5th in Lincoln\, 200 5th Street\, Lincoln\, 62656\, United States
ORGANIZER;CN="Logan Mason Recovery Oriented Systems of Care (ROSC)":MAILTO:jedavis@chestnut.org
END:VEVENT
BEGIN:VEVENT
DTSTART;TZID=America/Chicago:20250704T110000
DTEND;TZID=America/Chicago:20250704T120000
DTSTAMP:20260423T233336
CREATED:20250227T220937Z
LAST-MODIFIED:20251231T160939Z
UID:10019434-1751626800-1751630400@www.wlcnonline.com
SUMMARY:Alcoholics Anonymous meetings at Trinity Episcopal Church in Lincoln
DESCRIPTION:Meetings are free to attend and take place at the following times: \n\nMondays at 7 PM\nWednesdays at 6 PM\nFridays at 11 AM\nSundays at 6 PM\n\nEvent codes
URL:https://www.wlcnonline.com/event/alcoholics-anonymous-meetings-at-trinity-episcopal-church-in-lincoln-3/2025-07-04/
LOCATION:Trinity Episcopal Church in Lincoln\, 402 Pekin Street\, Lincoln\, 62656\, United States
ORGANIZER;CN="Logan Mason Recovery Oriented Systems of Care (ROSC)":MAILTO:jedavis@chestnut.org
END:VEVENT
BEGIN:VEVENT
DTSTART;TZID=America/Chicago:20250704T110000
DTEND;TZID=America/Chicago:20250704T110000
DTSTAMP:20260423T233336
CREATED:20250626T140341Z
LAST-MODIFIED:20250626T140341Z
UID:10020304-1751626800-1751626800@www.wlcnonline.com
SUMMARY:2025 Independence Day walking parade for children (starting at Scully Park) sponsored by Lincoln Park District
DESCRIPTION:Decorate to show your patriotic spirit and then bike\, scooter\, roll\, or walk from Scully Park to the Park District in the annual children’s parade. Winners will be selected in each category and prizes given at the end. Call the park district at (217) 732-8770 for more information. \nEvent codes cc4oj ccff ccfk ccfre ccsoc ccfce
URL:https://www.wlcnonline.com/event/2025-independence-day-walking-parade-for-children-starting-at-scully-park-sponsored-by-lincoln-park-district/
LOCATION:Scully Park in Lincoln\, 450 Clinton Street\, Lincoln\, IL\, 62656\, United States
ORGANIZER;CN="Lincoln Park District":MAILTO:info@lincolnparkdistrict.com
END:VEVENT
BEGIN:VEVENT
DTSTART;TZID=America/Chicago:20250704T100000
DTEND;TZID=America/Chicago:20250704T140000
DTSTAMP:20260423T233336
CREATED:20250625T195714Z
LAST-MODIFIED:20250625T195714Z
UID:10020298-1751623200-1751637600@www.wlcnonline.com
SUMMARY:Pork chop sandwich sale by Boy Scout Troop 122 at Longview Community Bank parking lot in Mt. Pulaski
DESCRIPTION:The troop will sell pork chops\, hot dogs and water in the Longview Bank from 10 AM to 2 PM. \nEvent codes ccfdd ccfb
URL:https://www.wlcnonline.com/event/pork-chop-sandwich-sale-by-boy-scout-troop-122-at-longview-community-bank-parking-lot-in-mt-pulaski/
LOCATION:Longview Community Bank in Mt. Pulaski\, 130 S. Washington\, Mt. Pulaski\, IL\, 62548\, United States
END:VEVENT
BEGIN:VEVENT
DTSTART;TZID=America/Chicago:20250704T100000
DTEND;TZID=America/Chicago:20250704T110000
DTSTAMP:20260423T233336
CREATED:20250626T140933Z
LAST-MODIFIED:20250626T140933Z
UID:10020305-1751623200-1751626800@www.wlcnonline.com
SUMMARY:2025 Independence Day parade in Hopedale
DESCRIPTION:The theme of this year’s parade is Celebrating Rural America \nThe parade takes place July 4th starting at 10 AM; line up for parade participants takes place at 9 AM at the corner of Main and Railroad Streets. Awards will be given in the following categories: \n\nfloats\nhorses/mules\ntractors\nwalking\nThe Etta Coggins Spirit Award\n\nThere will be activities in Hopedale Park following the parade. \nEvent codes cc4oj ccff ccfk ccsoc ccfce
URL:https://www.wlcnonline.com/event/2025-independence-day-parade-in-hopedale/
LOCATION:Town of Hopedale\, Illinois\, Hopedale\, IL\, 61747\, United States
END:VEVENT
BEGIN:VEVENT
DTSTART;TZID=America/Chicago:20250704T090000
DTEND;TZID=America/Chicago:20250704T110000
DTSTAMP:20260423T233336
CREATED:20250701T135932Z
LAST-MODIFIED:20250701T135932Z
UID:10020376-1751619600-1751626800@www.wlcnonline.com
SUMMARY:Live music by Mark playing American classics at Interurban Merchant in Williamsville
DESCRIPTION:The public is invited to attend and listen to one of Williamsville’s most talented acoustic musicians playing a salute to American classics. \nEvent codes cclm ccent ccsoc ccfb
URL:https://www.wlcnonline.com/event/live-music-by-mark-playing-american-classics-at-interurban-merchant-in-williamsville/
LOCATION:Interurban Merchant in Williamsville\, 112 W. Main Street\, Williamsville\, IL\, 62693\, United States
ORGANIZER;CN="Interurban Merchant":MAILTO:interurbanmerchant@gmail.com
END:VEVENT
END:VCALENDAR