BEGIN:VCALENDAR
VERSION:2.0
PRODID:-//WLCN 96.3 FM - ECPv6.15.20//NONSGML v1.0//EN
CALSCALE:GREGORIAN
METHOD:PUBLISH
X-WR-CALNAME:WLCN 96.3 FM
X-ORIGINAL-URL:https://www.wlcnonline.com
X-WR-CALDESC:Events for WLCN 96.3 FM
REFRESH-INTERVAL;VALUE=DURATION:PT1H
X-Robots-Tag:noindex
X-PUBLISHED-TTL:PT1H
BEGIN:VTIMEZONE
TZID:America/Chicago
BEGIN:DAYLIGHT
TZOFFSETFROM:-0600
TZOFFSETTO:-0500
TZNAME:CDT
DTSTART:20240310T080000
END:DAYLIGHT
BEGIN:STANDARD
TZOFFSETFROM:-0500
TZOFFSETTO:-0600
TZNAME:CST
DTSTART:20241103T070000
END:STANDARD
BEGIN:DAYLIGHT
TZOFFSETFROM:-0600
TZOFFSETTO:-0500
TZNAME:CDT
DTSTART:20250309T080000
END:DAYLIGHT
BEGIN:STANDARD
TZOFFSETFROM:-0500
TZOFFSETTO:-0600
TZNAME:CST
DTSTART:20251102T070000
END:STANDARD
BEGIN:DAYLIGHT
TZOFFSETFROM:-0600
TZOFFSETTO:-0500
TZNAME:CDT
DTSTART:20260308T080000
END:DAYLIGHT
BEGIN:STANDARD
TZOFFSETFROM:-0500
TZOFFSETTO:-0600
TZNAME:CST
DTSTART:20261101T070000
END:STANDARD
END:VTIMEZONE
BEGIN:VEVENT
DTSTART;TZID=America/Chicago:20250724T180000
DTEND;TZID=America/Chicago:20250724T190000
DTSTAMP:20260423T153454
CREATED:20250227T215251Z
LAST-MODIFIED:20251231T170747Z
UID:10019199-1753380000-1753383600@www.wlcnonline.com
SUMMARY:Narcotics Anonymous meetings by Land of Lincoln Recovery Group at Hope on 5th in Lincoln
DESCRIPTION:Meetings are free to attend and take place at 6 PM Thursdays as well as at 5 PM on Sundays. \nEvent codes
URL:https://www.wlcnonline.com/event/narcotics-anonymous-meetings-by-land-of-lincoln-recovery-group-at-hope-on-5th-in-lincoln-2/2025-07-24/
LOCATION:Hope on 5th in Lincoln\, 200 5th Street\, Lincoln\, 62656\, United States
ORGANIZER;CN="Logan Mason Recovery Oriented Systems of Care (ROSC)":MAILTO:jedavis@chestnut.org
END:VEVENT
BEGIN:VEVENT
DTSTART;TZID=America/Chicago:20250724T170000
DTEND;TZID=America/Chicago:20250724T210000
DTSTAMP:20260423T153454
CREATED:20250717T215744Z
LAST-MODIFIED:20251231T171425Z
UID:10020484-1753376400-1753390800@www.wlcnonline.com
SUMMARY:Thursday night bingo (meal @ 5 PM\, bingo @ 6:30 PM) at Eagles Lodge in Lincoln﻿
DESCRIPTION:Doors open at 5 PM with food being served. Bingo starts at 6:30 PM and includes cash prizes\, jackpots as well as jar balls. Open to the public. \nEvent codes ccfb ccgc ccsoc ccbin
URL:https://www.wlcnonline.com/event/thursday-night-bingo-meal-5-pm-bingo-630-pm-at-eagles-lodge-in-lincoln/2025-07-24/
LOCATION:Fraternal Order Of Eagles #2708 in Lincoln\, 1621 N. Kickapoo Street\, Lincoln\, IL\, 62656\, United States
END:VEVENT
BEGIN:VEVENT
DTSTART;TZID=America/Chicago:20250724T170000
DTEND;TZID=America/Chicago:20250724T200000
DTSTAMP:20260423T153454
CREATED:20250130T150109Z
LAST-MODIFIED:20260417T032810Z
UID:10018164-1753376400-1753387200@www.wlcnonline.com
SUMMARY:Fundraiser for Lincoln Woman's Club at Culver's of Lincoln
DESCRIPTION:Purchase food from Culver’s of Lincoln and help support a worthy cause whether dining in\, carrying out\, using the drive-thru or ordering through DoorDash. During the hours of the fundraiser\, a portion of all proceeds will be donated to the organization. \nEvent codes ccfb\, ccfdd
URL:https://www.wlcnonline.com/event/fundraiser-for-lincoln-womans-club-at-culvers-of-lincoln-8/2025-07-24/
LOCATION:Culver’s of Lincoln\, 2530 Woodlawn Road\, Lincoln\, IL\, 62656\, United States
ORGANIZER;CN="Culver's of Lincoln":MAILTO:lincolnculvers@comcast.net
END:VEVENT
BEGIN:VEVENT
DTSTART;TZID=America/Chicago:20250724T170000
DTEND;TZID=America/Chicago:20250724T180000
DTSTAMP:20260423T153454
CREATED:20250717T144158Z
LAST-MODIFIED:20250718T032958Z
UID:10020472-1753376400-1753380000@www.wlcnonline.com
SUMMARY:Queen Bee Fashion Show sponsored by The Bee boutique featuring Logan County Fair Queen contestants in the Arcade breezeway in downtown Lincoln
DESCRIPTION:The Queen Bee Fashion Show will feature Logan County Fair Queen contestants wearing fashion from The Bee. \nThe event will have no seating for attendees and take place in the Arcade breezeway\, located at 515 Pulaski Street in downtown Lincoln. \nEvent codes cchwf cclbep
URL:https://www.wlcnonline.com/event/queen-bee-fashion-show-sponsored-by-the-bee-boutique-featuring-logan-county-fair-queen-contestants-in-the-arcade-breezeway-in-downtown-lincoln/
LOCATION:Arcade breezeway in downtown Lincoln\, 515 Pulaski Street\, Lincoln\, 62656\, United States
ORGANIZER;CN="The Bee Boutique in Lincoln":MAILTO:melaniemwelch@gmail.com
END:VEVENT
BEGIN:VEVENT
DTSTART;TZID=America/Chicago:20250724T080000
DTEND;TZID=America/Chicago:20250724T170000
DTSTAMP:20260423T153455
CREATED:20250605T131648Z
LAST-MODIFIED:20250605T132035Z
UID:10020240-1753344000-1753376400@www.wlcnonline.com
SUMMARY:2025 Summer Family Flicks Series at VIP Grand Theater in Lincoln (Wed 7/23 and Th 7/24 -- "Trolls: Band Together")
DESCRIPTION:The VIP Grand offers a line-up of family-friendly movies every Wednesday and Thursday morning for 10 weeks throughout the summer. Tickets cost $2 per person for each guest every Summer Flicks showing. Tickets can now be purchased online for each showing\, so be aware spots may fill up before the day of the event.
URL:https://www.wlcnonline.com/event/2025-summer-family-flicks-series-at-vip-grand-theater-in-lincoln-8/
LOCATION:VIP Lincoln Grand\, 225 S. Kickapoo Street\, Lincoln\, IL\, 62656\, United States
ORGANIZER;CN="VIP Lincoln Grand":MAILTO:lincoln@vipcinemas.com
END:VEVENT
BEGIN:VEVENT
DTSTART;TZID=America/Chicago:20250723T190000
DTEND;TZID=America/Chicago:20250723T210000
DTSTAMP:20260423T153455
CREATED:20250710T223538Z
LAST-MODIFIED:20250710T223538Z
UID:10020468-1753297200-1753304400@www.wlcnonline.com
SUMMARY:Music bingo (winner's choice night) (food/drinks @ 5:30 PM; bingo at 7 PM) at LaTeaDa Cafe/Barn Bar/Events in Clinton
DESCRIPTION:This music bingo event will be a “winner’s choice” event where the person who wins a round gets to pick the style of music category for the next round of bingo. Categories include music from a particular decade\, genre\, drinking songs\, one-hit wonders…there are many to choose from. \nMusic bingo works like traditional bingo: if a song on your card is played\, cross it off; the first person one to bingo wins a fun prize. \nMusic bingo is free to play; participants must be 18 or older. \nNo reservations are needed. No outside food or drink allowed. The Barn Bar & Outdoor Kitchen begins serving at 5:30 PM before the games begin at 7 PM. \nEvent codes: ccent\, ccfb\, cfre\, ccgc\, ccdj
URL:https://www.wlcnonline.com/event/music-bingo-winners-choice-night-food-drinks-530-pm-bingo-at-7-pm-at-lateada-cafe-barn-bar-events-in-clinton/
LOCATION:LaTeaDa Cafe/Barn Bar/Events in Clinton\, 1100 S. Madison Street\, Clinton\, IL\, 61727\, United States
ORGANIZER;CN="LaTeaDa Cafe/Barn Bar/Events":MAILTO:lateadaladies@gmail.com
END:VEVENT
BEGIN:VEVENT
DTSTART;TZID=America/Chicago:20250723T180000
DTEND;TZID=America/Chicago:20250723T235900
DTSTAMP:20260423T153455
CREATED:20250508T140922Z
LAST-MODIFIED:20250508T140922Z
UID:10020081-1753293600-1753315140@www.wlcnonline.com
SUMMARY:Bike night at The Rusty Rail Pub in Lincoln
DESCRIPTION:Bike Nights are back on Wednesdays through thru October 8. Enjoy drinks\, games\, contests\, prizes and of course bikes Wednesdays starting at 6 PM. \nEvent codes cclbep ccfb ccsoc
URL:https://www.wlcnonline.com/event/bike-night-at-the-rusty-rail-pub-in-lincoln/2025-07-23/
LOCATION:The Rusty Rail Pub in Lincoln\, 405 Pulaski Street\, Lincoln\, IL\, 62656\, United States
END:VEVENT
BEGIN:VEVENT
DTSTART;TZID=America/Chicago:20250723T180000
DTEND;TZID=America/Chicago:20250723T190000
DTSTAMP:20260423T153455
CREATED:20250227T221550Z
LAST-MODIFIED:20251231T171533Z
UID:10019567-1753293600-1753297200@www.wlcnonline.com
SUMMARY:Odds & Ends peer recovery support group meeting at Hardee's in Havana
DESCRIPTION:Meetings are free to attend and take place Wednesdays at 6 PM. \nEvent codes
URL:https://www.wlcnonline.com/event/odds-ends-peer-recovery-support-group-meeting-at-hardees-in-havana/2025-07-23/
LOCATION:Hardee’s in Havana\, 401 W. Dearborn Street\, Havana\, 62644\, United States
ORGANIZER;CN="Logan Mason Recovery Oriented Systems of Care (ROSC)":MAILTO:jedavis@chestnut.org
END:VEVENT
BEGIN:VEVENT
DTSTART;TZID=America/Chicago:20250723T180000
DTEND;TZID=America/Chicago:20250723T190000
DTSTAMP:20260423T153455
CREATED:20250227T220829Z
LAST-MODIFIED:20251231T164443Z
UID:10019393-1753293600-1753297200@www.wlcnonline.com
SUMMARY:Alcoholics Anonymous meetings at Trinity Episcopal Church in Lincoln
DESCRIPTION:Meetings are free to attend and take place at the following times: \n\nMondays at 7 PM\nWednesdays at 6 PM\nFridays at 11 AM\nSundays at 6 PM\n\nEvent codes
URL:https://www.wlcnonline.com/event/alcoholics-anonymous-meetings-at-trinity-episcopal-church-in-lincoln-2/2025-07-23/
LOCATION:Trinity Episcopal Church in Lincoln\, 402 Pekin Street\, Lincoln\, 62656\, United States
ORGANIZER;CN="Logan Mason Recovery Oriented Systems of Care (ROSC)":MAILTO:jedavis@chestnut.org
END:VEVENT
BEGIN:VEVENT
DTSTART;TZID=America/Chicago:20250723T180000
DTEND;TZID=America/Chicago:20250723T190000
DTSTAMP:20260423T153455
CREATED:20250227T214713Z
LAST-MODIFIED:20251231T161900Z
UID:10018997-1753293600-1753297200@www.wlcnonline.com
SUMMARY:Alcoholics Anonymous meetings by Land of Lincoln Recovery Group at Hope on 5th in Lincoln
DESCRIPTION:Meetings are free to attend and take place at 6 PM on Tuesdays\, Wednesdays\, Fridays and Saturdays as well as at 9 AM on Saturdays and Sundays. \nEvent codes
URL:https://www.wlcnonline.com/event/alcoholics-anonymous-meetings-by-land-of-lincoln-recovery-group-at-hope-on-5th-in-lincoln/2025-07-23/
LOCATION:Hope on 5th in Lincoln\, 200 5th Street\, Lincoln\, 62656\, United States
ORGANIZER;CN="Logan Mason Recovery Oriented Systems of Care (ROSC)":MAILTO:jedavis@chestnut.org
END:VEVENT
BEGIN:VEVENT
DTSTART;TZID=America/Chicago:20250723T100000
DTEND;TZID=America/Chicago:20250723T113000
DTSTAMP:20260423T153455
CREATED:20250703T182546Z
LAST-MODIFIED:20250703T183507Z
UID:10020436-1753264800-1753270200@www.wlcnonline.com
SUMMARY:2025 Summer Kids Movie Series at Clintonia Eagle Theater in Clinton (Tu 7/22 & We 7/23 - Trolls)
DESCRIPTION:The 2025 Summer Kids Movie series offers free admission to all attendees. Movies begin at 10 AM; free popcorn Wednesday does not apply. \nEvent codes ccfre ccff ccfk ccent
URL:https://www.wlcnonline.com/event/2025-summer-kids-movie-series-at-clintonia-eagle-theater-in-clinton-tu-6-3-we-6-4-the-lego-movie-2-2-2-2-2-2-2/2025-07-23/
LOCATION:Clintonia Eagle Theater in Clinton\, 13 Kelli Court\, Clinton\, IL\, 61727\, United States
ORGANIZER;CN="Clintonia Eagle Theater":MAILTO:bethany@eagletheater.net
END:VEVENT
BEGIN:VEVENT
DTSTART;TZID=America/Chicago:20250723T100000
DTEND;TZID=America/Chicago:20250723T113000
DTSTAMP:20260423T153455
CREATED:20250605T133808Z
LAST-MODIFIED:20250605T133808Z
UID:10020211-1753264800-1753270200@www.wlcnonline.com
SUMMARY:2025 Summer Family Flicks Series at VIP Grand Theater in Lincoln (Wed 7/23 and Th 7/24 -- "Trolls: Band Together")
DESCRIPTION:The VIP Grand offers a line-up of family-friendly movies every Wednesday and Thursday morning for 10 weeks throughout the summer. Tickets cost $2 per person for each guest every Summer Flicks showing. Tickets can now be purchased online for each showing\, so be aware spots may fill up before the day of the event. \nEvent codes ccfre ccff ccfk ccent
URL:https://www.wlcnonline.com/event/2025-summer-family-flicks-series-at-vip-grand-theater-in-lincoln-8-2/
LOCATION:VIP Lincoln Grand\, 225 S. Kickapoo Street\, Lincoln\, IL\, 62656\, United States
ORGANIZER;CN="VIP Lincoln Grand":MAILTO:lincoln@vipcinemas.com
END:VEVENT
BEGIN:VEVENT
DTSTART;TZID=America/Chicago:20250722T180000
DTEND;TZID=America/Chicago:20250722T190000
DTSTAMP:20260423T153455
CREATED:20250227T214713Z
LAST-MODIFIED:20251231T161900Z
UID:10018996-1753207200-1753210800@www.wlcnonline.com
SUMMARY:Alcoholics Anonymous meetings by Land of Lincoln Recovery Group at Hope on 5th in Lincoln
DESCRIPTION:Meetings are free to attend and take place at 6 PM on Tuesdays\, Wednesdays\, Fridays and Saturdays as well as at 9 AM on Saturdays and Sundays. \nEvent codes
URL:https://www.wlcnonline.com/event/alcoholics-anonymous-meetings-by-land-of-lincoln-recovery-group-at-hope-on-5th-in-lincoln/2025-07-22/
LOCATION:Hope on 5th in Lincoln\, 200 5th Street\, Lincoln\, 62656\, United States
ORGANIZER;CN="Logan Mason Recovery Oriented Systems of Care (ROSC)":MAILTO:jedavis@chestnut.org
END:VEVENT
BEGIN:VEVENT
DTSTART;TZID=America/Chicago:20250722T170000
DTEND;TZID=America/Chicago:20250722T203000
DTSTAMP:20260423T153455
CREATED:20250220T233455Z
LAST-MODIFIED:20251231T163935Z
UID:10018868-1753203600-1753216200@www.wlcnonline.com
SUMMARY:Tuesday night bingo (meal @ 5 PM\, bingo @ 6:30 PM) at Oasis Senior Center in Lincoln﻿
DESCRIPTION:Bingo takes place on Tuesday evenings from 6:30 PM to 8:30 PM and is open to the public. Doors open at 5 PM for a meal\, snack and beverages. \nEvent codes ccgc ccbin ccfb ccsoc
URL:https://www.wlcnonline.com/event/tuesday-night-bingo-meal-5-pm-bingo-630-pm-at-oasis-senior-center-in-lincoln/2025-07-22/
LOCATION:Oasis Senior Center\, 2810 Woodlawn Road\, Lincoln\, IL\, 62656\, United States
ORGANIZER;CN="Oasis Senior Center":MAILTO:nancy@oasisseniorcenter.com
END:VEVENT
BEGIN:VEVENT
DTSTART;TZID=America/Chicago:20250722T100000
DTEND;TZID=America/Chicago:20250722T113000
DTSTAMP:20260423T153455
CREATED:20250703T182546Z
LAST-MODIFIED:20250703T183507Z
UID:10020231-1753178400-1753183800@www.wlcnonline.com
SUMMARY:2025 Summer Kids Movie Series at Clintonia Eagle Theater in Clinton (Tu 7/22 & We 7/23 - Trolls)
DESCRIPTION:The 2025 Summer Kids Movie series offers free admission to all attendees. Movies begin at 10 AM; free popcorn Wednesday does not apply. \nEvent codes ccfre ccff ccfk ccent
URL:https://www.wlcnonline.com/event/2025-summer-kids-movie-series-at-clintonia-eagle-theater-in-clinton-tu-6-3-we-6-4-the-lego-movie-2-2-2-2-2-2-2/2025-07-22/
LOCATION:Clintonia Eagle Theater in Clinton\, 13 Kelli Court\, Clinton\, IL\, 61727\, United States
ORGANIZER;CN="Clintonia Eagle Theater":MAILTO:bethany@eagletheater.net
END:VEVENT
BEGIN:VEVENT
DTSTART;TZID=America/Chicago:20250721T190000
DTEND;TZID=America/Chicago:20250721T200000
DTSTAMP:20260423T153455
CREATED:20250227T220659Z
LAST-MODIFIED:20251231T163725Z
UID:10019349-1753124400-1753128000@www.wlcnonline.com
SUMMARY:Alcoholics Anonymous meetings at Trinity Episcopal Church in Lincoln
DESCRIPTION:Meetings are free to attend and take place at the following times: \n\nMondays at 7 PM\nWednesdays at 6 PM\nFridays at 11 AM\nSundays at 6 PM\n\nEvent codes
URL:https://www.wlcnonline.com/event/alcoholics-anonymous-meetings-at-trinity-episcopal-church-in-lincoln/2025-07-21/
LOCATION:Trinity Episcopal Church in Lincoln\, 402 Pekin Street\, Lincoln\, 62656\, United States
ORGANIZER;CN="Logan Mason Recovery Oriented Systems of Care (ROSC)":MAILTO:jedavis@chestnut.org
END:VEVENT
BEGIN:VEVENT
DTSTART;TZID=America/Chicago:20250721T183000
DTEND;TZID=America/Chicago:20250721T203000
DTSTAMP:20260423T153455
CREATED:20250709T215428Z
LAST-MODIFIED:20250709T215428Z
UID:10020452-1753122600-1753129800@www.wlcnonline.com
SUMMARY:July card making event at Interurban Merchant in Williamsville
DESCRIPTION:Interurban Merchant is hosting this creative event for attendees to make four unique handcrafted cards for sending or giving\, all while enjoying a cool or warm beverage of choice. All card supplies\, specialty tools and instructions will be provided\, but attendees should bring scissors and adhesive (tape runner type works best). \nCost is $20 and includes the costs of supplies and instruction. Participants will also get a free beverage. \nDue to a limited number of spaces\, those planning to attend are asked to RSVP by July 20 so supply kits can be prepared. Interested persons can text or call (217) 741-1688 to confirm availability and reserve a spot. \nEvent codes ccaca ccsoc
URL:https://www.wlcnonline.com/event/july-card-making-event-at-interurban-merchant-in-williamsville/
LOCATION:Interurban Merchant in Williamsville\, 112 W. Main Street\, Williamsville\, IL\, 62693\, United States
ORGANIZER;CN="Creative Jesstures":MAILTO:jessica.ingold@yahoo.com
END:VEVENT
BEGIN:VEVENT
DTSTART;TZID=America/Chicago:20250721T180000
DTEND;TZID=America/Chicago:20250721T200000
DTSTAMP:20260423T153455
CREATED:20240926T041522Z
LAST-MODIFIED:20240926T041522Z
UID:10016859-1753120800-1753128000@www.wlcnonline.com
SUMMARY:Xtreme Bar Bingo at Stag R Inn in Emden
DESCRIPTION:Enjoy Xtreme Bar Bingo along with drink and food specials each week. Participants will have the chance to win prizes and cash. \nEvent codes: ccgc\, ccsoc ccbin
URL:https://www.wlcnonline.com/event/xtreme-bar-bingo-at-stag-r-inn-in-emden-2/2025-07-21/
LOCATION:Stag R Inn in Emden\, 102 Lincoln Street\, Emden\, IL\, 62635\, United States
END:VEVENT
BEGIN:VEVENT
DTSTART;TZID=America/Chicago:20250721T180000
DTEND;TZID=America/Chicago:20250721T190000
DTSTAMP:20260423T153455
CREATED:20250227T215503Z
LAST-MODIFIED:20251231T163530Z
UID:10019242-1753120800-1753124400@www.wlcnonline.com
SUMMARY:Co-Dependents Anonymous (CoDA) meetings by Land of Lincoln Recovery Group at Hope on 5th in Lincoln
DESCRIPTION:Meetings are free to attend and take place at 6 PM Mondays. \nEvent codes
URL:https://www.wlcnonline.com/event/co-dependents-anonymous-coda-meetings-by-land-of-lincoln-recovery-group-at-hope-on-5th-in-lincoln/2025-07-21/
LOCATION:Hope on 5th in Lincoln\, 200 5th Street\, Lincoln\, 62656\, United States
ORGANIZER;CN="Logan Mason Recovery Oriented Systems of Care (ROSC)":MAILTO:jedavis@chestnut.org
END:VEVENT
BEGIN:VEVENT
DTSTART;TZID=America/Chicago:20250721T170000
DTEND;TZID=America/Chicago:20250721T200000
DTSTAMP:20260423T153455
CREATED:20250130T145000Z
LAST-MODIFIED:20260417T032605Z
UID:10018112-1753117200-1753128000@www.wlcnonline.com
SUMMARY:Fundraiser for Habitat for Humanity of Logan County at Culver's of Lincoln
DESCRIPTION:Purchase food from Culver’s of Lincoln and help support a worthy cause whether dining in\, carrying out\, using the drive-thru or ordering through DoorDash. During the hours of the fundraiser\, a portion of all proceeds will be donated to the organization. \nEvent codes ccfb\, ccfdd
URL:https://www.wlcnonline.com/event/fundraiser-for-habitat-for-humanity-of-logan-county-at-culvers-of-lincoln-8/2025-07-21/
LOCATION:Culver’s of Lincoln\, 2530 Woodlawn Road\, Lincoln\, IL\, 62656\, United States
ORGANIZER;CN="Culver's of Lincoln":MAILTO:lincolnculvers@comcast.net
END:VEVENT
BEGIN:VEVENT
DTSTART;TZID=America/Chicago:20250721T170000
DTEND;TZID=America/Chicago:20250721T190000
DTSTAMP:20260423T153455
CREATED:20250709T221445Z
LAST-MODIFIED:20250709T221445Z
UID:10020453-1753117200-1753124400@www.wlcnonline.com
SUMMARY:"Party in the Park" celebration for the end of the summer reading program hosted by Ayer Public Library at Veterans Memorial Park in Delavan
DESCRIPTION:Dinner will be provided at this end-of-summer-reading-program celebration. M&K Parties also will provide activities and and treats. \nThe event will be held at Veterans Memorial Park. \nEvent codes ccsoc ccedu ccfb ccent ccfk
URL:https://www.wlcnonline.com/event/party-in-the-park-celebration-for-the-end-of-the-summer-reading-program-hosted-by-ayer-public-library-at-veterans-memorial-park-in-delavan/
LOCATION:Veterans Memorial Park in Delavan\, Corner of 4th and Elm Streets\, Delavan\, 61734\, United States
ORGANIZER;CN="Ayer Public Library District":MAILTO:ayerpubliclibrary@yahoo.com
END:VEVENT
BEGIN:VEVENT
DTSTART;TZID=America/Chicago:20250721T170000
DTEND;TZID=America/Chicago:20250721T180000
DTSTAMP:20260423T153455
CREATED:20250709T223419Z
LAST-MODIFIED:20250709T223419Z
UID:10020454-1753117200-1753120800@www.wlcnonline.com
SUMMARY:Small business meetup by SmartStart Delavan at Ichabod's Apothecary in Delavan
DESCRIPTION:This event is intended for those wanting to start a business in Delavan or grow an existing business. The theme for the July 2025 event is growth. The event is open to those with brick and mortar businesses\, home-based businesses\, pop-up vendor businesses or simply an idea for a new business; connect with other entrepreneurs and to learn how to take that next step to grow your business. \nEvent codes cclbap ccbus ccsoc ccedu
URL:https://www.wlcnonline.com/event/small-business-meetup-by-smartstart-delavan-at-ichabods-apothecary-in-delavan/
LOCATION:Ichabod’s Apothecary in Delavan\, 412 S Locust Street\, Delavan\, 61734\, United States
ORGANIZER;CN="SmartStart Delavan":MAILTO:hello@smartstartcommunity.com
END:VEVENT
BEGIN:VEVENT
DTSTART;TZID=America/Chicago:20250721T133000
DTEND;TZID=America/Chicago:20250721T173000
DTSTAMP:20260423T153455
CREATED:20240808T140430Z
LAST-MODIFIED:20260212T210056Z
UID:10020066-1753104600-1753119000@www.wlcnonline.com
SUMMARY:Community blood drive at Knights of Columbus Hall in Lincoln
DESCRIPTION:Click here to schedule a donation appointment time. \nEvent codes: ccbld\, ccserv
URL:https://www.wlcnonline.com/event/community-blood-drive-at-knights-of-columbus-hall-in-lincoln-5/2025-07-21/
LOCATION:Lincoln Knights of Columbus Hall\, 217 Limit Street\, Lincoln\, IL\, 62656\, United States
END:VEVENT
BEGIN:VEVENT
DTSTART;TZID=America/Chicago:20250720T180000
DTEND;TZID=America/Chicago:20250720T190000
DTSTAMP:20260423T153455
CREATED:20250227T221038Z
LAST-MODIFIED:20251231T162443Z
UID:10019480-1753034400-1753038000@www.wlcnonline.com
SUMMARY:Alcoholics Anonymous meetings at Trinity Episcopal Church in Lincoln
DESCRIPTION:Meetings are free to attend and take place at the following times: \n\nMondays at 7 PM\nWednesdays at 6 PM\nFridays at 11 AM\nSundays at 6 PM\n\nEvent codes
URL:https://www.wlcnonline.com/event/alcoholics-anonymous-meetings-at-trinity-episcopal-church-in-lincoln-4/2025-07-20/
LOCATION:Trinity Episcopal Church in Lincoln\, 402 Pekin Street\, Lincoln\, 62656\, United States
ORGANIZER;CN="Logan Mason Recovery Oriented Systems of Care (ROSC)":MAILTO:jedavis@chestnut.org
END:VEVENT
BEGIN:VEVENT
DTSTART;TZID=America/Chicago:20250720T170000
DTEND;TZID=America/Chicago:20250720T180000
DTSTAMP:20260423T153455
CREATED:20250227T215139Z
LAST-MODIFIED:20251231T162319Z
UID:10019655-1753030800-1753034400@www.wlcnonline.com
SUMMARY:Narcotics Anonymous meetings by Land of Lincoln Recovery Group at Hope on 5th in Lincoln
DESCRIPTION:Meetings are free to attend and take place at 6 PM Thursdays as well as at 5 PM on Sundays. \nEvent codes
URL:https://www.wlcnonline.com/event/narcotics-anonymous-meetings-by-land-of-lincoln-recovery-group-at-hope-on-5th-in-lincoln/2025-07-20/
LOCATION:Hope on 5th in Lincoln\, 200 5th Street\, Lincoln\, 62656\, United States
ORGANIZER;CN="Logan Mason Recovery Oriented Systems of Care (ROSC)":MAILTO:jedavis@chestnut.org
END:VEVENT
BEGIN:VEVENT
DTSTART;TZID=America/Chicago:20250720T140000
DTEND;TZID=America/Chicago:20250720T160000
DTSTAMP:20260423T153455
CREATED:20250508T025102Z
LAST-MODIFIED:20250731T191142Z
UID:10020053-1753020000-1753027200@www.wlcnonline.com
SUMMARY:Open community garden work day at the David W. Schroder Memorial Community Garden in Lincoln
DESCRIPTION:Volunteers are needed to help plant\, water\, harvest\, weed and beautify the David W. Schroder Memorial Community Garden. Attendees should bring work gloves and may bring gardening tools to assist. \nAll ages are welcome. \nEvent codes
URL:https://www.wlcnonline.com/event/open-community-garden-work-day-at-the-david-w-schroder-memorial-community-garden-in-lincoln/2025-07-20/
LOCATION:David W. Schroder Memorial Community Garden in Lincoln\, 114 S. Logan Street\, Lincoln\, IL\, 62656\, United States
ORGANIZER;CN="Lincoln Community Garden Project":MAILTO:lcncommunitygarden@gmail.com
END:VEVENT
BEGIN:VEVENT
DTSTART;TZID=America/Chicago:20250720T140000
DTEND;TZID=America/Chicago:20250720T160000
DTSTAMP:20260423T153455
CREATED:20240607T073345Z
LAST-MODIFIED:20251231T163021Z
UID:10020346-1753020000-1753027200@www.wlcnonline.com
SUMMARY:Xtreme Bar Bingo at The Next Stop Saloon in Mt. Pulaski
DESCRIPTION:Games take place every Sunday from 2 PM to 4 PM. \nEvent codes ccfb ccbin
URL:https://www.wlcnonline.com/event/xtreme-bar-bingo-at-the-next-stop-saloon-in-mt-pulaski/2025-07-20/
LOCATION:The Next Stop Saloon in Mt. Pulaski\, 100 E. Cooke Street\, Mt. Pulaski\, IL\, 62548\, United States
END:VEVENT
BEGIN:VEVENT
DTSTART;TZID=America/Chicago:20250720T120000
DTEND;TZID=America/Chicago:20250720T170000
DTSTAMP:20260423T153455
CREATED:20250710T224317Z
LAST-MODIFIED:20250710T224317Z
UID:10020469-1753012800-1753030800@www.wlcnonline.com
SUMMARY:2025 Art & Wine Festival with free admission at Mackinaw Valley Vineyard and Winery
DESCRIPTION:This event has free admission and will be held rain or shine in the Pavilion Building of the venue. \nLocal and regional artists showcase their talents and sell their art. The midwestern artists invited specialize in oil and water color painting\, wood\, jewelry\, metal work\, ceramics and glass.\nCar clubs have been invited to display their cars at a cruise-in. \nThere will be wine tasting all day in tasting room as well as music by Greg Williams. \nConcessions will be available by “Tony’s on Wheels” from Haddad’s Lebanese Restaurant\, popcorn\, Ropp Cheeses\, chocolates from Flesor’s Candy Kitchen and ice cream and cookies by Grandma Nana’s Cookies. \nEvent codes ccsoc ccfb ccfa ccavse ccent cclm
URL:https://www.wlcnonline.com/event/2025-art-wine-festival-with-free-admission-at-mackinaw-valley-vineyard-and-winery/
LOCATION:Mackinaw Valley Vineyard and Winery\, 33633 State Route 9\, Mackinaw\, IL\, 61755\, United States
ORGANIZER;CN="Mackinaw Valley Vineyard and Winery":MAILTO:mackinawwinery03@gmail.com
END:VEVENT
BEGIN:VEVENT
DTSTART;TZID=America/Chicago:20250720T090000
DTEND;TZID=America/Chicago:20250720T100000
DTSTAMP:20260423T153455
CREATED:20250227T214918Z
LAST-MODIFIED:20251231T162155Z
UID:10019131-1753002000-1753005600@www.wlcnonline.com
SUMMARY:Alcoholics Anonymous meetings by Land of Lincoln Recovery Group at Hope on 5th in Lincoln
DESCRIPTION:Meetings are free to attend and take place at 6 PM on Tuesdays\, Wednesdays\, Fridays and Saturdays as well as at 9 AM on Saturdays and Sundays. \nEvent codes
URL:https://www.wlcnonline.com/event/alcoholics-anonymous-meetings-by-land-of-lincoln-recovery-group-at-hope-on-5th-in-lincoln-2/2025-07-20/
LOCATION:Hope on 5th in Lincoln\, 200 5th Street\, Lincoln\, 62656\, United States
ORGANIZER;CN="Logan Mason Recovery Oriented Systems of Care (ROSC)":MAILTO:jedavis@chestnut.org
END:VEVENT
BEGIN:VEVENT
DTSTART;TZID=America/Chicago:20250719T190000
DTEND;TZID=America/Chicago:20250719T230000
DTSTAMP:20260423T153455
CREATED:20250709T224315Z
LAST-MODIFIED:20250709T224315Z
UID:10020455-1752951600-1752966000@www.wlcnonline.com
SUMMARY:Live music by Dexter O'Neal & the Funk Yard at Mackinaw Valley Winery
DESCRIPTION:Enjoy live music from Dexter O’Neal & the Funk Yard as this six-piece band brings its musical talents and years of experience in covering everything from Motown\, funk\, rock and much more. \nAdmission is $5 per person with kids 12 and under admitted for free. Attendees can bring lawn chairs to utilize the lawn seating\, or call to reserve seating for an additional $5 per person. Those attending can bring a lawn chair to enjoy lawn seating or call to reserve deck seating for an additional fee of $5 per seat. Foods may be brought into the facility\, but no outside beverages of any kind are allowed. Some food/drink items will be available for purchase. \nEvent codes: ccent\, ccfb\, cclm
URL:https://www.wlcnonline.com/event/live-music-by-dexter-oneal-the-funk-yard-at-mackinaw-valley-winery/
LOCATION:Mackinaw Valley Vineyard and Winery\, 33633 State Route 9\, Mackinaw\, IL\, 61755\, United States
ORGANIZER;CN="Mackinaw Valley Vineyard and Winery":MAILTO:mackinawwinery03@gmail.com
END:VEVENT
END:VCALENDAR