BEGIN:VCALENDAR
VERSION:2.0
PRODID:-//WLCN 96.3 FM - ECPv6.15.20//NONSGML v1.0//EN
CALSCALE:GREGORIAN
METHOD:PUBLISH
X-WR-CALNAME:WLCN 96.3 FM
X-ORIGINAL-URL:https://www.wlcnonline.com
X-WR-CALDESC:Events for WLCN 96.3 FM
REFRESH-INTERVAL;VALUE=DURATION:PT1H
X-Robots-Tag:noindex
X-PUBLISHED-TTL:PT1H
BEGIN:VTIMEZONE
TZID:America/Chicago
BEGIN:DAYLIGHT
TZOFFSETFROM:-0600
TZOFFSETTO:-0500
TZNAME:CDT
DTSTART:20240310T080000
END:DAYLIGHT
BEGIN:STANDARD
TZOFFSETFROM:-0500
TZOFFSETTO:-0600
TZNAME:CST
DTSTART:20241103T070000
END:STANDARD
BEGIN:DAYLIGHT
TZOFFSETFROM:-0600
TZOFFSETTO:-0500
TZNAME:CDT
DTSTART:20250309T080000
END:DAYLIGHT
BEGIN:STANDARD
TZOFFSETFROM:-0500
TZOFFSETTO:-0600
TZNAME:CST
DTSTART:20251102T070000
END:STANDARD
BEGIN:DAYLIGHT
TZOFFSETFROM:-0600
TZOFFSETTO:-0500
TZNAME:CDT
DTSTART:20260308T080000
END:DAYLIGHT
BEGIN:STANDARD
TZOFFSETFROM:-0500
TZOFFSETTO:-0600
TZNAME:CST
DTSTART:20261101T070000
END:STANDARD
END:VTIMEZONE
BEGIN:VEVENT
DTSTART;TZID=America/Chicago:20251215T110000
DTEND;TZID=America/Chicago:20251215T150000
DTSTAMP:20260420T220625
CREATED:20251205T045957Z
LAST-MODIFIED:20251205T045957Z
UID:10021207-1765796400-1765810800@www.wlcnonline.com
SUMMARY:Community blood drive at Lincoln Memorial Hospital
DESCRIPTION:The drive takes place from 11 AM to 3 PM. Click here to schedule an appointment online. \nEvent codes: ccbld ccserv
URL:https://www.wlcnonline.com/event/community-blood-drive-at-lincoln-memorial-hospital-2/
LOCATION:Lincoln Memorial Hospital\, 200 Stahlhut Drive\, Lincoln\, IL\, 62656\, United States
END:VEVENT
BEGIN:VEVENT
DTSTART;TZID=America/Chicago:20251215T100000
DTEND;TZID=America/Chicago:20251215T104500
DTSTAMP:20260420T220625
CREATED:20250814T215225Z
LAST-MODIFIED:20260115T152229Z
UID:10021797-1765792800-1765795500@www.wlcnonline.com
SUMMARY:Chair yoga by Silver Fox Fitness at The Villas at Lincoln﻿
DESCRIPTION:Seated and standing poses will be utilized with the goal of increasing flexibility\, balance and strength along with providing relaxation. Participants never get down on the floor. \nEvent codes: ccfs\, cchwf
URL:https://www.wlcnonline.com/event/chair-yoga-by-silver-fox-fitness-at-the-villas-at-lincoln/2025-12-15/
LOCATION:Villas at Lincoln (formerly The Christian Village) in Lincoln\, 1507 7th Street\, Lincoln\, IL\, 62656\, United States
END:VEVENT
BEGIN:VEVENT
DTSTART;TZID=America/Chicago:20251214T180000
DTEND;TZID=America/Chicago:20251214T190000
DTSTAMP:20260420T220625
CREATED:20250227T221038Z
LAST-MODIFIED:20251231T162443Z
UID:10019501-1765735200-1765738800@www.wlcnonline.com
SUMMARY:Alcoholics Anonymous meetings at Trinity Episcopal Church in Lincoln
DESCRIPTION:Meetings are free to attend and take place at the following times: \n\nMondays at 7 PM\nWednesdays at 6 PM\nFridays at 11 AM\nSundays at 6 PM\n\nEvent codes
URL:https://www.wlcnonline.com/event/alcoholics-anonymous-meetings-at-trinity-episcopal-church-in-lincoln-4/2025-12-14/
LOCATION:Trinity Episcopal Church in Lincoln\, 402 Pekin Street\, Lincoln\, 62656\, United States
ORGANIZER;CN="Logan Mason Recovery Oriented Systems of Care (ROSC)":MAILTO:jedavis@chestnut.org
END:VEVENT
BEGIN:VEVENT
DTSTART;TZID=America/Chicago:20251214T170000
DTEND;TZID=America/Chicago:20251214T180000
DTSTAMP:20260420T220625
CREATED:20250227T215139Z
LAST-MODIFIED:20251231T162319Z
UID:10019676-1765731600-1765735200@www.wlcnonline.com
SUMMARY:Narcotics Anonymous meetings by Land of Lincoln Recovery Group at Hope on 5th in Lincoln
DESCRIPTION:Meetings are free to attend and take place at 6 PM Thursdays as well as at 5 PM on Sundays. \nEvent codes
URL:https://www.wlcnonline.com/event/narcotics-anonymous-meetings-by-land-of-lincoln-recovery-group-at-hope-on-5th-in-lincoln/2025-12-14/
LOCATION:Hope on 5th in Lincoln\, 200 5th Street\, Lincoln\, 62656\, United States
ORGANIZER;CN="Logan Mason Recovery Oriented Systems of Care (ROSC)":MAILTO:jedavis@chestnut.org
END:VEVENT
BEGIN:VEVENT
DTSTART;TZID=America/Chicago:20251214T140000
DTEND;TZID=America/Chicago:20251214T160000
DTSTAMP:20260420T220625
CREATED:20240607T073345Z
LAST-MODIFIED:20251231T163021Z
UID:10020367-1765720800-1765728000@www.wlcnonline.com
SUMMARY:Xtreme Bar Bingo at The Next Stop Saloon in Mt. Pulaski
DESCRIPTION:Games take place every Sunday from 2 PM to 4 PM. \nEvent codes ccfb ccbin
URL:https://www.wlcnonline.com/event/xtreme-bar-bingo-at-the-next-stop-saloon-in-mt-pulaski/2025-12-14/
LOCATION:The Next Stop Saloon in Mt. Pulaski\, 100 E. Cooke Street\, Mt. Pulaski\, IL\, 62548\, United States
END:VEVENT
BEGIN:VEVENT
DTSTART;TZID=America/Chicago:20251214T090000
DTEND;TZID=America/Chicago:20251214T100000
DTSTAMP:20260420T220625
CREATED:20250227T214918Z
LAST-MODIFIED:20251231T162155Z
UID:10019173-1765702800-1765706400@www.wlcnonline.com
SUMMARY:Alcoholics Anonymous meetings by Land of Lincoln Recovery Group at Hope on 5th in Lincoln
DESCRIPTION:Meetings are free to attend and take place at 6 PM on Tuesdays\, Wednesdays\, Fridays and Saturdays as well as at 9 AM on Saturdays and Sundays. \nEvent codes
URL:https://www.wlcnonline.com/event/alcoholics-anonymous-meetings-by-land-of-lincoln-recovery-group-at-hope-on-5th-in-lincoln-2/2025-12-14/
LOCATION:Hope on 5th in Lincoln\, 200 5th Street\, Lincoln\, 62656\, United States
ORGANIZER;CN="Logan Mason Recovery Oriented Systems of Care (ROSC)":MAILTO:jedavis@chestnut.org
END:VEVENT
BEGIN:VEVENT
DTSTART;TZID=America/Chicago:20251213T190000
DTEND;TZID=America/Chicago:20251213T220000
DTSTAMP:20260420T220625
CREATED:20251205T045543Z
LAST-MODIFIED:20251205T045543Z
UID:10021205-1765652400-1765663200@www.wlcnonline.com
SUMMARY:Live music by Spoony & The Bootleggers at Minier Tap in Minier
DESCRIPTION:This 4-piece band brings a fresh take to classic sounds of outlaw country\, bluegrass and southern rock music. Spoony & The Bootleggers features a driving rhythm section\, acoustic lead guitars\, and vocal harmonies to get audience members moving and grooving. \nEvent codes ccent cclm ccfb
URL:https://www.wlcnonline.com/event/live-music-by-spoony-the-bootleggers-at-minier-tap-in-minier-2/
LOCATION:Minier Tap\, 121 S. Main Avenue\, Minier\, IL\, 61759\, United States
END:VEVENT
BEGIN:VEVENT
DTSTART;TZID=America/Chicago:20251213T180000
DTEND;TZID=America/Chicago:20251213T230000
DTSTAMP:20260420T220625
CREATED:20251211T215727Z
LAST-MODIFIED:20251211T215727Z
UID:10021228-1765648800-1765666800@www.wlcnonline.com
SUMMARY:3rd annual Ugly Sweater Party at The Thirsty Barrel in Mason City
DESCRIPTION:The Thirsty Barrel’s 3rd Annual Ugly Sweater Party coincides with the Reimagine MC Christmas Parade. There will be snacks\, drink specials\, free jukebox and prizes for the ugliest sweater contest winners! \nEvent codes ccchr ccfb ccsoc
URL:https://www.wlcnonline.com/event/3rd-annual-ugly-sweater-party-at-the-thirsty-barrel-in-mason-city/
LOCATION:The Thirsty Barrel in Mason City\, 118 S. Tonica Street\, Mason City\, IL\, 62664\, United States
ORGANIZER;CN="The Thirsty Barrel in Mason City":MAILTO:thirstybarrelbar@gmail.com
END:VEVENT
BEGIN:VEVENT
DTSTART;TZID=America/Chicago:20251213T180000
DTEND;TZID=America/Chicago:20251213T190000
DTSTAMP:20260420T220625
CREATED:20250227T214713Z
LAST-MODIFIED:20251231T161900Z
UID:10019079-1765648800-1765652400@www.wlcnonline.com
SUMMARY:Alcoholics Anonymous meetings by Land of Lincoln Recovery Group at Hope on 5th in Lincoln
DESCRIPTION:Meetings are free to attend and take place at 6 PM on Tuesdays\, Wednesdays\, Fridays and Saturdays as well as at 9 AM on Saturdays and Sundays. \nEvent codes
URL:https://www.wlcnonline.com/event/alcoholics-anonymous-meetings-by-land-of-lincoln-recovery-group-at-hope-on-5th-in-lincoln/2025-12-13/
LOCATION:Hope on 5th in Lincoln\, 200 5th Street\, Lincoln\, 62656\, United States
ORGANIZER;CN="Logan Mason Recovery Oriented Systems of Care (ROSC)":MAILTO:jedavis@chestnut.org
END:VEVENT
BEGIN:VEVENT
DTSTART;TZID=America/Chicago:20251213T160000
DTEND;TZID=America/Chicago:20251213T180000
DTSTAMP:20260420T220625
CREATED:20251205T042948Z
LAST-MODIFIED:20251205T042948Z
UID:10021200-1765641600-1765648800@www.wlcnonline.com
SUMMARY:2025 Journey to Bethlehem event at Zion Lutheran School in Lincoln
DESCRIPTION:The public is invited to experience this free indoor interactive journey through the story of Christmas in a meaningful and unforgettable way. \nEvent codes ccff ccedu ccrel ccchr
URL:https://www.wlcnonline.com/event/2025-journey-to-bethlehem-event-at-zion-lutheran-school-in-lincoln/
LOCATION:Zion Lutheran School-Lincoln\, 1600 Woodlawn Road\, Lincoln\, IL\, 62656\, United States
END:VEVENT
BEGIN:VEVENT
DTSTART;TZID=America/Chicago:20251213T150000
DTEND;TZID=America/Chicago:20251213T173000
DTSTAMP:20260420T220625
CREATED:20251211T215305Z
LAST-MODIFIED:20251211T215305Z
UID:10021224-1765638000-1765647000@www.wlcnonline.com
SUMMARY:Victorian Christmas Tea party at LaTeaDa Cafe/Barn Bar/Events in Clinton
DESCRIPTION:Savory bites and sweet treats will be served at this afternoon tea\, along with teas & coffees. Every dining guest will receive with a gift. \nTickets cost $25 per person and must be purchased in advance. Tickets can be bought by calling (217) 935-8855\, Tuesday through Saturday between 10 AM to 4 PM. \nEvent codes ccfb ccgc ccsoc ccchr cctriv
URL:https://www.wlcnonline.com/event/victorian-christmas-tea-party-at-lateada-cafe-barn-bar-events-in-clinton/
LOCATION:LaTeaDa Cafe/Barn Bar/Events in Clinton\, 1100 S. Madison Street\, Clinton\, IL\, 61727\, United States
ORGANIZER;CN="LaTeaDa Cafe/Barn Bar/Events":MAILTO:lateadaladies@gmail.com
END:VEVENT
BEGIN:VEVENT
DTSTART;TZID=America/Chicago:20251213T130000
DTEND;TZID=America/Chicago:20251213T143000
DTSTAMP:20260420T220625
CREATED:20251205T044408Z
LAST-MODIFIED:20251205T044408Z
UID:10021203-1765630800-1765636200@www.wlcnonline.com
SUMMARY:Book launch event for "Virtue of Vengeance" book with author Brian McDonald at Ink & Imprint Books in Lincoln
DESCRIPTION:Author Brian McDonald will be on hand at this launch party celebrating the release of his second book\, Virtue of Vengeance. The event runs from  from 1 PM to 2:30 PM. Virtue of Vengeance is a gritty\, character-driven drama that continues the story of Jimmy Dawson and The Defenders. \nEvent codes cclbep
URL:https://www.wlcnonline.com/event/book-launch-event-for-virtue-of-vengeance-book-with-author-brian-mcdonald-at-ink-imprint-books-in-lincoln/
LOCATION:Ink & Imprint Books in Lincoln\, 125 N Kickapoo Street\, Lincoln\, 62656\, United States
ORGANIZER;CN="Ink & Imprint Books":MAILTO:inkandimprintbooks@gmail.com
END:VEVENT
BEGIN:VEVENT
DTSTART;TZID=America/Chicago:20251213T120000
DTEND;TZID=America/Chicago:20251213T150000
DTSTAMP:20260420T220625
CREATED:20251120T225746Z
LAST-MODIFIED:20251120T225746Z
UID:10021154-1765627200-1765638000@www.wlcnonline.com
SUMMARY:2025 horse-drawn carriage rides around the square in downtown Lincoln
DESCRIPTION:Get into the holiday spirit with a *free* ride around the historic Logan County Courthouse on the square in downtown Lincoln. \nPick up and drop off will be in front of the Arcade on Pulaski Street. A sign-up sheet will be available at the pick-up and drop-off location. Once checked in\, you can shop local downtown businesses and enjoy the decorated trees on the square until their scheduled ride time. click here to learn more. \nEvent codes ccchr ccfre ccff
URL:https://www.wlcnonline.com/event/2025-horse-drawn-carriage-rides-around-the-square-in-downtown-lincoln/2025-12-13/
LOCATION:In front of the Arcade Building in Downtown Lincoln\, 513 Pulaski Street\, Lincoln\, IL\, 62656\, United States
ORGANIZER;CN="Downtown Lincoln Illinois":MAILTO:info@downtownlincolnillinois.com
END:VEVENT
BEGIN:VEVENT
DTSTART;TZID=America/Chicago:20251213T090000
DTEND;TZID=America/Chicago:20251213T100000
DTSTAMP:20260420T220625
CREATED:20250227T214918Z
LAST-MODIFIED:20251231T162155Z
UID:10019172-1765616400-1765620000@www.wlcnonline.com
SUMMARY:Alcoholics Anonymous meetings by Land of Lincoln Recovery Group at Hope on 5th in Lincoln
DESCRIPTION:Meetings are free to attend and take place at 6 PM on Tuesdays\, Wednesdays\, Fridays and Saturdays as well as at 9 AM on Saturdays and Sundays. \nEvent codes
URL:https://www.wlcnonline.com/event/alcoholics-anonymous-meetings-by-land-of-lincoln-recovery-group-at-hope-on-5th-in-lincoln-2/2025-12-13/
LOCATION:Hope on 5th in Lincoln\, 200 5th Street\, Lincoln\, 62656\, United States
ORGANIZER;CN="Logan Mason Recovery Oriented Systems of Care (ROSC)":MAILTO:jedavis@chestnut.org
END:VEVENT
BEGIN:VEVENT
DTSTART;TZID=America/Chicago:20251213T080000
DTEND;TZID=America/Chicago:20251213T100000
DTSTAMP:20260420T220625
CREATED:20250717T144857Z
LAST-MODIFIED:20260416T222931Z
UID:10021223-1765612800-1765620000@www.wlcnonline.com
SUMMARY:Precision Church: Faith + Fitness workout session at Precision Movement in Lincoln
DESCRIPTION:This event mixes faith and fitness to strengthen both bodies and spirits. The free event is open to the public; attendees do not have to be a Precision Fitness member to come break a sweat\, share positive energy and connect with others. \nThe event starts with prayer\, a group workout session suitable for all fitness levels\, followed by a time of fellowship and reflection. \nEvent codes cchwf ccrel
URL:https://www.wlcnonline.com/event/precision-church-faith-fitness-workout-session-at-precision-movement-in-lincoln-8/2025-12-13/
LOCATION:Precision Movement in Lincoln\, 1417 N. Kickapoo Street\, Lincoln\, IL\, 62656\, United States
ORGANIZER;CN="Precision Movement in Lincoln":MAILTO:ashley@precision-movement.com
END:VEVENT
BEGIN:VEVENT
DTSTART;TZID=America/Chicago:20251212T190000
DTEND;TZID=America/Chicago:20251212T220000
DTSTAMP:20260420T220625
CREATED:20251211T214035Z
LAST-MODIFIED:20251211T214035Z
UID:10021222-1765566000-1765576800@www.wlcnonline.com
SUMMARY:Live music by Wowie Zowie at the Irish Circle in Wapella
DESCRIPTION:Wowie Zowie brings its catlog of music from the ’60s\, ’70s and ’80s for its debut performance at the Irish Circle. \nEvent codes ccfb ccent cclm
URL:https://www.wlcnonline.com/event/live-music-by-wowie-zowie-at-the-irish-circle-in-wapella/
LOCATION:The Irish Circle in Wapella\, 405 N Walnut Street\, Wapella\, IL\, 61777\, United States
END:VEVENT
BEGIN:VEVENT
DTSTART;TZID=America/Chicago:20251212T180000
DTEND;TZID=America/Chicago:20251212T190000
DTSTAMP:20260420T220625
CREATED:20250227T214713Z
LAST-MODIFIED:20251231T161900Z
UID:10019078-1765562400-1765566000@www.wlcnonline.com
SUMMARY:Alcoholics Anonymous meetings by Land of Lincoln Recovery Group at Hope on 5th in Lincoln
DESCRIPTION:Meetings are free to attend and take place at 6 PM on Tuesdays\, Wednesdays\, Fridays and Saturdays as well as at 9 AM on Saturdays and Sundays. \nEvent codes
URL:https://www.wlcnonline.com/event/alcoholics-anonymous-meetings-by-land-of-lincoln-recovery-group-at-hope-on-5th-in-lincoln/2025-12-12/
LOCATION:Hope on 5th in Lincoln\, 200 5th Street\, Lincoln\, 62656\, United States
ORGANIZER;CN="Logan Mason Recovery Oriented Systems of Care (ROSC)":MAILTO:jedavis@chestnut.org
END:VEVENT
BEGIN:VEVENT
DTSTART;TZID=America/Chicago:20251212T170000
DTEND;TZID=America/Chicago:20251212T200000
DTSTAMP:20260420T220625
CREATED:20251120T225746Z
LAST-MODIFIED:20251120T225746Z
UID:10021153-1765558800-1765569600@www.wlcnonline.com
SUMMARY:2025 horse-drawn carriage rides around the square in downtown Lincoln
DESCRIPTION:Get into the holiday spirit with a *free* ride around the historic Logan County Courthouse on the square in downtown Lincoln. \nPick up and drop off will be in front of the Arcade on Pulaski Street. A sign-up sheet will be available at the pick-up and drop-off location. Once checked in\, you can shop local downtown businesses and enjoy the decorated trees on the square until their scheduled ride time. click here to learn more. \nEvent codes ccchr ccfre ccff
URL:https://www.wlcnonline.com/event/2025-horse-drawn-carriage-rides-around-the-square-in-downtown-lincoln/2025-12-12/
LOCATION:In front of the Arcade Building in Downtown Lincoln\, 513 Pulaski Street\, Lincoln\, IL\, 62656\, United States
ORGANIZER;CN="Downtown Lincoln Illinois":MAILTO:info@downtownlincolnillinois.com
END:VEVENT
BEGIN:VEVENT
DTSTART;TZID=America/Chicago:20251212T170000
DTEND;TZID=America/Chicago:20251212T190000
DTSTAMP:20260420T220625
CREATED:20250708T125227Z
LAST-MODIFIED:20260129T221247Z
UID:10020445-1765558800-1765566000@www.wlcnonline.com
SUMMARY:Schnitzel dinner at Eagles Lodge in Lincoln
DESCRIPTION:Dinners cost $10 each and are available on a dine-in or carry-out basis. \nEvent codes ccfb ccfdd
URL:https://www.wlcnonline.com/event/schnitzel-dinner-at-eagles-lodge-in-lincoln-2/2025-12-12/
LOCATION:Fraternal Order Of Eagles #2708 in Lincoln\, 1621 N. Kickapoo Street\, Lincoln\, IL\, 62656\, United States
END:VEVENT
BEGIN:VEVENT
DTSTART;TZID=America/Chicago:20251212T120000
DTEND;TZID=America/Chicago:20251212T133000
DTSTAMP:20260420T220625
CREATED:20250227T221857Z
LAST-MODIFIED:20251231T161051Z
UID:10019632-1765540800-1765546200@www.wlcnonline.com
SUMMARY:SMART (Self-Management and Recovery Training) recovery meetings at Hope on 5th in Lincoln
DESCRIPTION:Meetings are free to attend and take place Fridays from noon to 1:30 PM. \nEvent codes
URL:https://www.wlcnonline.com/event/smart-self-management-and-recovery-training-recovery-meetings-at-hope-on-5th-in-lincoln/2025-12-12/
LOCATION:Hope on 5th in Lincoln\, 200 5th Street\, Lincoln\, 62656\, United States
ORGANIZER;CN="Logan Mason Recovery Oriented Systems of Care (ROSC)":MAILTO:jedavis@chestnut.org
END:VEVENT
BEGIN:VEVENT
DTSTART;TZID=America/Chicago:20251212T110000
DTEND;TZID=America/Chicago:20251212T120000
DTSTAMP:20260420T220625
CREATED:20250227T220937Z
LAST-MODIFIED:20251231T160939Z
UID:10019457-1765537200-1765540800@www.wlcnonline.com
SUMMARY:Alcoholics Anonymous meetings at Trinity Episcopal Church in Lincoln
DESCRIPTION:Meetings are free to attend and take place at the following times: \n\nMondays at 7 PM\nWednesdays at 6 PM\nFridays at 11 AM\nSundays at 6 PM\n\nEvent codes
URL:https://www.wlcnonline.com/event/alcoholics-anonymous-meetings-at-trinity-episcopal-church-in-lincoln-3/2025-12-12/
LOCATION:Trinity Episcopal Church in Lincoln\, 402 Pekin Street\, Lincoln\, 62656\, United States
ORGANIZER;CN="Logan Mason Recovery Oriented Systems of Care (ROSC)":MAILTO:jedavis@chestnut.org
END:VEVENT
BEGIN:VEVENT
DTSTART;TZID=America/Chicago:20251211T190000
DTEND;TZID=America/Chicago:20251211T220000
DTSTAMP:20260420T220625
CREATED:20250710T225735Z
LAST-MODIFIED:20251231T171651Z
UID:10018396-1765479600-1765490400@www.wlcnonline.com
SUMMARY:Open mic night at Spirited Republic in Lincoln
DESCRIPTION:Spirited Republic open mic nights are a solo acoustic musical experiment with the goal of cultivating friendship\, support and good times amongst musicians\, comedians\, poets and artists of all kinds. Performers are asked to bring their own instruments (no drum sets; hand drums and percussion equipment only). \nEvent codes: ccent\, ccfb\, cclm\, ccsoc
URL:https://www.wlcnonline.com/event/open-mic-night-at-spirited-republic-in-lincoln-2/2025-12-11/
LOCATION:Spirited Republic in Lincoln\, 509 Pulaski Street\, Lincoln\, IL\, 62656\, United States
ORGANIZER;CN="Spirited Republic/Limerick Brewing Company":MAILTO:spiritedrepublic@gmail.com
END:VEVENT
BEGIN:VEVENT
DTSTART;TZID=America/Chicago:20251211T190000
DTEND;TZID=America/Chicago:20251211T200000
DTSTAMP:20260420T220625
CREATED:20250227T221223Z
LAST-MODIFIED:20251231T171824Z
UID:10019544-1765479600-1765483200@www.wlcnonline.com
SUMMARY:Alcoholics Anonymous meetings at Atlanta Community House in Atlanta
DESCRIPTION:Meetings are free to attend and take place Thursdays at 7 PM. \nEvent codes
URL:https://www.wlcnonline.com/event/alcoholics-anonymous-meetings-at-atlanta-community-house-in-atlanta/2025-12-11/
LOCATION:Atlanta Memorial Community House\, 106 SW 6th Street\, Atlanta\, IL\, 61723\, United States
ORGANIZER;CN="Logan Mason Recovery Oriented Systems of Care (ROSC)":MAILTO:jedavis@chestnut.org
END:VEVENT
BEGIN:VEVENT
DTSTART;TZID=America/Chicago:20251211T190000
DTEND;TZID=America/Chicago:20251211T200000
DTSTAMP:20260420T220625
CREATED:20250227T220255Z
LAST-MODIFIED:20251231T170522Z
UID:10019326-1765479600-1765483200@www.wlcnonline.com
SUMMARY:Celebrate recovery events at Open Arms Christian Fellowship in Lincoln
DESCRIPTION:Events take place on Thursday evenings with snacks served at 6 PM and the meeting starting at 7 PM.
URL:https://www.wlcnonline.com/event/celebrate-recovery-events-at-open-arms-christian-fellowship-in-lincoln/2025-12-11/
LOCATION:Open Arms Christian Fellowship\, 1321 State Route 10\, Lincoln\, IL\, 62656\, United States
ORGANIZER;CN="Hope on 5th":MAILTO:rhss2005th@gmail.com
END:VEVENT
BEGIN:VEVENT
DTSTART;TZID=America/Chicago:20251211T190000
DTEND;TZID=America/Chicago:20251211T190000
DTSTAMP:20260420T220625
CREATED:20240329T042327Z
LAST-MODIFIED:20251231T163130Z
UID:10020341-1765479600-1765479600@www.wlcnonline.com
SUMMARY:Xtreme Bar Bingo at The Rusty Rail in Lincoln
DESCRIPTION:Xtreme Bar Bingo is bingo game with awesome prizes. The Rusty Rail features Xtreme Bar Bingo on Thursday nights beginning at 7 PM. \nEvent codes: ccgc\, ccsoc ccbin
URL:https://www.wlcnonline.com/event/xtreme-bar-bingo-at-the-rusty-rail-in-lincoln/2025-12-11/
LOCATION:The Rusty Rail Pub in Lincoln\, 405 Pulaski Street\, Lincoln\, IL\, 62656\, United States
END:VEVENT
BEGIN:VEVENT
DTSTART;TZID=America/Chicago:20251211T183000
DTEND;TZID=America/Chicago:20251211T213000
DTSTAMP:20260420T220625
CREATED:20251205T045725Z
LAST-MODIFIED:20251205T045725Z
UID:10021206-1765477800-1765488600@www.wlcnonline.com
SUMMARY:Quarter auction fundraiser by Williamsville Community Foundation at Williamsville Community Center
DESCRIPTION:Doors open at 5:45 PM and the auction begins at 6:30 PM. Funds raised will benefit Toys for Tots \nEach monthly quarter auction raises money for a local charity or organization. \nThere will be prizes\, as well as food and drinks available for purchase. \nEvent codes ccfdd ccfb ccsoc
URL:https://www.wlcnonline.com/event/quarter-auction-fundraiser-by-williamsville-community-foundation-at-williamsville-community-center/
LOCATION:Williamsville Community Center\, 141 W Main Street\, Williamsville\, IL\, 62693\, United States
ORGANIZER;CN="Williamsville Community Foundation":MAILTO:wville@gcctv.com
END:VEVENT
BEGIN:VEVENT
DTSTART;TZID=America/Chicago:20251211T183000
DTEND;TZID=America/Chicago:20251211T210000
DTSTAMP:20260420T220625
CREATED:20251205T045147Z
LAST-MODIFIED:20251205T045147Z
UID:10021204-1765477800-1765486800@www.wlcnonline.com
SUMMARY:Farewell show by the River City Country Opry at The Arlee Theater in Mason City
DESCRIPTION:After three and a half years\, River City Country Opry will be hanging up their hats as they end their residency at the Arlee Theater in Mason City. \nThis show will be split into two parts- the first half focusing on the best Christmas hits with the band’s special twist\, then after intermission\, “retired” band members and founder Stan Edwards\, Mike the drummer\, and Roger the fiddle player will return for a country-themed second set. \nWhile the December show usually is the final one before the band’s winter break\, this time around it’s the band’s final (at least\, for now) show with the Arlee. \nTickets cost $10 cash at the door. Doors open at 5:45 PM. \nEvent codes ccent cclm
URL:https://www.wlcnonline.com/event/farewell-show-by-the-river-city-country-opry-at-the-arlee-theater-in-mason-city/
LOCATION:Arlee Theater in Mason City\, 129 S. Main Street\, Mason City\, IL\, 62664\, United States
END:VEVENT
BEGIN:VEVENT
DTSTART;TZID=America/Chicago:20251211T183000
DTEND;TZID=America/Chicago:20251211T193000
DTSTAMP:20260420T220626
CREATED:20251126T195406Z
LAST-MODIFIED:20251205T042542Z
UID:10021168-1765477800-1765481400@www.wlcnonline.com
SUMMARY:2025 City of Lincoln Christmas parade through downtown Lincoln (rescheduled from 12/4 to 12/11)
DESCRIPTION:The theme of the parade is Christmas Light-Up Parade. The parade will begin at Wyatt Avenue and wind around downtown Lincoln\, concluding at the depot. \nThe event is sponsored by the City of Lincoln; to learn more or register an entry in the parade\, click here to visit the City of Lincoln Tourism web page. \nEvent codes ccsoc ccchr ccff ccsoc
URL:https://www.wlcnonline.com/event/2025-city-of-lincoln-christmas-parade-through-downtown-lincoln/
LOCATION:City of Lincoln\, Lincoln\, IL\, 62656\, United States
ORGANIZER;CN="City of Lincoln Tourism":MAILTO:Director@LincolnIllinoisTourism.com
END:VEVENT
BEGIN:VEVENT
DTSTART;TZID=America/Chicago:20251211T180000
DTEND;TZID=America/Chicago:20251211T203000
DTSTAMP:20260420T220626
CREATED:20251205T043734Z
LAST-MODIFIED:20251205T043734Z
UID:10021202-1765476000-1765485000@www.wlcnonline.com
SUMMARY:Christmas movie trivia event at LaTeaDa Cafe/Barn Bar/Events in Clinton
DESCRIPTION:This festive Christmas Movie Trivia Night will test the knowledge of participants about Christmas Classics thru the decades Prizes will be awarded to the top teams. Dinner will consist of a sandwich\, side\, dessert and beverage (all of your choice).\nCash bar will be available and the boutique will be open after the event for those who would like to shop. \nAdvance ticket are required. Tickets cost $25 each and can be ordered by phone at (217) 935-8855. \nEvent codes ccfb ccgc ccsoc ccchr cctriv
URL:https://www.wlcnonline.com/event/christmas-movie-trivia-event-at-lateada-cafe-barn-bar-events-in-clinton/
LOCATION:LaTeaDa Cafe/Barn Bar/Events in Clinton\, 1100 S. Madison Street\, Clinton\, IL\, 61727\, United States
ORGANIZER;CN="LaTeaDa Cafe/Barn Bar/Events":MAILTO:lateadaladies@gmail.com
END:VEVENT
BEGIN:VEVENT
DTSTART;TZID=America/Chicago:20251211T180000
DTEND;TZID=America/Chicago:20251211T190000
DTSTAMP:20260420T220626
CREATED:20250227T215251Z
LAST-MODIFIED:20251231T170747Z
UID:10019219-1765476000-1765479600@www.wlcnonline.com
SUMMARY:Narcotics Anonymous meetings by Land of Lincoln Recovery Group at Hope on 5th in Lincoln
DESCRIPTION:Meetings are free to attend and take place at 6 PM Thursdays as well as at 5 PM on Sundays. \nEvent codes
URL:https://www.wlcnonline.com/event/narcotics-anonymous-meetings-by-land-of-lincoln-recovery-group-at-hope-on-5th-in-lincoln-2/2025-12-11/
LOCATION:Hope on 5th in Lincoln\, 200 5th Street\, Lincoln\, 62656\, United States
ORGANIZER;CN="Logan Mason Recovery Oriented Systems of Care (ROSC)":MAILTO:jedavis@chestnut.org
END:VEVENT
END:VCALENDAR