BEGIN:VCALENDAR
VERSION:2.0
PRODID:-//WLCN 96.3 FM - ECPv6.15.20//NONSGML v1.0//EN
CALSCALE:GREGORIAN
METHOD:PUBLISH
X-WR-CALNAME:WLCN 96.3 FM
X-ORIGINAL-URL:https://www.wlcnonline.com
X-WR-CALDESC:Events for WLCN 96.3 FM
REFRESH-INTERVAL;VALUE=DURATION:PT1H
X-Robots-Tag:noindex
X-PUBLISHED-TTL:PT1H
BEGIN:VTIMEZONE
TZID:America/Chicago
BEGIN:DAYLIGHT
TZOFFSETFROM:-0600
TZOFFSETTO:-0500
TZNAME:CDT
DTSTART:20240310T080000
END:DAYLIGHT
BEGIN:STANDARD
TZOFFSETFROM:-0500
TZOFFSETTO:-0600
TZNAME:CST
DTSTART:20241103T070000
END:STANDARD
BEGIN:DAYLIGHT
TZOFFSETFROM:-0600
TZOFFSETTO:-0500
TZNAME:CDT
DTSTART:20250309T080000
END:DAYLIGHT
BEGIN:STANDARD
TZOFFSETFROM:-0500
TZOFFSETTO:-0600
TZNAME:CST
DTSTART:20251102T070000
END:STANDARD
BEGIN:DAYLIGHT
TZOFFSETFROM:-0600
TZOFFSETTO:-0500
TZNAME:CDT
DTSTART:20260308T080000
END:DAYLIGHT
BEGIN:STANDARD
TZOFFSETFROM:-0500
TZOFFSETTO:-0600
TZNAME:CST
DTSTART:20261101T070000
END:STANDARD
END:VTIMEZONE
BEGIN:VEVENT
DTSTART;TZID=America/Chicago:20250828T190000
DTEND;TZID=America/Chicago:20250828T200000
DTSTAMP:20260423T023017
CREATED:20250227T221223Z
LAST-MODIFIED:20251231T171824Z
UID:10019529-1756407600-1756411200@www.wlcnonline.com
SUMMARY:Alcoholics Anonymous meetings at Atlanta Community House in Atlanta
DESCRIPTION:Meetings are free to attend and take place Thursdays at 7 PM. \nEvent codes
URL:https://www.wlcnonline.com/event/alcoholics-anonymous-meetings-at-atlanta-community-house-in-atlanta/2025-08-28/
LOCATION:Atlanta Memorial Community House\, 106 SW 6th Street\, Atlanta\, IL\, 61723\, United States
ORGANIZER;CN="Logan Mason Recovery Oriented Systems of Care (ROSC)":MAILTO:jedavis@chestnut.org
END:VEVENT
BEGIN:VEVENT
DTSTART;TZID=America/Chicago:20250828T190000
DTEND;TZID=America/Chicago:20250828T200000
DTSTAMP:20260423T023017
CREATED:20250227T220255Z
LAST-MODIFIED:20251231T170522Z
UID:10019311-1756407600-1756411200@www.wlcnonline.com
SUMMARY:Celebrate recovery events at Open Arms Christian Fellowship in Lincoln
DESCRIPTION:Events take place on Thursday evenings with snacks served at 6 PM and the meeting starting at 7 PM.
URL:https://www.wlcnonline.com/event/celebrate-recovery-events-at-open-arms-christian-fellowship-in-lincoln/2025-08-28/
LOCATION:Open Arms Christian Fellowship\, 1321 State Route 10\, Lincoln\, IL\, 62656\, United States
ORGANIZER;CN="Hope on 5th":MAILTO:rhss2005th@gmail.com
END:VEVENT
BEGIN:VEVENT
DTSTART;TZID=America/Chicago:20250828T190000
DTEND;TZID=America/Chicago:20250828T190000
DTSTAMP:20260423T023018
CREATED:20240329T042327Z
LAST-MODIFIED:20251231T163130Z
UID:10020326-1756407600-1756407600@www.wlcnonline.com
SUMMARY:Xtreme Bar Bingo at The Rusty Rail in Lincoln
DESCRIPTION:Xtreme Bar Bingo is bingo game with awesome prizes. The Rusty Rail features Xtreme Bar Bingo on Thursday nights beginning at 7 PM. \nEvent codes: ccgc\, ccsoc ccbin
URL:https://www.wlcnonline.com/event/xtreme-bar-bingo-at-the-rusty-rail-in-lincoln/2025-08-28/
LOCATION:The Rusty Rail Pub in Lincoln\, 405 Pulaski Street\, Lincoln\, IL\, 62656\, United States
END:VEVENT
BEGIN:VEVENT
DTSTART;TZID=America/Chicago:20250828T180000
DTEND;TZID=America/Chicago:20250828T190000
DTSTAMP:20260423T023018
CREATED:20250227T215251Z
LAST-MODIFIED:20251231T170747Z
UID:10019204-1756404000-1756407600@www.wlcnonline.com
SUMMARY:Narcotics Anonymous meetings by Land of Lincoln Recovery Group at Hope on 5th in Lincoln
DESCRIPTION:Meetings are free to attend and take place at 6 PM Thursdays as well as at 5 PM on Sundays. \nEvent codes
URL:https://www.wlcnonline.com/event/narcotics-anonymous-meetings-by-land-of-lincoln-recovery-group-at-hope-on-5th-in-lincoln-2/2025-08-28/
LOCATION:Hope on 5th in Lincoln\, 200 5th Street\, Lincoln\, 62656\, United States
ORGANIZER;CN="Logan Mason Recovery Oriented Systems of Care (ROSC)":MAILTO:jedavis@chestnut.org
END:VEVENT
BEGIN:VEVENT
DTSTART;TZID=America/Chicago:20250828T170000
DTEND;TZID=America/Chicago:20250828T210000
DTSTAMP:20260423T023018
CREATED:20250717T215744Z
LAST-MODIFIED:20251231T171425Z
UID:10020489-1756400400-1756414800@www.wlcnonline.com
SUMMARY:Thursday night bingo (meal @ 5 PM\, bingo @ 6:30 PM) at Eagles Lodge in Lincoln﻿
DESCRIPTION:Doors open at 5 PM with food being served. Bingo starts at 6:30 PM and includes cash prizes\, jackpots as well as jar balls. Open to the public. \nEvent codes ccfb ccgc ccsoc ccbin
URL:https://www.wlcnonline.com/event/thursday-night-bingo-meal-5-pm-bingo-630-pm-at-eagles-lodge-in-lincoln/2025-08-28/
LOCATION:Fraternal Order Of Eagles #2708 in Lincoln\, 1621 N. Kickapoo Street\, Lincoln\, IL\, 62656\, United States
END:VEVENT
BEGIN:VEVENT
DTSTART;TZID=America/Chicago:20250828T170000
DTEND;TZID=America/Chicago:20250828T200000
DTSTAMP:20260423T023018
CREATED:20250130T150109Z
LAST-MODIFIED:20260417T032810Z
UID:10018165-1756400400-1756411200@www.wlcnonline.com
SUMMARY:Fundraiser for Lincoln Woman's Club at Culver's of Lincoln
DESCRIPTION:Purchase food from Culver’s of Lincoln and help support a worthy cause whether dining in\, carrying out\, using the drive-thru or ordering through DoorDash. During the hours of the fundraiser\, a portion of all proceeds will be donated to the organization. \nEvent codes ccfb\, ccfdd
URL:https://www.wlcnonline.com/event/fundraiser-for-lincoln-womans-club-at-culvers-of-lincoln-8/2025-08-28/
LOCATION:Culver’s of Lincoln\, 2530 Woodlawn Road\, Lincoln\, IL\, 62656\, United States
ORGANIZER;CN="Culver's of Lincoln":MAILTO:lincolnculvers@comcast.net
END:VEVENT
BEGIN:VEVENT
DTSTART;TZID=America/Chicago:20250827T193000
DTEND;TZID=America/Chicago:20250827T210000
DTSTAMP:20260423T023018
CREATED:20250822T025254Z
LAST-MODIFIED:20250822T025254Z
UID:10020669-1756323000-1756328400@www.wlcnonline.com
SUMMARY:Culpepper & Merriweather Circus at Williamsville Park in Williamsville
DESCRIPTION:Performances are scheduled for 5 PM and 7:30 PM. Tickets cost $13 for adults and $8 for children and senior citizens. Tickets can be purchased online by clicking here\, or by visiting the Williamsville village office.
URL:https://www.wlcnonline.com/event/culpepper-merriweather-circus-at-williamsville-park-in-williamsville-2/
LOCATION:Williamsville Community Park\, 706 E. Main Street\, Williamsville\, IL\, 62693\, United States
ORGANIZER;CN="Williamsville Community Foundation":MAILTO:wville@gcctv.com
END:VEVENT
BEGIN:VEVENT
DTSTART;TZID=America/Chicago:20250827T180000
DTEND;TZID=America/Chicago:20250827T235900
DTSTAMP:20260423T023018
CREATED:20250508T140922Z
LAST-MODIFIED:20250508T140922Z
UID:10020086-1756317600-1756339140@www.wlcnonline.com
SUMMARY:Bike night at The Rusty Rail Pub in Lincoln
DESCRIPTION:Bike Nights are back on Wednesdays through thru October 8. Enjoy drinks\, games\, contests\, prizes and of course bikes Wednesdays starting at 6 PM. \nEvent codes cclbep ccfb ccsoc
URL:https://www.wlcnonline.com/event/bike-night-at-the-rusty-rail-pub-in-lincoln/2025-08-27/
LOCATION:The Rusty Rail Pub in Lincoln\, 405 Pulaski Street\, Lincoln\, IL\, 62656\, United States
END:VEVENT
BEGIN:VEVENT
DTSTART;TZID=America/Chicago:20250827T180000
DTEND;TZID=America/Chicago:20250827T190000
DTSTAMP:20260423T023018
CREATED:20250227T221550Z
LAST-MODIFIED:20251231T171533Z
UID:10019572-1756317600-1756321200@www.wlcnonline.com
SUMMARY:Odds & Ends peer recovery support group meeting at Hardee's in Havana
DESCRIPTION:Meetings are free to attend and take place Wednesdays at 6 PM. \nEvent codes
URL:https://www.wlcnonline.com/event/odds-ends-peer-recovery-support-group-meeting-at-hardees-in-havana/2025-08-27/
LOCATION:Hardee’s in Havana\, 401 W. Dearborn Street\, Havana\, 62644\, United States
ORGANIZER;CN="Logan Mason Recovery Oriented Systems of Care (ROSC)":MAILTO:jedavis@chestnut.org
END:VEVENT
BEGIN:VEVENT
DTSTART;TZID=America/Chicago:20250827T180000
DTEND;TZID=America/Chicago:20250827T190000
DTSTAMP:20260423T023018
CREATED:20250227T220829Z
LAST-MODIFIED:20251231T164443Z
UID:10019398-1756317600-1756321200@www.wlcnonline.com
SUMMARY:Alcoholics Anonymous meetings at Trinity Episcopal Church in Lincoln
DESCRIPTION:Meetings are free to attend and take place at the following times: \n\nMondays at 7 PM\nWednesdays at 6 PM\nFridays at 11 AM\nSundays at 6 PM\n\nEvent codes
URL:https://www.wlcnonline.com/event/alcoholics-anonymous-meetings-at-trinity-episcopal-church-in-lincoln-2/2025-08-27/
LOCATION:Trinity Episcopal Church in Lincoln\, 402 Pekin Street\, Lincoln\, 62656\, United States
ORGANIZER;CN="Logan Mason Recovery Oriented Systems of Care (ROSC)":MAILTO:jedavis@chestnut.org
END:VEVENT
BEGIN:VEVENT
DTSTART;TZID=America/Chicago:20250827T180000
DTEND;TZID=America/Chicago:20250827T190000
DTSTAMP:20260423T023018
CREATED:20250227T214713Z
LAST-MODIFIED:20251231T161900Z
UID:10019017-1756317600-1756321200@www.wlcnonline.com
SUMMARY:Alcoholics Anonymous meetings by Land of Lincoln Recovery Group at Hope on 5th in Lincoln
DESCRIPTION:Meetings are free to attend and take place at 6 PM on Tuesdays\, Wednesdays\, Fridays and Saturdays as well as at 9 AM on Saturdays and Sundays. \nEvent codes
URL:https://www.wlcnonline.com/event/alcoholics-anonymous-meetings-by-land-of-lincoln-recovery-group-at-hope-on-5th-in-lincoln/2025-08-27/
LOCATION:Hope on 5th in Lincoln\, 200 5th Street\, Lincoln\, 62656\, United States
ORGANIZER;CN="Logan Mason Recovery Oriented Systems of Care (ROSC)":MAILTO:jedavis@chestnut.org
END:VEVENT
BEGIN:VEVENT
DTSTART;TZID=America/Chicago:20250827T170000
DTEND;TZID=America/Chicago:20250827T183000
DTSTAMP:20260423T023018
CREATED:20250822T025125Z
LAST-MODIFIED:20250822T025125Z
UID:10020668-1756314000-1756319400@www.wlcnonline.com
SUMMARY:Culpepper & Merriweather Circus at Williamsville Park in Williamsville
DESCRIPTION:Performances are scheduled for 5 PM and 7:30 PM. Tickets cost $13 for adults and $8 for children and senior citizens. Tickets can be purchased online by clicking here\, or by visiting the Williamsville village office.
URL:https://www.wlcnonline.com/event/culpepper-merriweather-circus-at-williamsville-park-in-williamsville/
LOCATION:Williamsville Community Park\, 706 E. Main Street\, Williamsville\, IL\, 62693\, United States
ORGANIZER;CN="Williamsville Community Foundation":MAILTO:wville@gcctv.com
END:VEVENT
BEGIN:VEVENT
DTSTART;TZID=America/Chicago:20250827T100000
DTEND;TZID=America/Chicago:20250827T110000
DTSTAMP:20260423T023018
CREATED:20250822T025500Z
LAST-MODIFIED:20250822T025500Z
UID:10020670-1756288800-1756292400@www.wlcnonline.com
SUMMARY:Sips and songs event by Lincoln Parents' Center at Guest House Coffee & Pastries in Lincoln
DESCRIPTION:Parents are encouraged to bring their young children to Guest House to join Lincoln Parents’ Center for songs and circle time. \nEvent codes ccedu ccyp
URL:https://www.wlcnonline.com/event/sips-and-songs-event-by-lincoln-parents-center-at-guest-house-coffee-pastries-in-lincoln-2/
LOCATION:Guest House Coffee & Pastries in Lincoln\, 113 S. Kickapoo Street\, Lincoln\, IL\, 62656\, United States
ORGANIZER;CN="Lincoln Parents' Center":MAILTO:bliesman@adi.org
END:VEVENT
BEGIN:VEVENT
DTSTART;TZID=America/Chicago:20250826T200000
DTEND;TZID=America/Chicago:20250827T000000
DTSTAMP:20260423T023018
CREATED:20250725T022208Z
LAST-MODIFIED:20251231T164013Z
UID:10020542-1756238400-1756252800@www.wlcnonline.com
SUMMARY:Karaoke at The Rusty Rail Pub in Lincoln
DESCRIPTION:Karaoke events are scheduled at the Rusty Rail each Tuesday night from 8 PM to midnight. \nEvent codes ccfb ccent cckar
URL:https://www.wlcnonline.com/event/karaoke-at-the-rusty-rail-pub-in-lincoln/2025-08-26/
LOCATION:The Rusty Rail Pub in Lincoln\, 405 Pulaski Street\, Lincoln\, IL\, 62656\, United States
END:VEVENT
BEGIN:VEVENT
DTSTART;TZID=America/Chicago:20250826T193000
DTEND;TZID=America/Chicago:20250826T210000
DTSTAMP:20260423T023018
CREATED:20250822T025156Z
LAST-MODIFIED:20250822T025156Z
UID:10020667-1756236600-1756242000@www.wlcnonline.com
SUMMARY:Culpepper & Merriweather Circus at Mt. Hope Funks Grove Park District in McLean
DESCRIPTION:Performances are scheduled for 5 PM and 7:30 PM. Tickets cost $13 for adults and $8 for children and senior citizens. Tickets can be purchased online by clicking here\, or by visiting the part district office.
URL:https://www.wlcnonline.com/event/culpepper-merriweather-circus-at-mt-hope-funks-grove-park-district-in-mclean-2/
LOCATION:Mt. Hope-Funks Grove Park District in McLean\, 107 W. North Street\, McLean\, IL\, 61754\, United States
ORGANIZER;CN="Mt. Hope-Funks Grove Park District":MAILTO:mhfgpd@frontier.com
END:VEVENT
BEGIN:VEVENT
DTSTART;TZID=America/Chicago:20250826T180000
DTEND;TZID=America/Chicago:20250826T190000
DTSTAMP:20260423T023018
CREATED:20250227T214713Z
LAST-MODIFIED:20251231T161900Z
UID:10019016-1756231200-1756234800@www.wlcnonline.com
SUMMARY:Alcoholics Anonymous meetings by Land of Lincoln Recovery Group at Hope on 5th in Lincoln
DESCRIPTION:Meetings are free to attend and take place at 6 PM on Tuesdays\, Wednesdays\, Fridays and Saturdays as well as at 9 AM on Saturdays and Sundays. \nEvent codes
URL:https://www.wlcnonline.com/event/alcoholics-anonymous-meetings-by-land-of-lincoln-recovery-group-at-hope-on-5th-in-lincoln/2025-08-26/
LOCATION:Hope on 5th in Lincoln\, 200 5th Street\, Lincoln\, 62656\, United States
ORGANIZER;CN="Logan Mason Recovery Oriented Systems of Care (ROSC)":MAILTO:jedavis@chestnut.org
END:VEVENT
BEGIN:VEVENT
DTSTART;TZID=America/Chicago:20250826T170000
DTEND;TZID=America/Chicago:20250826T203000
DTSTAMP:20260423T023018
CREATED:20250220T233455Z
LAST-MODIFIED:20251231T163935Z
UID:10018873-1756227600-1756240200@www.wlcnonline.com
SUMMARY:Tuesday night bingo (meal @ 5 PM\, bingo @ 6:30 PM) at Oasis Senior Center in Lincoln﻿
DESCRIPTION:Bingo takes place on Tuesday evenings from 6:30 PM to 8:30 PM and is open to the public. Doors open at 5 PM for a meal\, snack and beverages. \nEvent codes ccgc ccbin ccfb ccsoc
URL:https://www.wlcnonline.com/event/tuesday-night-bingo-meal-5-pm-bingo-630-pm-at-oasis-senior-center-in-lincoln/2025-08-26/
LOCATION:Oasis Senior Center\, 2810 Woodlawn Road\, Lincoln\, IL\, 62656\, United States
ORGANIZER;CN="Oasis Senior Center":MAILTO:nancy@oasisseniorcenter.com
END:VEVENT
BEGIN:VEVENT
DTSTART;TZID=America/Chicago:20250826T170000
DTEND;TZID=America/Chicago:20250826T183000
DTSTAMP:20260423T023018
CREATED:20250822T024857Z
LAST-MODIFIED:20250822T025233Z
UID:10020666-1756227600-1756233000@www.wlcnonline.com
SUMMARY:Culpepper & Merriweather Circus at Mt. Hope Funks Grove Park District in McLean
DESCRIPTION:Performances are scheduled for 5 PM and 7:30 PM. Tickets cost $13 for adults and $8 for children and senior citizens. Tickets can be purchased online by clicking here\, or by visiting the part district office.
URL:https://www.wlcnonline.com/event/culpepper-merriweather-circus-at-mt-hope-funks-grove-park-district-in-mclean/
LOCATION:Mt. Hope-Funks Grove Park District in McLean\, 107 W. North Street\, McLean\, IL\, 61754\, United States
ORGANIZER;CN="Mt. Hope-Funks Grove Park District":MAILTO:mhfgpd@frontier.com
END:VEVENT
BEGIN:VEVENT
DTSTART;TZID=America/Chicago:20250826T150000
DTEND;TZID=America/Chicago:20250826T183000
DTSTAMP:20260423T023018
CREATED:20250822T030503Z
LAST-MODIFIED:20250822T030503Z
UID:10020671-1756220400-1756233000@www.wlcnonline.com
SUMMARY:Community blood drive at Assembly of God Church in Mason City
DESCRIPTION:The blood drive takes place from 3:30 PM to 7 PM in the Fellowship Hall. Click here to reserve a donation time online. \nEvent code ccbld
URL:https://www.wlcnonline.com/event/community-blood-drive-at-assembly-of-god-church-in-mason-city/
LOCATION:Assembly of God Church in Mason City\, 121 E. Arch Street\, Mason City\, IL\, 62664\, United States
END:VEVENT
BEGIN:VEVENT
DTSTART;TZID=America/Chicago:20250825T190000
DTEND;TZID=America/Chicago:20250825T200000
DTSTAMP:20260423T023018
CREATED:20250227T220659Z
LAST-MODIFIED:20251231T163725Z
UID:10019354-1756148400-1756152000@www.wlcnonline.com
SUMMARY:Alcoholics Anonymous meetings at Trinity Episcopal Church in Lincoln
DESCRIPTION:Meetings are free to attend and take place at the following times: \n\nMondays at 7 PM\nWednesdays at 6 PM\nFridays at 11 AM\nSundays at 6 PM\n\nEvent codes
URL:https://www.wlcnonline.com/event/alcoholics-anonymous-meetings-at-trinity-episcopal-church-in-lincoln/2025-08-25/
LOCATION:Trinity Episcopal Church in Lincoln\, 402 Pekin Street\, Lincoln\, 62656\, United States
ORGANIZER;CN="Logan Mason Recovery Oriented Systems of Care (ROSC)":MAILTO:jedavis@chestnut.org
END:VEVENT
BEGIN:VEVENT
DTSTART;TZID=America/Chicago:20250825T180000
DTEND;TZID=America/Chicago:20250825T200000
DTSTAMP:20260423T023018
CREATED:20250725T024845Z
LAST-MODIFIED:20251231T163623Z
UID:10020572-1756144800-1756152000@www.wlcnonline.com
SUMMARY:Music bingo at Copper & Oak Bourbon & Craft Beer Bar in Lincoln
DESCRIPTION:Music bingo is like regular bingo\, except of numbers being called\, segments of songs are played; if you can identify the song played and it is on your bingo card\, cross it off and continue doing so until someone gets bingo. \nMusic bingo is free to play. \nEvent codes ccbin ccsoc ccfb
URL:https://www.wlcnonline.com/event/music-bingo-at-copper-oak-bourbon-craft-beer-bar-in-lincoln/2025-08-25/
LOCATION:Copper & Oak in Lincoln\, 227 N. Kickapoo Street\, Lincoln\, IL\, 62656\, United States
END:VEVENT
BEGIN:VEVENT
DTSTART;TZID=America/Chicago:20250825T180000
DTEND;TZID=America/Chicago:20250825T200000
DTSTAMP:20260423T023018
CREATED:20240926T041522Z
LAST-MODIFIED:20240926T041522Z
UID:10016864-1756144800-1756152000@www.wlcnonline.com
SUMMARY:Xtreme Bar Bingo at Stag R Inn in Emden
DESCRIPTION:Enjoy Xtreme Bar Bingo along with drink and food specials each week. Participants will have the chance to win prizes and cash. \nEvent codes: ccgc\, ccsoc ccbin
URL:https://www.wlcnonline.com/event/xtreme-bar-bingo-at-stag-r-inn-in-emden-2/2025-08-25/
LOCATION:Stag R Inn in Emden\, 102 Lincoln Street\, Emden\, IL\, 62635\, United States
END:VEVENT
BEGIN:VEVENT
DTSTART;TZID=America/Chicago:20250825T180000
DTEND;TZID=America/Chicago:20250825T190000
DTSTAMP:20260423T023018
CREATED:20250227T215503Z
LAST-MODIFIED:20251231T163530Z
UID:10019247-1756144800-1756148400@www.wlcnonline.com
SUMMARY:Co-Dependents Anonymous (CoDA) meetings by Land of Lincoln Recovery Group at Hope on 5th in Lincoln
DESCRIPTION:Meetings are free to attend and take place at 6 PM Mondays. \nEvent codes
URL:https://www.wlcnonline.com/event/co-dependents-anonymous-coda-meetings-by-land-of-lincoln-recovery-group-at-hope-on-5th-in-lincoln/2025-08-25/
LOCATION:Hope on 5th in Lincoln\, 200 5th Street\, Lincoln\, 62656\, United States
ORGANIZER;CN="Logan Mason Recovery Oriented Systems of Care (ROSC)":MAILTO:jedavis@chestnut.org
END:VEVENT
BEGIN:VEVENT
DTSTART;TZID=America/Chicago:20250825T100000
DTEND;TZID=America/Chicago:20250825T104500
DTSTAMP:20260423T023018
CREATED:20250814T215225Z
LAST-MODIFIED:20260115T152229Z
UID:10020622-1756116000-1756118700@www.wlcnonline.com
SUMMARY:Chair yoga by Silver Fox Fitness at The Villas at Lincoln﻿
DESCRIPTION:Seated and standing poses will be utilized with the goal of increasing flexibility\, balance and strength along with providing relaxation. Participants never get down on the floor. \nEvent codes: ccfs\, cchwf
URL:https://www.wlcnonline.com/event/chair-yoga-by-silver-fox-fitness-at-the-villas-at-lincoln/2025-08-25/
LOCATION:Villas at Lincoln (formerly The Christian Village) in Lincoln\, 1507 7th Street\, Lincoln\, IL\, 62656\, United States
END:VEVENT
BEGIN:VEVENT
DTSTART;TZID=America/Chicago:20250824T180000
DTEND;TZID=America/Chicago:20250824T190000
DTSTAMP:20260423T023018
CREATED:20250227T221038Z
LAST-MODIFIED:20251231T162443Z
UID:10019485-1756058400-1756062000@www.wlcnonline.com
SUMMARY:Alcoholics Anonymous meetings at Trinity Episcopal Church in Lincoln
DESCRIPTION:Meetings are free to attend and take place at the following times: \n\nMondays at 7 PM\nWednesdays at 6 PM\nFridays at 11 AM\nSundays at 6 PM\n\nEvent codes
URL:https://www.wlcnonline.com/event/alcoholics-anonymous-meetings-at-trinity-episcopal-church-in-lincoln-4/2025-08-24/
LOCATION:Trinity Episcopal Church in Lincoln\, 402 Pekin Street\, Lincoln\, 62656\, United States
ORGANIZER;CN="Logan Mason Recovery Oriented Systems of Care (ROSC)":MAILTO:jedavis@chestnut.org
END:VEVENT
BEGIN:VEVENT
DTSTART;TZID=America/Chicago:20250824T170000
DTEND;TZID=America/Chicago:20250824T180000
DTSTAMP:20260423T023018
CREATED:20250227T215139Z
LAST-MODIFIED:20251231T162319Z
UID:10019660-1756054800-1756058400@www.wlcnonline.com
SUMMARY:Narcotics Anonymous meetings by Land of Lincoln Recovery Group at Hope on 5th in Lincoln
DESCRIPTION:Meetings are free to attend and take place at 6 PM Thursdays as well as at 5 PM on Sundays. \nEvent codes
URL:https://www.wlcnonline.com/event/narcotics-anonymous-meetings-by-land-of-lincoln-recovery-group-at-hope-on-5th-in-lincoln/2025-08-24/
LOCATION:Hope on 5th in Lincoln\, 200 5th Street\, Lincoln\, 62656\, United States
ORGANIZER;CN="Logan Mason Recovery Oriented Systems of Care (ROSC)":MAILTO:jedavis@chestnut.org
END:VEVENT
BEGIN:VEVENT
DTSTART;TZID=America/Chicago:20250824T140000
DTEND;TZID=America/Chicago:20250824T160000
DTSTAMP:20260423T023018
CREATED:20240607T073345Z
LAST-MODIFIED:20251231T163021Z
UID:10020351-1756044000-1756051200@www.wlcnonline.com
SUMMARY:Xtreme Bar Bingo at The Next Stop Saloon in Mt. Pulaski
DESCRIPTION:Games take place every Sunday from 2 PM to 4 PM. \nEvent codes ccfb ccbin
URL:https://www.wlcnonline.com/event/xtreme-bar-bingo-at-the-next-stop-saloon-in-mt-pulaski/2025-08-24/
LOCATION:The Next Stop Saloon in Mt. Pulaski\, 100 E. Cooke Street\, Mt. Pulaski\, IL\, 62548\, United States
END:VEVENT
BEGIN:VEVENT
DTSTART;TZID=America/Chicago:20250824T110000
DTEND;TZID=America/Chicago:20250824T160000
DTSTAMP:20260423T023018
CREATED:20250724T212159Z
LAST-MODIFIED:20250724T212227Z
UID:10020528-1756033200-1756051200@www.wlcnonline.com
SUMMARY:Sunday snacks events throughout August 2025 by The Daily Wrap food truck in Downtown Lincoln
DESCRIPTION:The Daily Wrap food truck will be set up Sundays throughout August 2025 in downtown Lincoln near Spirited Republic. The Daily Wrap will have its full lunch menu available from 11 AM to 4 PM each Sunday. \nEvent codes cclbep ccfb
URL:https://www.wlcnonline.com/event/sunday-snacks-events-throughout-august-2025-by-the-daily-wrap-food-truck-in-downtown-lincoln/2025-08-24/
LOCATION:Near Spirited Republic in downtown Lincoln\, 509 Pulaski Street\, Lincoln\, IL\, 62656\, United States
ORGANIZER;CN="The Daily Wrap food truck":MAILTO:farmhousecentralil@gmail.com
END:VEVENT
BEGIN:VEVENT
DTSTART;TZID=America/Chicago:20250824T103000
DTEND;TZID=America/Chicago:20250824T160000
DTSTAMP:20260423T023018
CREATED:20250822T032522Z
LAST-MODIFIED:20250822T032522Z
UID:10020672-1756031400-1756051200@www.wlcnonline.com
SUMMARY:Shady Car Show at Memorial Park in Lincoln
DESCRIPTION:Come share acres and acres of gorgeous automobiles under the canopy of Memorial Park in Lincoln Illinois!\nAll years\, makes and models welcome! $10 for show entrants\, free to the public and spectators! Live DJ\, 50/50 drawing and concessions. \nAdmission for spectators is free. The entry fee to place a car in the show is $10. \nThe event takes place on the Sunday of the Balloons Over 66 festival weekend\, which features an art fair\, barbecue contest\, vendor fair\, the Dock Dogs\, and much more…including\, of course\, hot air balloons! \nWLCN is listing the events in the WLCNOnline.com community calendar to help increase awareness. For the most up-to-date information about the festival and events happening during the weekend\, consult  \nThe Balloons Over 66 Facebook page.\nEvent codes ccaca ccae cccavse ccent ccfb ccff ccfga ccfk ccff ccfypf cclm ccsoc cctou ccfce
URL:https://www.wlcnonline.com/event/shady-car-show-at-memorial-park-in-lincoln/
LOCATION:Memorial Park in Lincoln\, Memorial Park Road 1520 Street\, Lincoln\, IL\, 62656\, United States
ORGANIZER;CN="Logan County Tourism Bureau":MAILTO:director@destinationlogancountyil.com
END:VEVENT
BEGIN:VEVENT
DTSTART;TZID=America/Chicago:20250824T100000
DTEND;TZID=America/Chicago:20250824T123000
DTSTAMP:20260423T023018
CREATED:20250807T180630Z
LAST-MODIFIED:20250807T180630Z
UID:10020609-1756029600-1756038600@www.wlcnonline.com
SUMMARY:Homecoming Sunday event at First United Methodist Church of Lincoln
DESCRIPTION:Members past and present as well as community members are invited to attend this event\, starting with a 10 AM worship service followed by a potluck lunch and games.
URL:https://www.wlcnonline.com/event/homecoming-sunday-event-at-first-united-methodist-church-of-lincoln/
LOCATION:First United Methodist Church of Lincoln\, 302 Broadway Street\, Lincoln\, IL\, 62656\, United States
ORGANIZER;CN="First United Methodist Church of Lincoln":MAILTO:info@lincolnfirstumc.org
END:VEVENT
END:VCALENDAR