BEGIN:VCALENDAR
VERSION:2.0
PRODID:-//WLCN 96.3 FM - ECPv6.15.20//NONSGML v1.0//EN
CALSCALE:GREGORIAN
METHOD:PUBLISH
X-WR-CALNAME:WLCN 96.3 FM
X-ORIGINAL-URL:https://www.wlcnonline.com
X-WR-CALDESC:Events for WLCN 96.3 FM
REFRESH-INTERVAL;VALUE=DURATION:PT1H
X-Robots-Tag:noindex
X-PUBLISHED-TTL:PT1H
BEGIN:VTIMEZONE
TZID:America/Chicago
BEGIN:DAYLIGHT
TZOFFSETFROM:-0600
TZOFFSETTO:-0500
TZNAME:CDT
DTSTART:20240310T080000
END:DAYLIGHT
BEGIN:STANDARD
TZOFFSETFROM:-0500
TZOFFSETTO:-0600
TZNAME:CST
DTSTART:20241103T070000
END:STANDARD
BEGIN:DAYLIGHT
TZOFFSETFROM:-0600
TZOFFSETTO:-0500
TZNAME:CDT
DTSTART:20250309T080000
END:DAYLIGHT
BEGIN:STANDARD
TZOFFSETFROM:-0500
TZOFFSETTO:-0600
TZNAME:CST
DTSTART:20251102T070000
END:STANDARD
BEGIN:DAYLIGHT
TZOFFSETFROM:-0600
TZOFFSETTO:-0500
TZNAME:CDT
DTSTART:20260308T080000
END:DAYLIGHT
BEGIN:STANDARD
TZOFFSETFROM:-0500
TZOFFSETTO:-0600
TZNAME:CST
DTSTART:20261101T070000
END:STANDARD
END:VTIMEZONE
BEGIN:VEVENT
DTSTART;TZID=America/Chicago:20250804T180000
DTEND;TZID=America/Chicago:20250804T200000
DTSTAMP:20260423T100545
CREATED:20250725T024845Z
LAST-MODIFIED:20251231T163623Z
UID:10020569-1754330400-1754337600@www.wlcnonline.com
SUMMARY:Music bingo at Copper & Oak Bourbon & Craft Beer Bar in Lincoln
DESCRIPTION:Music bingo is like regular bingo\, except of numbers being called\, segments of songs are played; if you can identify the song played and it is on your bingo card\, cross it off and continue doing so until someone gets bingo. \nMusic bingo is free to play. \nEvent codes ccbin ccsoc ccfb
URL:https://www.wlcnonline.com/event/music-bingo-at-copper-oak-bourbon-craft-beer-bar-in-lincoln/2025-08-04/
LOCATION:Copper & Oak in Lincoln\, 227 N. Kickapoo Street\, Lincoln\, IL\, 62656\, United States
END:VEVENT
BEGIN:VEVENT
DTSTART;TZID=America/Chicago:20250804T180000
DTEND;TZID=America/Chicago:20250804T200000
DTSTAMP:20260423T100545
CREATED:20240926T041522Z
LAST-MODIFIED:20240926T041522Z
UID:10016861-1754330400-1754337600@www.wlcnonline.com
SUMMARY:Xtreme Bar Bingo at Stag R Inn in Emden
DESCRIPTION:Enjoy Xtreme Bar Bingo along with drink and food specials each week. Participants will have the chance to win prizes and cash. \nEvent codes: ccgc\, ccsoc ccbin
URL:https://www.wlcnonline.com/event/xtreme-bar-bingo-at-stag-r-inn-in-emden-2/2025-08-04/
LOCATION:Stag R Inn in Emden\, 102 Lincoln Street\, Emden\, IL\, 62635\, United States
END:VEVENT
BEGIN:VEVENT
DTSTART;TZID=America/Chicago:20250804T180000
DTEND;TZID=America/Chicago:20250804T190000
DTSTAMP:20260423T100545
CREATED:20250227T215503Z
LAST-MODIFIED:20251231T163530Z
UID:10019244-1754330400-1754334000@www.wlcnonline.com
SUMMARY:Co-Dependents Anonymous (CoDA) meetings by Land of Lincoln Recovery Group at Hope on 5th in Lincoln
DESCRIPTION:Meetings are free to attend and take place at 6 PM Mondays. \nEvent codes
URL:https://www.wlcnonline.com/event/co-dependents-anonymous-coda-meetings-by-land-of-lincoln-recovery-group-at-hope-on-5th-in-lincoln/2025-08-04/
LOCATION:Hope on 5th in Lincoln\, 200 5th Street\, Lincoln\, 62656\, United States
ORGANIZER;CN="Logan Mason Recovery Oriented Systems of Care (ROSC)":MAILTO:jedavis@chestnut.org
END:VEVENT
BEGIN:VEVENT
DTSTART;TZID=America/Chicago:20250804T170000
DTEND;TZID=America/Chicago:20250804T200000
DTSTAMP:20260423T100545
CREATED:20250130T142758Z
LAST-MODIFIED:20250417T125953Z
UID:10018076-1754326800-1754337600@www.wlcnonline.com
SUMMARY:Fundraiser for Jefferson Street Christian Church at Culver's of Lincoln
DESCRIPTION:Purchase food from Culver’s of Lincoln and help support a worthy cause whether dining in\, carrying out\, using the drive-thru or ordering through DoorDash. During the hours of the fundraiser\, a portion of all proceeds will be donated to the organization. \nEvent codes ccfb\, ccfdd
URL:https://www.wlcnonline.com/event/fundraiser-for-jefferson-street-christian-church-at-culvers-of-lincoln/2025-08-04/
LOCATION:Culver’s of Lincoln\, 2530 Woodlawn Road\, Lincoln\, IL\, 62656\, United States
ORGANIZER;CN="Culver's of Lincoln":MAILTO:lincolnculvers@comcast.net
END:VEVENT
BEGIN:VEVENT
DTSTART;TZID=America/Chicago:20250804T090000
DTEND;TZID=America/Chicago:20250804T150000
DTSTAMP:20260423T100545
CREATED:20250417T145555Z
LAST-MODIFIED:20250522T180637Z
UID:10019964-1754298000-1754319600@www.wlcnonline.com
SUMMARY:Free safe sitter babysitting class at Lincoln Memorial Hospital
DESCRIPTION:All participants will learn the safety skills needed to care for babysitting children. \nThe LMH Auxiliary offers this class free of charge. Attendees may bring a lunch or purchase lunch in the cafeteria. \nThe course will be offered on three dates: May 30\, July 9 and August 4 at Lincoln Memorial Hospital. Each class takes place from 9 AM to 3 PM in the Steinfort Conference Rooms at Lincoln Memorial Hospital. Students will use mannequins to practice lifesaving skills. There will also be role playing\, games and activities as students learn how to handle everyday situations that could present a risk to children’s safety\, including what to do when severe weather occurs. \nSpace is limited; those interested should register in advance. Click here to complete the online registration form.  \nEvent codes ccedu ccteen ccfre
URL:https://www.wlcnonline.com/event/free-safe-sitter-babysitting-class-at-lincoln-memorial-hospital/2025-08-04/
LOCATION:Steinfort Conference Rooms at Lincoln Memorial Hospital\, 200 Stahlhut Drive\, Lincoln\, IL\, 62656\, United States
END:VEVENT
BEGIN:VEVENT
DTSTART;TZID=America/Chicago:20250803T180000
DTEND;TZID=America/Chicago:20250803T190000
DTSTAMP:20260423T100545
CREATED:20250227T221038Z
LAST-MODIFIED:20251231T162443Z
UID:10019482-1754244000-1754247600@www.wlcnonline.com
SUMMARY:Alcoholics Anonymous meetings at Trinity Episcopal Church in Lincoln
DESCRIPTION:Meetings are free to attend and take place at the following times: \n\nMondays at 7 PM\nWednesdays at 6 PM\nFridays at 11 AM\nSundays at 6 PM\n\nEvent codes
URL:https://www.wlcnonline.com/event/alcoholics-anonymous-meetings-at-trinity-episcopal-church-in-lincoln-4/2025-08-03/
LOCATION:Trinity Episcopal Church in Lincoln\, 402 Pekin Street\, Lincoln\, 62656\, United States
ORGANIZER;CN="Logan Mason Recovery Oriented Systems of Care (ROSC)":MAILTO:jedavis@chestnut.org
END:VEVENT
BEGIN:VEVENT
DTSTART;TZID=America/Chicago:20250803T170000
DTEND;TZID=America/Chicago:20250803T180000
DTSTAMP:20260423T100545
CREATED:20250227T215139Z
LAST-MODIFIED:20251231T162319Z
UID:10019657-1754240400-1754244000@www.wlcnonline.com
SUMMARY:Narcotics Anonymous meetings by Land of Lincoln Recovery Group at Hope on 5th in Lincoln
DESCRIPTION:Meetings are free to attend and take place at 6 PM Thursdays as well as at 5 PM on Sundays. \nEvent codes
URL:https://www.wlcnonline.com/event/narcotics-anonymous-meetings-by-land-of-lincoln-recovery-group-at-hope-on-5th-in-lincoln/2025-08-03/
LOCATION:Hope on 5th in Lincoln\, 200 5th Street\, Lincoln\, 62656\, United States
ORGANIZER;CN="Logan Mason Recovery Oriented Systems of Care (ROSC)":MAILTO:jedavis@chestnut.org
END:VEVENT
BEGIN:VEVENT
DTSTART;TZID=America/Chicago:20250803T153000
DTEND;TZID=America/Chicago:20250803T193000
DTSTAMP:20260423T100545
CREATED:20250724T204717Z
LAST-MODIFIED:20250724T204717Z
UID:10020522-1754235000-1754249400@www.wlcnonline.com
SUMMARY:2025 Logan County Fair grandstand event: Demolition derby
DESCRIPTION:Enjoy the annual demolition derby on the final day of the fair.
URL:https://www.wlcnonline.com/event/2025-logan-county-fair-grandstand-event-demolition-derby/
LOCATION:DeWitt County Fairgrounds\, 7498 US-51-BR\, Clinton\, 61727\, United States
ORGANIZER;CN="Logan County Fair":MAILTO:fair@logancountyfair.comcastbiz.net
END:VEVENT
BEGIN:VEVENT
DTSTART;TZID=America/Chicago:20250803T140000
DTEND;TZID=America/Chicago:20250803T160000
DTSTAMP:20260423T100545
CREATED:20240607T073345Z
LAST-MODIFIED:20251231T163021Z
UID:10020348-1754229600-1754236800@www.wlcnonline.com
SUMMARY:Xtreme Bar Bingo at The Next Stop Saloon in Mt. Pulaski
DESCRIPTION:Games take place every Sunday from 2 PM to 4 PM. \nEvent codes ccfb ccbin
URL:https://www.wlcnonline.com/event/xtreme-bar-bingo-at-the-next-stop-saloon-in-mt-pulaski/2025-08-03/
LOCATION:The Next Stop Saloon in Mt. Pulaski\, 100 E. Cooke Street\, Mt. Pulaski\, IL\, 62548\, United States
END:VEVENT
BEGIN:VEVENT
DTSTART;TZID=America/Chicago:20250803T120000
DTEND;TZID=America/Chicago:20250803T200000
DTSTAMP:20260423T100545
CREATED:20250724T181305Z
LAST-MODIFIED:20250724T181305Z
UID:10020515-1754222400-1754251200@www.wlcnonline.com
SUMMARY:2025 Logan County Fair in Lincoln\, Illinois
DESCRIPTION:The 2025 Logan County Fair runs from July 29 through August 5 and features numerous activities\, events and displays. For a complete schedule of events\, click here to visit the Logan County Fair web site. \nEvent codes: ccaca\, ccae\, ccagr\, ccent\, ccfb\, ccfce\, ccff\, cclm\, ccmrac\, ccpho\, ccqst\, ccsoc\, ccteen\, ccvnfr
URL:https://www.wlcnonline.com/event/2025-logan-county-fair-in-lincoln-illinois/2025-08-03/
LOCATION:Logan County Fairgrounds\, 230 N. Postville Drive\, Lincoln\, IL\, 62656\, United States
ORGANIZER;CN="Logan County Fair":MAILTO:fair@logancountyfair.comcastbiz.net
END:VEVENT
BEGIN:VEVENT
DTSTART;TZID=America/Chicago:20250803T110000
DTEND;TZID=America/Chicago:20250803T160000
DTSTAMP:20260423T100545
CREATED:20250724T212159Z
LAST-MODIFIED:20250724T212227Z
UID:10020525-1754218800-1754236800@www.wlcnonline.com
SUMMARY:Sunday snacks events throughout August 2025 by The Daily Wrap food truck in Downtown Lincoln
DESCRIPTION:The Daily Wrap food truck will be set up Sundays throughout August 2025 in downtown Lincoln near Spirited Republic. The Daily Wrap will have its full lunch menu available from 11 AM to 4 PM each Sunday. \nEvent codes cclbep ccfb
URL:https://www.wlcnonline.com/event/sunday-snacks-events-throughout-august-2025-by-the-daily-wrap-food-truck-in-downtown-lincoln/2025-08-03/
LOCATION:Near Spirited Republic in downtown Lincoln\, 509 Pulaski Street\, Lincoln\, IL\, 62656\, United States
ORGANIZER;CN="The Daily Wrap food truck":MAILTO:farmhousecentralil@gmail.com
END:VEVENT
BEGIN:VEVENT
DTSTART;TZID=America/Chicago:20250803T093000
DTEND;TZID=America/Chicago:20250803T170000
DTSTAMP:20260423T100545
CREATED:20250724T210507Z
LAST-MODIFIED:20250724T210507Z
UID:10020524-1754213400-1754240400@www.wlcnonline.com
SUMMARY:2025 Corn Daze celebration in Minier
DESCRIPTION:All activities take place at Westside Park. The entrance to the park is on West Peoria Street. For a schedule of activities\, click the graphic included with this post.
URL:https://www.wlcnonline.com/event/2025-corn-daze-celebration-in-minier/
LOCATION:Westside Park in Minier\, W. Peoria Street and N. Western Avenue\, Minier\, 62656\, United States
END:VEVENT
BEGIN:VEVENT
DTSTART;TZID=America/Chicago:20250803T090000
DTEND;TZID=America/Chicago:20250803T100000
DTSTAMP:20260423T100545
CREATED:20250227T214918Z
LAST-MODIFIED:20251231T162155Z
UID:10019135-1754211600-1754215200@www.wlcnonline.com
SUMMARY:Alcoholics Anonymous meetings by Land of Lincoln Recovery Group at Hope on 5th in Lincoln
DESCRIPTION:Meetings are free to attend and take place at 6 PM on Tuesdays\, Wednesdays\, Fridays and Saturdays as well as at 9 AM on Saturdays and Sundays. \nEvent codes
URL:https://www.wlcnonline.com/event/alcoholics-anonymous-meetings-by-land-of-lincoln-recovery-group-at-hope-on-5th-in-lincoln-2/2025-08-03/
LOCATION:Hope on 5th in Lincoln\, 200 5th Street\, Lincoln\, 62656\, United States
ORGANIZER;CN="Logan Mason Recovery Oriented Systems of Care (ROSC)":MAILTO:jedavis@chestnut.org
END:VEVENT
BEGIN:VEVENT
DTSTART;TZID=America/Chicago:20250802T193000
DTEND;TZID=America/Chicago:20250802T223000
DTSTAMP:20260423T100545
CREATED:20250724T204551Z
LAST-MODIFIED:20250724T204551Z
UID:10020521-1754163000-1754173800@www.wlcnonline.com
SUMMARY:2025 Logan County Fair event: Music Night w/Cooper Alan and special guest Thomas Mac
DESCRIPTION:Enjoy music by Cooper Alan along with special guest\, Thomas Mac. The concert takes place adjacent to the track in the southeast corner of the fairgrounds. \nGeneral admission tickets cost $35 each; pit tickets cost $45 each. Click here to purchase tickets online.
URL:https://www.wlcnonline.com/event/2025-logan-county-fair-event-music-night-w-cooper-alan-and-special-guest-thomas-mac/
LOCATION:Logan County Fairgrounds\, 230 N. Postville Drive\, Lincoln\, IL\, 62656\, United States
ORGANIZER;CN="Logan County Fair":MAILTO:fair@logancountyfair.comcastbiz.net
END:VEVENT
BEGIN:VEVENT
DTSTART;TZID=America/Chicago:20250802T190000
DTEND;TZID=America/Chicago:20250802T220000
DTSTAMP:20260423T100545
CREATED:20250725T022504Z
LAST-MODIFIED:20250725T022504Z
UID:10020561-1754161200-1754172000@www.wlcnonline.com
SUMMARY:Live music by Brushville at LaTeaDa Cafe/Barn Bar/Events in Clinton
DESCRIPTION:Tickets for this concert by Brushville cost $10 per person and can be purchased at the door just prior to entry to the event. \nFood and drinks will be available for purchase starting at 6 PM; music begins at 7 PM; food will be available until 9 PM. \nAttendees can bring their own lawn chairs. No outside coolers/food/drinks are allowed. \nNote: LaTeaDa does take debit cards\, but using cash helps the lines move quicker and keeps them shorter. \nEvent codes: ccent\, cclm\, ccfd
URL:https://www.wlcnonline.com/event/live-music-by-brushville-at-lateada-cafe-barn-bar-events-in-clinton/
LOCATION:LaTeaDa Cafe/Barn Bar/Events in Clinton\, 1100 S. Madison Street\, Clinton\, IL\, 61727\, United States
ORGANIZER;CN="LaTeaDa Cafe/Barn Bar/Events":MAILTO:lateadaladies@gmail.com
END:VEVENT
BEGIN:VEVENT
DTSTART;TZID=America/Chicago:20250802T180000
DTEND;TZID=America/Chicago:20250802T190000
DTSTAMP:20260423T100545
CREATED:20250227T214713Z
LAST-MODIFIED:20251231T161900Z
UID:10019003-1754157600-1754161200@www.wlcnonline.com
SUMMARY:Alcoholics Anonymous meetings by Land of Lincoln Recovery Group at Hope on 5th in Lincoln
DESCRIPTION:Meetings are free to attend and take place at 6 PM on Tuesdays\, Wednesdays\, Fridays and Saturdays as well as at 9 AM on Saturdays and Sundays. \nEvent codes
URL:https://www.wlcnonline.com/event/alcoholics-anonymous-meetings-by-land-of-lincoln-recovery-group-at-hope-on-5th-in-lincoln/2025-08-02/
LOCATION:Hope on 5th in Lincoln\, 200 5th Street\, Lincoln\, 62656\, United States
ORGANIZER;CN="Logan Mason Recovery Oriented Systems of Care (ROSC)":MAILTO:jedavis@chestnut.org
END:VEVENT
BEGIN:VEVENT
DTSTART;TZID=America/Chicago:20250802T143000
DTEND;TZID=America/Chicago:20250802T223000
DTSTAMP:20260423T100546
CREATED:20250725T021827Z
LAST-MODIFIED:20250725T021842Z
UID:10020536-1754145000-1754173800@www.wlcnonline.com
SUMMARY:Party at the Pavilion community event with live music from Harmony Gritz (7PM-10PM) at the Waynesville American Legion Pavilion in downtown Waynesville
DESCRIPTION:A bags tournament will take place in the afternoon. Live music by Harmony Gritz is scheduled from 7 PM to 10 PM. \nEvent codes ccsoc ccfb ccgc ccent cclm
URL:https://www.wlcnonline.com/event/party-at-the-pavilion-community-event-with-live-music-from-harmony-gritz-at-the-waynesville-american-legion-pavilion-in-downtown-waynesville/
LOCATION:Waynesville American Legion Pavilon\, 210 Second Street\, Waynesville\, 61778\, United States
END:VEVENT
BEGIN:VEVENT
DTSTART;TZID=America/Chicago:20250802T120000
DTEND;TZID=America/Chicago:20250802T190000
DTSTAMP:20260423T100546
CREATED:20250725T023505Z
LAST-MODIFIED:20250725T023505Z
UID:10020564-1754136000-1754161200@www.wlcnonline.com
SUMMARY:Bags tournament at the Beer Tent at the Logan County Fairgrounds
DESCRIPTION:The Knights of Columbus hosts the annual bags tournament at the beer tent. \nSame rules as last year\, including at least one member of each team must be a current or former Logan County Resident. \nCost is $20 per team (limit of 64 teams). Click the link for the Facebook event page about this tournament to learn more about rules and equipment. \nEvent codes ccsoc ccgc
URL:https://www.wlcnonline.com/event/bags-tournament-at-the-beer-tent-at-the-logan-county-fairgrounds/
LOCATION:Logan County Fairgrounds\, 230 N. Postville Drive\, Lincoln\, IL\, 62656\, United States
ORGANIZER;CN="Logan County Fair":MAILTO:fair@logancountyfair.comcastbiz.net
END:VEVENT
BEGIN:VEVENT
DTSTART;TZID=America/Chicago:20250802T120000
DTEND;TZID=America/Chicago:20250802T140000
DTSTAMP:20260423T100546
CREATED:20250801T042621Z
LAST-MODIFIED:20250801T042622Z
UID:10020607-1754136000-1754143200@www.wlcnonline.com
SUMMARY:Annual back-to-school bash with free school supplies at Full Gospel Evangelistic Church in Lincoln
DESCRIPTION:The event is open to the community and takes place at Full Gospel Evangelistic Center. Free school supplies will be available; in addition\, there will be a bouncy house\, snow cones\, cotton candy\, hot dogs and more. \nEvent codes ccrel ccedu ccff ccfre ccfk
URL:https://www.wlcnonline.com/event/annual-back-to-school-bash-with-free-school-supplies-at-full-gospel-evangelistic-church-in-lincoln/
LOCATION:Full Gospel Evangelistic Center in Lincoln\, 304 N. McLean Street\, Lincoln\, IL\, 62656\, United States
ORGANIZER;CN="Full Gospel Evangelistic Center":MAILTO:fgec@icloud.com
END:VEVENT
BEGIN:VEVENT
DTSTART;TZID=America/Chicago:20250802T100000
DTEND;TZID=America/Chicago:20250802T140000
DTSTAMP:20260423T100546
CREATED:20250724T213221Z
LAST-MODIFIED:20250724T213221Z
UID:10020532-1754128800-1754143200@www.wlcnonline.com
SUMMARY:2025 back-to-school shopping event at Beauty of a Site boutique in Delavan
DESCRIPTION:The event is dedicated to teachers and students\, but everyone is welcome. The store will have lots of new arrivals and many summer markdowns. Teachers\, support staff\, and students receive a special discount on fashion and footwear all weekend. \nEvent codes cclbep
URL:https://www.wlcnonline.com/event/2025-back-to-school-shopping-event-at-beauty-of-a-site-boutique-in-delavan/2025-08-02/
LOCATION:Beauty of a Site in Delavan\, 302 Locust Street\, Delavan\, IL\, 61734\, United States
ORGANIZER;CN="Beauty of a Site":MAILTO:info@beautyofasite.com
END:VEVENT
BEGIN:VEVENT
DTSTART;TZID=America/Chicago:20250802T090000
DTEND;TZID=America/Chicago:20250802T160000
DTSTAMP:20260423T100546
CREATED:20250724T212956Z
LAST-MODIFIED:20250724T212956Z
UID:10020530-1754125200-1754150400@www.wlcnonline.com
SUMMARY:Training retreat for volunteers for The Center for Creativity and Community in Lincoln
DESCRIPTION:This one-day event is designed for those interested in volunteering with The Center for Creativity and Community\, a free program for youth to be themselves\, explore their creativity\, and strengthen their connections within themselves and with others. Volunteers help by interacting with students in developing their understanding of art and community. Those interested in attending the event or learning more should send a message via The Center for Creativity and Community page on Facebook.
URL:https://www.wlcnonline.com/event/training-retreat-for-volunteers-for-the-center-for-creativity-and-community-in-lincoln/
LOCATION:Center for Creativity and Collaboration in Lincoln\, 301 Pekin Street\, Lincoln\, 62656\, United States
ORGANIZER;CN="Center for Community and Collaboration":MAILTO:thecenter4creativitycommunity@gmail.com
END:VEVENT
BEGIN:VEVENT
DTSTART;TZID=America/Chicago:20250802T090000
DTEND;TZID=America/Chicago:20250802T150000
DTSTAMP:20260423T100546
CREATED:20250529T154649Z
LAST-MODIFIED:20250529T154649Z
UID:10020143-1754125200-1754146800@www.wlcnonline.com
SUMMARY:Strawberry season at Mariah's Mums and More in rural Clinton
DESCRIPTION:Mariah’s offers U-Pick strawberries grown in vertical high tunnels for the entire six-month picking season. \nBerry availability can vary throughout the season; the best way to stay informed about picking conditions and volume is by subscribing to Mariah’s weekly e-newsletter. You can also check the Mariah’s Facebook page to see if any updates have been posted. \nMariah’s recommends arriving as soon as they open during the spring and summer hours for the best chance to pick; depending on the number of pickers\, some days Mariah’s is picked out by noon. \nMariah’s opens at 9 AM until September\, when opening time switches to 10 AM. \nEvent codes cclbep
URL:https://www.wlcnonline.com/event/strawberry-season-at-mariahs-mums-and-more-in-rural-clinton/2025-08-02/
LOCATION:Mariah’s Mums & More in rural Clinton\, 16727 Airport Road\, Clinton\, IL\, 61727\, United States
ORGANIZER;CN="Mariah's Mums & More in rural Clinton":MAILTO:mariahandgreg@mariahsmums.com
END:VEVENT
BEGIN:VEVENT
DTSTART;TZID=America/Chicago:20250802T090000
DTEND;TZID=America/Chicago:20250802T100000
DTSTAMP:20260423T100546
CREATED:20250227T214918Z
LAST-MODIFIED:20251231T162155Z
UID:10019134-1754125200-1754128800@www.wlcnonline.com
SUMMARY:Alcoholics Anonymous meetings by Land of Lincoln Recovery Group at Hope on 5th in Lincoln
DESCRIPTION:Meetings are free to attend and take place at 6 PM on Tuesdays\, Wednesdays\, Fridays and Saturdays as well as at 9 AM on Saturdays and Sundays. \nEvent codes
URL:https://www.wlcnonline.com/event/alcoholics-anonymous-meetings-by-land-of-lincoln-recovery-group-at-hope-on-5th-in-lincoln-2/2025-08-02/
LOCATION:Hope on 5th in Lincoln\, 200 5th Street\, Lincoln\, 62656\, United States
ORGANIZER;CN="Logan Mason Recovery Oriented Systems of Care (ROSC)":MAILTO:jedavis@chestnut.org
END:VEVENT
BEGIN:VEVENT
DTSTART;TZID=America/Chicago:20250802T083000
DTEND;TZID=America/Chicago:20250802T123000
DTSTAMP:20260423T100546
CREATED:20250725T023929Z
LAST-MODIFIED:20250725T023929Z
UID:10020566-1754123400-1754137800@www.wlcnonline.com
SUMMARY:Community blood drive at Waynesville Methodist Church
DESCRIPTION:Donation times are available from 8:30 AM to 12:30 PM. Click here to visit the Red Cross web site and register online for a donation appointment time. \nEvent codes: ccbld\, ccserv
URL:https://www.wlcnonline.com/event/community-blood-drive-at-waynesville-methodist-church-2/
LOCATION:Waynesville Methodist Church\, 201 S. Isham Street\, Waynesville\, IL\, 62656\, United States
END:VEVENT
BEGIN:VEVENT
DTSTART;TZID=America/Chicago:20250802T080000
DTEND;TZID=America/Chicago:20250802T230000
DTSTAMP:20260423T100546
CREATED:20250724T181305Z
LAST-MODIFIED:20250724T181305Z
UID:10020514-1754121600-1754175600@www.wlcnonline.com
SUMMARY:2025 Logan County Fair in Lincoln\, Illinois
DESCRIPTION:The 2025 Logan County Fair runs from July 29 through August 5 and features numerous activities\, events and displays. For a complete schedule of events\, click here to visit the Logan County Fair web site. \nEvent codes: ccaca\, ccae\, ccagr\, ccent\, ccfb\, ccfce\, ccff\, cclm\, ccmrac\, ccpho\, ccqst\, ccsoc\, ccteen\, ccvnfr
URL:https://www.wlcnonline.com/event/2025-logan-county-fair-in-lincoln-illinois/2025-08-02/
LOCATION:Logan County Fairgrounds\, 230 N. Postville Drive\, Lincoln\, IL\, 62656\, United States
ORGANIZER;CN="Logan County Fair":MAILTO:fair@logancountyfair.comcastbiz.net
END:VEVENT
BEGIN:VEVENT
DTSTART;TZID=America/Chicago:20250801T190000
DTEND;TZID=America/Chicago:20250801T230000
DTSTAMP:20260423T100546
CREATED:20250725T022748Z
LAST-MODIFIED:20250725T022748Z
UID:10020562-1754074800-1754089200@www.wlcnonline.com
SUMMARY:Live music by Hillbilly High Rise at the Beer Tent at the Logan County Fairgrounds
DESCRIPTION:Hillbilly High-Rise is brings its catalog of country music to the Beer Tent on Friday\, August 1 from 7 PM to 11 PM. \nEvent codes ccfb ccent cclm
URL:https://www.wlcnonline.com/event/live-music-by-hillbilly-high-rise-at-the-beer-tent-at-the-logan-county-fairgrounds/
LOCATION:Logan County Fairgrounds\, 230 N. Postville Drive\, Lincoln\, IL\, 62656\, United States
ORGANIZER;CN="Logan County Fair":MAILTO:fair@logancountyfair.comcastbiz.net
END:VEVENT
BEGIN:VEVENT
DTSTART;TZID=America/Chicago:20250801T190000
DTEND;TZID=America/Chicago:20250801T220000
DTSTAMP:20260423T100546
CREATED:20250725T023107Z
LAST-MODIFIED:20250725T023107Z
UID:10020563-1754074800-1754085600@www.wlcnonline.com
SUMMARY:2025 Logan County Fair grandstand event: "Night of Thunder" racing event at Lincoln Speedway
DESCRIPTION:Divisions:\nDIRTcar Modified\nDIRTcar Sportsman\nCrown Vics\nDIRTcar Hornets \nTimes:\nPits: 4 PM\nStands: 5 PM\nLocal Pill Draw Ends: 5:50 PM\nHotlaps: 6 PM\nRacing: 7 PM \nGrandstand Pricing:\nBox Seats & General Admission – $10\nChildren 5 & Under – Free \nTickets as well as all pit passes will be sold at track on raceday
URL:https://www.wlcnonline.com/event/2025-logan-county-fair-grandstand-event-night-of-thunder-racing-event-at-lincoln-speedway/
LOCATION:Lincoln Speedway at Logan County Fairgrounds\, 230 N. Postville Drive\, Lincoln\, IL\, 62656\, United States
ORGANIZER;CN="Track Enterprises":MAILTO:track@trackenterprises.com
END:VEVENT
BEGIN:VEVENT
DTSTART;TZID=America/Chicago:20250801T190000
DTEND;TZID=America/Chicago:20250801T220000
DTSTAMP:20260423T100546
CREATED:20250724T213343Z
LAST-MODIFIED:20250724T213343Z
UID:10020533-1754074800-1754085600@www.wlcnonline.com
SUMMARY:Live music by K&R Country at the Irish Circle in Wapella
DESCRIPTION:K&R Country brings its brand of classic and outlaw country music to the Irish Circle. \nEvent codes ccent ccfb cclm
URL:https://www.wlcnonline.com/event/live-music-by-kr-country-at-the-irish-circle-in-wapella/
LOCATION:The Irish Circle in Wapella\, 405 N Walnut Street\, Wapella\, IL\, 61777\, United States
END:VEVENT
BEGIN:VEVENT
DTSTART;TZID=America/Chicago:20250801T180000
DTEND;TZID=America/Chicago:20250801T190000
DTSTAMP:20260423T100546
CREATED:20250227T215905Z
LAST-MODIFIED:20251231T161347Z
UID:10019271-1754071200-1754074800@www.wlcnonline.com
SUMMARY:Veterans recovery group meetings by Never Alone at Hope on 5th in Lincoln
DESCRIPTION:Meetings are free to attend and take place at 6 PM on the first and third Fridays of the month. \nEvent codes
URL:https://www.wlcnonline.com/event/veterans-recovery-group-meetings-by-never-alone-at-hope-on-5th-in-lincoln/2025-08-01/
LOCATION:Hope on 5th in Lincoln\, 200 5th Street\, Lincoln\, 62656\, United States
ORGANIZER;CN="Logan Mason Recovery Oriented Systems of Care (ROSC)":MAILTO:jedavis@chestnut.org
END:VEVENT
BEGIN:VEVENT
DTSTART;TZID=America/Chicago:20250801T180000
DTEND;TZID=America/Chicago:20250801T190000
DTSTAMP:20260423T100546
CREATED:20250227T214713Z
LAST-MODIFIED:20251231T161900Z
UID:10019002-1754071200-1754074800@www.wlcnonline.com
SUMMARY:Alcoholics Anonymous meetings by Land of Lincoln Recovery Group at Hope on 5th in Lincoln
DESCRIPTION:Meetings are free to attend and take place at 6 PM on Tuesdays\, Wednesdays\, Fridays and Saturdays as well as at 9 AM on Saturdays and Sundays. \nEvent codes
URL:https://www.wlcnonline.com/event/alcoholics-anonymous-meetings-by-land-of-lincoln-recovery-group-at-hope-on-5th-in-lincoln/2025-08-01/
LOCATION:Hope on 5th in Lincoln\, 200 5th Street\, Lincoln\, 62656\, United States
ORGANIZER;CN="Logan Mason Recovery Oriented Systems of Care (ROSC)":MAILTO:jedavis@chestnut.org
END:VEVENT
END:VCALENDAR