BEGIN:VCALENDAR
VERSION:2.0
PRODID:-//WLCN 96.3 FM - ECPv6.15.20//NONSGML v1.0//EN
CALSCALE:GREGORIAN
METHOD:PUBLISH
X-WR-CALNAME:WLCN 96.3 FM
X-ORIGINAL-URL:https://www.wlcnonline.com
X-WR-CALDESC:Events for WLCN 96.3 FM
REFRESH-INTERVAL;VALUE=DURATION:PT1H
X-Robots-Tag:noindex
X-PUBLISHED-TTL:PT1H
BEGIN:VTIMEZONE
TZID:America/Chicago
BEGIN:DAYLIGHT
TZOFFSETFROM:-0600
TZOFFSETTO:-0500
TZNAME:CDT
DTSTART:20240310T080000
END:DAYLIGHT
BEGIN:STANDARD
TZOFFSETFROM:-0500
TZOFFSETTO:-0600
TZNAME:CST
DTSTART:20241103T070000
END:STANDARD
BEGIN:DAYLIGHT
TZOFFSETFROM:-0600
TZOFFSETTO:-0500
TZNAME:CDT
DTSTART:20250309T080000
END:DAYLIGHT
BEGIN:STANDARD
TZOFFSETFROM:-0500
TZOFFSETTO:-0600
TZNAME:CST
DTSTART:20251102T070000
END:STANDARD
BEGIN:DAYLIGHT
TZOFFSETFROM:-0600
TZOFFSETTO:-0500
TZNAME:CDT
DTSTART:20260308T080000
END:DAYLIGHT
BEGIN:STANDARD
TZOFFSETFROM:-0500
TZOFFSETTO:-0600
TZNAME:CST
DTSTART:20261101T070000
END:STANDARD
END:VTIMEZONE
BEGIN:VEVENT
DTSTART;TZID=America/Chicago:20250901T170000
DTEND;TZID=America/Chicago:20250901T200000
DTSTAMP:20260423T010423
CREATED:20250130T142758Z
LAST-MODIFIED:20250417T125953Z
UID:10018077-1756746000-1756756800@www.wlcnonline.com
SUMMARY:Fundraiser for Jefferson Street Christian Church at Culver's of Lincoln
DESCRIPTION:Purchase food from Culver’s of Lincoln and help support a worthy cause whether dining in\, carrying out\, using the drive-thru or ordering through DoorDash. During the hours of the fundraiser\, a portion of all proceeds will be donated to the organization. \nEvent codes ccfb\, ccfdd
URL:https://www.wlcnonline.com/event/fundraiser-for-jefferson-street-christian-church-at-culvers-of-lincoln/2025-09-01/
LOCATION:Culver’s of Lincoln\, 2530 Woodlawn Road\, Lincoln\, IL\, 62656\, United States
ORGANIZER;CN="Culver's of Lincoln":MAILTO:lincolnculvers@comcast.net
END:VEVENT
BEGIN:VEVENT
DTSTART;TZID=America/Chicago:20250901T103000
DTEND;TZID=America/Chicago:20250901T103000
DTSTAMP:20260423T010423
CREATED:20250829T024335Z
LAST-MODIFIED:20250829T024335Z
UID:10020683-1756722600-1756722600@www.wlcnonline.com
SUMMARY:Labor Day weekend tractor and truck pull in Delavan
DESCRIPTION:Events begin Sunday\, August 31 at 11 AM and on Monday\, September 1 at 10:30 AM. See flyer posted here for additional details. \nEvent codes ccsoc ccms
URL:https://www.wlcnonline.com/event/labor-day-weekend-tractor-and-truck-pull-in-delavan/2025-09-01/
LOCATION:City of Delavan\, Delavan\, IL\, 61734\, United States
ORGANIZER;CN="City of Delavan":MAILTO:cityofdelavan@delavanil.org
END:VEVENT
BEGIN:VEVENT
DTSTART;TZID=America/Chicago:20250901T100000
DTEND;TZID=America/Chicago:20250901T104500
DTSTAMP:20260423T010423
CREATED:20250814T215225Z
LAST-MODIFIED:20260115T152229Z
UID:10020623-1756720800-1756723500@www.wlcnonline.com
SUMMARY:Chair yoga by Silver Fox Fitness at The Villas at Lincoln﻿
DESCRIPTION:Seated and standing poses will be utilized with the goal of increasing flexibility\, balance and strength along with providing relaxation. Participants never get down on the floor. \nEvent codes: ccfs\, cchwf
URL:https://www.wlcnonline.com/event/chair-yoga-by-silver-fox-fitness-at-the-villas-at-lincoln/2025-09-01/
LOCATION:Villas at Lincoln (formerly The Christian Village) in Lincoln\, 1507 7th Street\, Lincoln\, IL\, 62656\, United States
END:VEVENT
BEGIN:VEVENT
DTSTART;TZID=America/Chicago:20250831T190000
DTEND;TZID=America/Chicago:20250831T220000
DTSTAMP:20260423T010423
CREATED:20250828T202542Z
LAST-MODIFIED:20250828T202542Z
UID:10020680-1756666800-1756677600@www.wlcnonline.com
SUMMARY:Labor Day Weekend live music mini-festival at Rusty Bucket in Greenview
DESCRIPTION:Enjoy items from the on-site food truck and beer tent while listening to a variety of music from: \n\nFriday\, August 29 from 8-11 PM  • Jobe & Woody\nSaturday\, August 30 from 3-6 PM • Antone\nSaturday\, August 30 • 8-11 PM • Aubrey Reed and the Undecideds\nSunday\, August 31 • 2-5 PM • American Pie\nSunday\, August 31 • 7-10 PM • Stone Cold Cowboys\n\nEvent codes ccent cclm ccsoc ccfb
URL:https://www.wlcnonline.com/event/labor-day-weekend-live-music-mini-festival-at-rusty-bucket-in-greenview/2025-08-31/2/
LOCATION:Rusty Bucket in Greenview\, 124 N. Engle Street\, Greenview\, 62642\, United States
ORGANIZER;CN="Rusty Bucket":MAILTO:rustybucket124@gmail.com
END:VEVENT
BEGIN:VEVENT
DTSTART;TZID=America/Chicago:20250831T180000
DTEND;TZID=America/Chicago:20250831T190000
DTSTAMP:20260423T010423
CREATED:20250227T221038Z
LAST-MODIFIED:20251231T162443Z
UID:10019486-1756663200-1756666800@www.wlcnonline.com
SUMMARY:Alcoholics Anonymous meetings at Trinity Episcopal Church in Lincoln
DESCRIPTION:Meetings are free to attend and take place at the following times: \n\nMondays at 7 PM\nWednesdays at 6 PM\nFridays at 11 AM\nSundays at 6 PM\n\nEvent codes
URL:https://www.wlcnonline.com/event/alcoholics-anonymous-meetings-at-trinity-episcopal-church-in-lincoln-4/2025-08-31/
LOCATION:Trinity Episcopal Church in Lincoln\, 402 Pekin Street\, Lincoln\, 62656\, United States
ORGANIZER;CN="Logan Mason Recovery Oriented Systems of Care (ROSC)":MAILTO:jedavis@chestnut.org
END:VEVENT
BEGIN:VEVENT
DTSTART;TZID=America/Chicago:20250831T170000
DTEND;TZID=America/Chicago:20250831T180000
DTSTAMP:20260423T010423
CREATED:20250227T215139Z
LAST-MODIFIED:20251231T162319Z
UID:10019661-1756659600-1756663200@www.wlcnonline.com
SUMMARY:Narcotics Anonymous meetings by Land of Lincoln Recovery Group at Hope on 5th in Lincoln
DESCRIPTION:Meetings are free to attend and take place at 6 PM Thursdays as well as at 5 PM on Sundays. \nEvent codes
URL:https://www.wlcnonline.com/event/narcotics-anonymous-meetings-by-land-of-lincoln-recovery-group-at-hope-on-5th-in-lincoln/2025-08-31/
LOCATION:Hope on 5th in Lincoln\, 200 5th Street\, Lincoln\, 62656\, United States
ORGANIZER;CN="Logan Mason Recovery Oriented Systems of Care (ROSC)":MAILTO:jedavis@chestnut.org
END:VEVENT
BEGIN:VEVENT
DTSTART;TZID=America/Chicago:20250831T140000
DTEND;TZID=America/Chicago:20250831T170000
DTSTAMP:20260423T010423
CREATED:20250828T202542Z
LAST-MODIFIED:20250828T202542Z
UID:10020679-1756648800-1756659600@www.wlcnonline.com
SUMMARY:Labor Day Weekend live music mini-festival at Rusty Bucket in Greenview
DESCRIPTION:Enjoy items from the on-site food truck and beer tent while listening to a variety of music from: \n\nFriday\, August 29 from 8-11 PM  • Jobe & Woody\nSaturday\, August 30 from 3-6 PM • Antone\nSaturday\, August 30 • 8-11 PM • Aubrey Reed and the Undecideds\nSunday\, August 31 • 2-5 PM • American Pie\nSunday\, August 31 • 7-10 PM • Stone Cold Cowboys\n\nEvent codes ccent cclm ccsoc ccfb
URL:https://www.wlcnonline.com/event/labor-day-weekend-live-music-mini-festival-at-rusty-bucket-in-greenview/2025-08-31/1/
LOCATION:Rusty Bucket in Greenview\, 124 N. Engle Street\, Greenview\, 62642\, United States
ORGANIZER;CN="Rusty Bucket":MAILTO:rustybucket124@gmail.com
END:VEVENT
BEGIN:VEVENT
DTSTART;TZID=America/Chicago:20250831T140000
DTEND;TZID=America/Chicago:20250831T160000
DTSTAMP:20260423T010423
CREATED:20240607T073345Z
LAST-MODIFIED:20251231T163021Z
UID:10020352-1756648800-1756656000@www.wlcnonline.com
SUMMARY:Xtreme Bar Bingo at The Next Stop Saloon in Mt. Pulaski
DESCRIPTION:Games take place every Sunday from 2 PM to 4 PM. \nEvent codes ccfb ccbin
URL:https://www.wlcnonline.com/event/xtreme-bar-bingo-at-the-next-stop-saloon-in-mt-pulaski/2025-08-31/
LOCATION:The Next Stop Saloon in Mt. Pulaski\, 100 E. Cooke Street\, Mt. Pulaski\, IL\, 62548\, United States
END:VEVENT
BEGIN:VEVENT
DTSTART;TZID=America/Chicago:20250831T110000
DTEND;TZID=America/Chicago:20250831T160000
DTSTAMP:20260423T010423
CREATED:20250724T212159Z
LAST-MODIFIED:20250724T212227Z
UID:10020529-1756638000-1756656000@www.wlcnonline.com
SUMMARY:Sunday snacks events throughout August 2025 by The Daily Wrap food truck in Downtown Lincoln
DESCRIPTION:The Daily Wrap food truck will be set up Sundays throughout August 2025 in downtown Lincoln near Spirited Republic. The Daily Wrap will have its full lunch menu available from 11 AM to 4 PM each Sunday. \nEvent codes cclbep ccfb
URL:https://www.wlcnonline.com/event/sunday-snacks-events-throughout-august-2025-by-the-daily-wrap-food-truck-in-downtown-lincoln/2025-08-31/
LOCATION:Near Spirited Republic in downtown Lincoln\, 509 Pulaski Street\, Lincoln\, IL\, 62656\, United States
ORGANIZER;CN="The Daily Wrap food truck":MAILTO:farmhousecentralil@gmail.com
END:VEVENT
BEGIN:VEVENT
DTSTART;TZID=America/Chicago:20250831T110000
DTEND;TZID=America/Chicago:20250831T110000
DTSTAMP:20260423T010423
CREATED:20250829T024335Z
LAST-MODIFIED:20250829T024335Z
UID:10020682-1756638000-1756638000@www.wlcnonline.com
SUMMARY:Labor Day weekend tractor and truck pull in Delavan
DESCRIPTION:Events begin Sunday\, August 31 at 11 AM and on Monday\, September 1 at 10:30 AM. See flyer posted here for additional details. \nEvent codes ccsoc ccms
URL:https://www.wlcnonline.com/event/labor-day-weekend-tractor-and-truck-pull-in-delavan/2025-08-31/
LOCATION:City of Delavan\, Delavan\, IL\, 61734\, United States
ORGANIZER;CN="City of Delavan":MAILTO:cityofdelavan@delavanil.org
END:VEVENT
BEGIN:VEVENT
DTSTART;TZID=America/Chicago:20250831T090000
DTEND;TZID=America/Chicago:20250831T100000
DTSTAMP:20260423T010423
CREATED:20250227T214918Z
LAST-MODIFIED:20251231T162155Z
UID:10019143-1756630800-1756634400@www.wlcnonline.com
SUMMARY:Alcoholics Anonymous meetings by Land of Lincoln Recovery Group at Hope on 5th in Lincoln
DESCRIPTION:Meetings are free to attend and take place at 6 PM on Tuesdays\, Wednesdays\, Fridays and Saturdays as well as at 9 AM on Saturdays and Sundays. \nEvent codes
URL:https://www.wlcnonline.com/event/alcoholics-anonymous-meetings-by-land-of-lincoln-recovery-group-at-hope-on-5th-in-lincoln-2/2025-08-31/
LOCATION:Hope on 5th in Lincoln\, 200 5th Street\, Lincoln\, 62656\, United States
ORGANIZER;CN="Logan Mason Recovery Oriented Systems of Care (ROSC)":MAILTO:jedavis@chestnut.org
END:VEVENT
BEGIN:VEVENT
DTSTART;TZID=America/Chicago:20250830T200000
DTEND;TZID=America/Chicago:20250830T230000
DTSTAMP:20260423T010423
CREATED:20250828T202542Z
LAST-MODIFIED:20250828T202542Z
UID:10020678-1756584000-1756594800@www.wlcnonline.com
SUMMARY:Labor Day Weekend live music mini-festival at Rusty Bucket in Greenview
DESCRIPTION:Enjoy items from the on-site food truck and beer tent while listening to a variety of music from: \n\nFriday\, August 29 from 8-11 PM  • Jobe & Woody\nSaturday\, August 30 from 3-6 PM • Antone\nSaturday\, August 30 • 8-11 PM • Aubrey Reed and the Undecideds\nSunday\, August 31 • 2-5 PM • American Pie\nSunday\, August 31 • 7-10 PM • Stone Cold Cowboys\n\nEvent codes ccent cclm ccsoc ccfb
URL:https://www.wlcnonline.com/event/labor-day-weekend-live-music-mini-festival-at-rusty-bucket-in-greenview/2025-08-30/2/
LOCATION:Rusty Bucket in Greenview\, 124 N. Engle Street\, Greenview\, 62642\, United States
ORGANIZER;CN="Rusty Bucket":MAILTO:rustybucket124@gmail.com
END:VEVENT
BEGIN:VEVENT
DTSTART;TZID=America/Chicago:20250830T180000
DTEND;TZID=America/Chicago:20250830T190000
DTSTAMP:20260423T010423
CREATED:20250227T214713Z
LAST-MODIFIED:20251231T161900Z
UID:10019019-1756576800-1756580400@www.wlcnonline.com
SUMMARY:Alcoholics Anonymous meetings by Land of Lincoln Recovery Group at Hope on 5th in Lincoln
DESCRIPTION:Meetings are free to attend and take place at 6 PM on Tuesdays\, Wednesdays\, Fridays and Saturdays as well as at 9 AM on Saturdays and Sundays. \nEvent codes
URL:https://www.wlcnonline.com/event/alcoholics-anonymous-meetings-by-land-of-lincoln-recovery-group-at-hope-on-5th-in-lincoln/2025-08-30/
LOCATION:Hope on 5th in Lincoln\, 200 5th Street\, Lincoln\, 62656\, United States
ORGANIZER;CN="Logan Mason Recovery Oriented Systems of Care (ROSC)":MAILTO:jedavis@chestnut.org
END:VEVENT
BEGIN:VEVENT
DTSTART;TZID=America/Chicago:20250830T150000
DTEND;TZID=America/Chicago:20250830T180000
DTSTAMP:20260423T010423
CREATED:20250828T202542Z
LAST-MODIFIED:20250828T202542Z
UID:10020677-1756566000-1756576800@www.wlcnonline.com
SUMMARY:Labor Day Weekend live music mini-festival at Rusty Bucket in Greenview
DESCRIPTION:Enjoy items from the on-site food truck and beer tent while listening to a variety of music from: \n\nFriday\, August 29 from 8-11 PM  • Jobe & Woody\nSaturday\, August 30 from 3-6 PM • Antone\nSaturday\, August 30 • 8-11 PM • Aubrey Reed and the Undecideds\nSunday\, August 31 • 2-5 PM • American Pie\nSunday\, August 31 • 7-10 PM • Stone Cold Cowboys\n\nEvent codes ccent cclm ccsoc ccfb
URL:https://www.wlcnonline.com/event/labor-day-weekend-live-music-mini-festival-at-rusty-bucket-in-greenview/2025-08-30/1/
LOCATION:Rusty Bucket in Greenview\, 124 N. Engle Street\, Greenview\, 62642\, United States
ORGANIZER;CN="Rusty Bucket":MAILTO:rustybucket124@gmail.com
END:VEVENT
BEGIN:VEVENT
DTSTART;TZID=America/Chicago:20250830T100000
DTEND;TZID=America/Chicago:20250830T103000
DTSTAMP:20260423T010423
CREATED:20250829T020342Z
LAST-MODIFIED:20250829T020342Z
UID:10020681-1756548000-1756549800@www.wlcnonline.com
SUMMARY:Dragons\, Unicorns and Donuts Story Time at Ink & Imprint Books in Lincoln
DESCRIPTION:Story time returns to Ink & Imprint Books on a new day and time. Listen to stories about dragons and unicorns from 10 to 10:30 AM and enjoy donut holes from Mel-O-Cream. \nEvent codes cclbep ccfb ccsoc ccfk
URL:https://www.wlcnonline.com/event/dragons-unicorns-and-donuts-story-time-at-ink-imprint-books-in-lincoln/
LOCATION:Ink & Imprint Books in Lincoln\, 125 N Kickapoo Street\, Lincoln\, 62656\, United States
ORGANIZER;CN="Ink & Imprint Books":MAILTO:inkandimprintbooks@gmail.com
END:VEVENT
BEGIN:VEVENT
DTSTART;TZID=America/Chicago:20250830T090000
DTEND;TZID=America/Chicago:20250830T150000
DTSTAMP:20260423T010423
CREATED:20250529T154649Z
LAST-MODIFIED:20250529T154649Z
UID:10020147-1756544400-1756566000@www.wlcnonline.com
SUMMARY:Strawberry season at Mariah's Mums and More in rural Clinton
DESCRIPTION:Mariah’s offers U-Pick strawberries grown in vertical high tunnels for the entire six-month picking season. \nBerry availability can vary throughout the season; the best way to stay informed about picking conditions and volume is by subscribing to Mariah’s weekly e-newsletter. You can also check the Mariah’s Facebook page to see if any updates have been posted. \nMariah’s recommends arriving as soon as they open during the spring and summer hours for the best chance to pick; depending on the number of pickers\, some days Mariah’s is picked out by noon. \nMariah’s opens at 9 AM until September\, when opening time switches to 10 AM. \nEvent codes cclbep
URL:https://www.wlcnonline.com/event/strawberry-season-at-mariahs-mums-and-more-in-rural-clinton/2025-08-30/
LOCATION:Mariah’s Mums & More in rural Clinton\, 16727 Airport Road\, Clinton\, IL\, 61727\, United States
ORGANIZER;CN="Mariah's Mums & More in rural Clinton":MAILTO:mariahandgreg@mariahsmums.com
END:VEVENT
BEGIN:VEVENT
DTSTART;TZID=America/Chicago:20250830T090000
DTEND;TZID=America/Chicago:20250830T100000
DTSTAMP:20260423T010423
CREATED:20250227T214918Z
LAST-MODIFIED:20251231T162155Z
UID:10019142-1756544400-1756548000@www.wlcnonline.com
SUMMARY:Alcoholics Anonymous meetings by Land of Lincoln Recovery Group at Hope on 5th in Lincoln
DESCRIPTION:Meetings are free to attend and take place at 6 PM on Tuesdays\, Wednesdays\, Fridays and Saturdays as well as at 9 AM on Saturdays and Sundays. \nEvent codes
URL:https://www.wlcnonline.com/event/alcoholics-anonymous-meetings-by-land-of-lincoln-recovery-group-at-hope-on-5th-in-lincoln-2/2025-08-30/
LOCATION:Hope on 5th in Lincoln\, 200 5th Street\, Lincoln\, 62656\, United States
ORGANIZER;CN="Logan Mason Recovery Oriented Systems of Care (ROSC)":MAILTO:jedavis@chestnut.org
END:VEVENT
BEGIN:VEVENT
DTSTART;TZID=America/Chicago:20250830T080000
DTEND;TZID=America/Chicago:20250830T120000
DTSTAMP:20260423T010423
CREATED:20250417T142149Z
LAST-MODIFIED:20250417T142149Z
UID:10019958-1756540800-1756555200@www.wlcnonline.com
SUMMARY:LMH Market hosted by the LMH Health Collaborative at Logan County Fairgrounds
DESCRIPTION:The Lincoln Memorial Hospital Market opens for its 10th season on Saturday\, May 17 and runs through September 20 in the expo buildings on the Logan County Fairgrounds. Sponsored by the Lincoln Memorial Foundation\, the indoor event is a “producer-only” farmers market\, which means vendors sell only what they have grown or produced themselves. Vendors at The LMH Market offer fruits\, vegetables\, eggs\, poultry\, baked goods\, honey and more. Shoppers enrolled in the Supplemental Nutrition Assistance Program (SNAP)\, which provides assistance to supplement the grocery budgets of families in need\, may use a Link card to purchase food at the farmers market. The Market offers SNAP matching for Link card holders\, and the match is tripled every third Saturday. \nOther offerings at The LMH Market include free health screenings on the second and fourth Saturdays of each month. The Power of Produce (POP) Club provides activities for children from 5 to 12 years old to engage them in the local food system with educational games and demonstrations\, conversations with farmers and exposure to fruits and vegetables. Attendees will also find a “Local Roots” booth that provides an opportunity for vendors who are not producer-only\, but who have a local connection and a quality product to share with customers. The LMH Market is presented by Lincoln Memorial Hospital and promotes health and wellness through fresh food and health-focused programs. For additional information\, click here to visit The LMH Market page on Facebook. \nEvent codes cchwf cclbep ccfd
URL:https://www.wlcnonline.com/event/lmh-market-hosted-by-the-lmh-health-collaborative-at-logan-county-fairgrounds/2025-08-30/
LOCATION:Logan County Fairgrounds\, 230 N. Postville Drive\, Lincoln\, IL\, 62656\, United States
ORGANIZER;CN="Lincoln Memorial Hospital Market Coordinator":MAILTO:jones.jamie@mhsil.com
END:VEVENT
BEGIN:VEVENT
DTSTART;TZID=America/Chicago:20250829T200000
DTEND;TZID=America/Chicago:20250829T230000
DTSTAMP:20260423T010423
CREATED:20250828T202542Z
LAST-MODIFIED:20250828T202542Z
UID:10020676-1756497600-1756508400@www.wlcnonline.com
SUMMARY:Labor Day Weekend live music mini-festival at Rusty Bucket in Greenview
DESCRIPTION:Enjoy items from the on-site food truck and beer tent while listening to a variety of music from: \n\nFriday\, August 29 from 8-11 PM  • Jobe & Woody\nSaturday\, August 30 from 3-6 PM • Antone\nSaturday\, August 30 • 8-11 PM • Aubrey Reed and the Undecideds\nSunday\, August 31 • 2-5 PM • American Pie\nSunday\, August 31 • 7-10 PM • Stone Cold Cowboys\n\nEvent codes ccent cclm ccsoc ccfb
URL:https://www.wlcnonline.com/event/labor-day-weekend-live-music-mini-festival-at-rusty-bucket-in-greenview/2025-08-29/
LOCATION:Rusty Bucket in Greenview\, 124 N. Engle Street\, Greenview\, 62642\, United States
ORGANIZER;CN="Rusty Bucket":MAILTO:rustybucket124@gmail.com
END:VEVENT
BEGIN:VEVENT
DTSTART;TZID=America/Chicago:20250829T190000
DTEND;TZID=America/Chicago:20250829T220000
DTSTAMP:20260423T010423
CREATED:20250717T144644Z
LAST-MODIFIED:20250828T195250Z
UID:10020473-1756494000-1756504800@www.wlcnonline.com
SUMMARY:Live music by Captain Quirk at LaTeaDa Cafe/Barn Bar/Events in Clinton
DESCRIPTION:Rescheduled from August 29 due to inclement weather \nCaptain Quirk features songs from The Eagles\, Steve Miller Band\, Huey Lewis\, Nitty Gritty Dirt Band\, Journey\, Prince\, Kansas\, Chris Stapleton\, Sammy Hagar\, Bad Company and more. \nFood and drinks will be available for purchase starting at 6 PM; music begins at 7 PM; food will be available until 9 PM. \nThe outdoor concert is free of charge. Attendees can bring their own lawn chairs. No outside coolers/food/drinks are allowed. \nNote: LaTeaDa does take debit cards\, but using cash helps the lines move quicker and keeps them shorter. \nEvent codes: ccent\, cclm\, ccfd
URL:https://www.wlcnonline.com/event/live-music-by-captain-quirk-at-lateada-cafe-barn-bar-events-in-clinton/
LOCATION:LaTeaDa Cafe/Barn Bar/Events in Clinton\, 1100 S. Madison Street\, Clinton\, IL\, 61727\, United States
ORGANIZER;CN="LaTeaDa Cafe/Barn Bar/Events":MAILTO:lateadaladies@gmail.com
END:VEVENT
BEGIN:VEVENT
DTSTART;TZID=America/Chicago:20250829T180000
DTEND;TZID=America/Chicago:20250829T190000
DTSTAMP:20260423T010423
CREATED:20250227T214713Z
LAST-MODIFIED:20251231T161900Z
UID:10019018-1756490400-1756494000@www.wlcnonline.com
SUMMARY:Alcoholics Anonymous meetings by Land of Lincoln Recovery Group at Hope on 5th in Lincoln
DESCRIPTION:Meetings are free to attend and take place at 6 PM on Tuesdays\, Wednesdays\, Fridays and Saturdays as well as at 9 AM on Saturdays and Sundays. \nEvent codes
URL:https://www.wlcnonline.com/event/alcoholics-anonymous-meetings-by-land-of-lincoln-recovery-group-at-hope-on-5th-in-lincoln/2025-08-29/
LOCATION:Hope on 5th in Lincoln\, 200 5th Street\, Lincoln\, 62656\, United States
ORGANIZER;CN="Logan Mason Recovery Oriented Systems of Care (ROSC)":MAILTO:jedavis@chestnut.org
END:VEVENT
BEGIN:VEVENT
DTSTART;TZID=America/Chicago:20250829T120000
DTEND;TZID=America/Chicago:20250829T133000
DTSTAMP:20260423T010423
CREATED:20250227T221857Z
LAST-MODIFIED:20251231T161051Z
UID:10019617-1756468800-1756474200@www.wlcnonline.com
SUMMARY:SMART (Self-Management and Recovery Training) recovery meetings at Hope on 5th in Lincoln
DESCRIPTION:Meetings are free to attend and take place Fridays from noon to 1:30 PM. \nEvent codes
URL:https://www.wlcnonline.com/event/smart-self-management-and-recovery-training-recovery-meetings-at-hope-on-5th-in-lincoln/2025-08-29/
LOCATION:Hope on 5th in Lincoln\, 200 5th Street\, Lincoln\, 62656\, United States
ORGANIZER;CN="Logan Mason Recovery Oriented Systems of Care (ROSC)":MAILTO:jedavis@chestnut.org
END:VEVENT
BEGIN:VEVENT
DTSTART;TZID=America/Chicago:20250829T110000
DTEND;TZID=America/Chicago:20250829T120000
DTSTAMP:20260423T010423
CREATED:20250227T220937Z
LAST-MODIFIED:20251231T160939Z
UID:10019442-1756465200-1756468800@www.wlcnonline.com
SUMMARY:Alcoholics Anonymous meetings at Trinity Episcopal Church in Lincoln
DESCRIPTION:Meetings are free to attend and take place at the following times: \n\nMondays at 7 PM\nWednesdays at 6 PM\nFridays at 11 AM\nSundays at 6 PM\n\nEvent codes
URL:https://www.wlcnonline.com/event/alcoholics-anonymous-meetings-at-trinity-episcopal-church-in-lincoln-3/2025-08-29/
LOCATION:Trinity Episcopal Church in Lincoln\, 402 Pekin Street\, Lincoln\, 62656\, United States
ORGANIZER;CN="Logan Mason Recovery Oriented Systems of Care (ROSC)":MAILTO:jedavis@chestnut.org
END:VEVENT
BEGIN:VEVENT
DTSTART;TZID=America/Chicago:20250829T100000
DTEND;TZID=America/Chicago:20250829T104500
DTSTAMP:20260423T010423
CREATED:20250814T220121Z
LAST-MODIFIED:20250814T220121Z
UID:10020640-1756461600-1756464300@www.wlcnonline.com
SUMMARY:Cardio and strength workout by Silver Fox Fitness at The Villas at Lincoln﻿
DESCRIPTION:Attendees can build strength and endurance in a fun atmosphere. This workout is adaptable to all ability levels; a chair is always close by for balance and sitting.\nCost is $3 per class; Silver Sneakers\, Renew Active\, Silver&Fit or Health Alliance reimbursement are welcome. \nEvent codes: ccfs\, cchwf
URL:https://www.wlcnonline.com/event/cardio-and-strength-workout-by-silver-fox-fitness-at-the-villas-at-lincoln/2025-08-29/
LOCATION:Villas at Lincoln (formerly The Christian Village) in Lincoln\, 1507 7th Street\, Lincoln\, IL\, 62656\, United States
END:VEVENT
BEGIN:VEVENT
DTSTART;TZID=America/Chicago:20250828T190000
DTEND;TZID=America/Chicago:20250828T220000
DTSTAMP:20260423T010423
CREATED:20250710T225735Z
LAST-MODIFIED:20251231T171651Z
UID:10018381-1756407600-1756418400@www.wlcnonline.com
SUMMARY:Open mic night at Spirited Republic in Lincoln
DESCRIPTION:Spirited Republic open mic nights are a solo acoustic musical experiment with the goal of cultivating friendship\, support and good times amongst musicians\, comedians\, poets and artists of all kinds. Performers are asked to bring their own instruments (no drum sets; hand drums and percussion equipment only). \nEvent codes: ccent\, ccfb\, cclm\, ccsoc
URL:https://www.wlcnonline.com/event/open-mic-night-at-spirited-republic-in-lincoln-2/2025-08-28/
LOCATION:Spirited Republic in Lincoln\, 509 Pulaski Street\, Lincoln\, IL\, 62656\, United States
ORGANIZER;CN="Spirited Republic/Limerick Brewing Company":MAILTO:spiritedrepublic@gmail.com
END:VEVENT
BEGIN:VEVENT
DTSTART;TZID=America/Chicago:20250828T190000
DTEND;TZID=America/Chicago:20250828T200000
DTSTAMP:20260423T010423
CREATED:20250227T221223Z
LAST-MODIFIED:20251231T171824Z
UID:10019529-1756407600-1756411200@www.wlcnonline.com
SUMMARY:Alcoholics Anonymous meetings at Atlanta Community House in Atlanta
DESCRIPTION:Meetings are free to attend and take place Thursdays at 7 PM. \nEvent codes
URL:https://www.wlcnonline.com/event/alcoholics-anonymous-meetings-at-atlanta-community-house-in-atlanta/2025-08-28/
LOCATION:Atlanta Memorial Community House\, 106 SW 6th Street\, Atlanta\, IL\, 61723\, United States
ORGANIZER;CN="Logan Mason Recovery Oriented Systems of Care (ROSC)":MAILTO:jedavis@chestnut.org
END:VEVENT
BEGIN:VEVENT
DTSTART;TZID=America/Chicago:20250828T190000
DTEND;TZID=America/Chicago:20250828T200000
DTSTAMP:20260423T010424
CREATED:20250227T220255Z
LAST-MODIFIED:20251231T170522Z
UID:10019311-1756407600-1756411200@www.wlcnonline.com
SUMMARY:Celebrate recovery events at Open Arms Christian Fellowship in Lincoln
DESCRIPTION:Events take place on Thursday evenings with snacks served at 6 PM and the meeting starting at 7 PM.
URL:https://www.wlcnonline.com/event/celebrate-recovery-events-at-open-arms-christian-fellowship-in-lincoln/2025-08-28/
LOCATION:Open Arms Christian Fellowship\, 1321 State Route 10\, Lincoln\, IL\, 62656\, United States
ORGANIZER;CN="Hope on 5th":MAILTO:rhss2005th@gmail.com
END:VEVENT
BEGIN:VEVENT
DTSTART;TZID=America/Chicago:20250828T190000
DTEND;TZID=America/Chicago:20250828T190000
DTSTAMP:20260423T010424
CREATED:20240329T042327Z
LAST-MODIFIED:20251231T163130Z
UID:10020326-1756407600-1756407600@www.wlcnonline.com
SUMMARY:Xtreme Bar Bingo at The Rusty Rail in Lincoln
DESCRIPTION:Xtreme Bar Bingo is bingo game with awesome prizes. The Rusty Rail features Xtreme Bar Bingo on Thursday nights beginning at 7 PM. \nEvent codes: ccgc\, ccsoc ccbin
URL:https://www.wlcnonline.com/event/xtreme-bar-bingo-at-the-rusty-rail-in-lincoln/2025-08-28/
LOCATION:The Rusty Rail Pub in Lincoln\, 405 Pulaski Street\, Lincoln\, IL\, 62656\, United States
END:VEVENT
BEGIN:VEVENT
DTSTART;TZID=America/Chicago:20250828T180000
DTEND;TZID=America/Chicago:20250828T190000
DTSTAMP:20260423T010424
CREATED:20250227T215251Z
LAST-MODIFIED:20251231T170747Z
UID:10019204-1756404000-1756407600@www.wlcnonline.com
SUMMARY:Narcotics Anonymous meetings by Land of Lincoln Recovery Group at Hope on 5th in Lincoln
DESCRIPTION:Meetings are free to attend and take place at 6 PM Thursdays as well as at 5 PM on Sundays. \nEvent codes
URL:https://www.wlcnonline.com/event/narcotics-anonymous-meetings-by-land-of-lincoln-recovery-group-at-hope-on-5th-in-lincoln-2/2025-08-28/
LOCATION:Hope on 5th in Lincoln\, 200 5th Street\, Lincoln\, 62656\, United States
ORGANIZER;CN="Logan Mason Recovery Oriented Systems of Care (ROSC)":MAILTO:jedavis@chestnut.org
END:VEVENT
BEGIN:VEVENT
DTSTART;TZID=America/Chicago:20250828T170000
DTEND;TZID=America/Chicago:20250828T210000
DTSTAMP:20260423T010424
CREATED:20250717T215744Z
LAST-MODIFIED:20251231T171425Z
UID:10020489-1756400400-1756414800@www.wlcnonline.com
SUMMARY:Thursday night bingo (meal @ 5 PM\, bingo @ 6:30 PM) at Eagles Lodge in Lincoln﻿
DESCRIPTION:Doors open at 5 PM with food being served. Bingo starts at 6:30 PM and includes cash prizes\, jackpots as well as jar balls. Open to the public. \nEvent codes ccfb ccgc ccsoc ccbin
URL:https://www.wlcnonline.com/event/thursday-night-bingo-meal-5-pm-bingo-630-pm-at-eagles-lodge-in-lincoln/2025-08-28/
LOCATION:Fraternal Order Of Eagles #2708 in Lincoln\, 1621 N. Kickapoo Street\, Lincoln\, IL\, 62656\, United States
END:VEVENT
END:VCALENDAR