BEGIN:VCALENDAR
VERSION:2.0
PRODID:-//WLCN 96.3 FM - ECPv6.15.20//NONSGML v1.0//EN
CALSCALE:GREGORIAN
METHOD:PUBLISH
X-WR-CALNAME:WLCN 96.3 FM
X-ORIGINAL-URL:https://www.wlcnonline.com
X-WR-CALDESC:Events for WLCN 96.3 FM
REFRESH-INTERVAL;VALUE=DURATION:PT1H
X-Robots-Tag:noindex
X-PUBLISHED-TTL:PT1H
BEGIN:VTIMEZONE
TZID:America/Chicago
BEGIN:DAYLIGHT
TZOFFSETFROM:-0600
TZOFFSETTO:-0500
TZNAME:CDT
DTSTART:20240310T080000
END:DAYLIGHT
BEGIN:STANDARD
TZOFFSETFROM:-0500
TZOFFSETTO:-0600
TZNAME:CST
DTSTART:20241103T070000
END:STANDARD
BEGIN:DAYLIGHT
TZOFFSETFROM:-0600
TZOFFSETTO:-0500
TZNAME:CDT
DTSTART:20250309T080000
END:DAYLIGHT
BEGIN:STANDARD
TZOFFSETFROM:-0500
TZOFFSETTO:-0600
TZNAME:CST
DTSTART:20251102T070000
END:STANDARD
BEGIN:DAYLIGHT
TZOFFSETFROM:-0600
TZOFFSETTO:-0500
TZNAME:CDT
DTSTART:20260308T080000
END:DAYLIGHT
BEGIN:STANDARD
TZOFFSETFROM:-0500
TZOFFSETTO:-0600
TZNAME:CST
DTSTART:20261101T070000
END:STANDARD
END:VTIMEZONE
BEGIN:VEVENT
DTSTART;TZID=America/Chicago:20250808T120000
DTEND;TZID=America/Chicago:20250808T133000
DTSTAMP:20260423T083440
CREATED:20250227T221857Z
LAST-MODIFIED:20251231T161051Z
UID:10019614-1754654400-1754659800@www.wlcnonline.com
SUMMARY:SMART (Self-Management and Recovery Training) recovery meetings at Hope on 5th in Lincoln
DESCRIPTION:Meetings are free to attend and take place Fridays from noon to 1:30 PM. \nEvent codes
URL:https://www.wlcnonline.com/event/smart-self-management-and-recovery-training-recovery-meetings-at-hope-on-5th-in-lincoln/2025-08-08/
LOCATION:Hope on 5th in Lincoln\, 200 5th Street\, Lincoln\, 62656\, United States
ORGANIZER;CN="Logan Mason Recovery Oriented Systems of Care (ROSC)":MAILTO:jedavis@chestnut.org
END:VEVENT
BEGIN:VEVENT
DTSTART;TZID=America/Chicago:20250808T110000
DTEND;TZID=America/Chicago:20250808T120000
DTSTAMP:20260423T083440
CREATED:20250227T220937Z
LAST-MODIFIED:20251231T160939Z
UID:10019439-1754650800-1754654400@www.wlcnonline.com
SUMMARY:Alcoholics Anonymous meetings at Trinity Episcopal Church in Lincoln
DESCRIPTION:Meetings are free to attend and take place at the following times: \n\nMondays at 7 PM\nWednesdays at 6 PM\nFridays at 11 AM\nSundays at 6 PM\n\nEvent codes
URL:https://www.wlcnonline.com/event/alcoholics-anonymous-meetings-at-trinity-episcopal-church-in-lincoln-3/2025-08-08/
LOCATION:Trinity Episcopal Church in Lincoln\, 402 Pekin Street\, Lincoln\, 62656\, United States
ORGANIZER;CN="Logan Mason Recovery Oriented Systems of Care (ROSC)":MAILTO:jedavis@chestnut.org
END:VEVENT
BEGIN:VEVENT
DTSTART;TZID=America/Chicago:20250807T190000
DTEND;TZID=America/Chicago:20250807T220000
DTSTAMP:20260423T083440
CREATED:20250710T225735Z
LAST-MODIFIED:20251231T171651Z
UID:10018378-1754593200-1754604000@www.wlcnonline.com
SUMMARY:Open mic night at Spirited Republic in Lincoln
DESCRIPTION:Spirited Republic open mic nights are a solo acoustic musical experiment with the goal of cultivating friendship\, support and good times amongst musicians\, comedians\, poets and artists of all kinds. Performers are asked to bring their own instruments (no drum sets; hand drums and percussion equipment only). \nEvent codes: ccent\, ccfb\, cclm\, ccsoc
URL:https://www.wlcnonline.com/event/open-mic-night-at-spirited-republic-in-lincoln-2/2025-08-07/
LOCATION:Spirited Republic in Lincoln\, 509 Pulaski Street\, Lincoln\, IL\, 62656\, United States
ORGANIZER;CN="Spirited Republic/Limerick Brewing Company":MAILTO:spiritedrepublic@gmail.com
END:VEVENT
BEGIN:VEVENT
DTSTART;TZID=America/Chicago:20250807T190000
DTEND;TZID=America/Chicago:20250807T200000
DTSTAMP:20260423T083440
CREATED:20250227T221223Z
LAST-MODIFIED:20251231T171824Z
UID:10019526-1754593200-1754596800@www.wlcnonline.com
SUMMARY:Alcoholics Anonymous meetings at Atlanta Community House in Atlanta
DESCRIPTION:Meetings are free to attend and take place Thursdays at 7 PM. \nEvent codes
URL:https://www.wlcnonline.com/event/alcoholics-anonymous-meetings-at-atlanta-community-house-in-atlanta/2025-08-07/
LOCATION:Atlanta Memorial Community House\, 106 SW 6th Street\, Atlanta\, IL\, 61723\, United States
ORGANIZER;CN="Logan Mason Recovery Oriented Systems of Care (ROSC)":MAILTO:jedavis@chestnut.org
END:VEVENT
BEGIN:VEVENT
DTSTART;TZID=America/Chicago:20250807T190000
DTEND;TZID=America/Chicago:20250807T200000
DTSTAMP:20260423T083440
CREATED:20250227T220255Z
LAST-MODIFIED:20251231T170522Z
UID:10019308-1754593200-1754596800@www.wlcnonline.com
SUMMARY:Celebrate recovery events at Open Arms Christian Fellowship in Lincoln
DESCRIPTION:Events take place on Thursday evenings with snacks served at 6 PM and the meeting starting at 7 PM.
URL:https://www.wlcnonline.com/event/celebrate-recovery-events-at-open-arms-christian-fellowship-in-lincoln/2025-08-07/
LOCATION:Open Arms Christian Fellowship\, 1321 State Route 10\, Lincoln\, IL\, 62656\, United States
ORGANIZER;CN="Hope on 5th":MAILTO:rhss2005th@gmail.com
END:VEVENT
BEGIN:VEVENT
DTSTART;TZID=America/Chicago:20250807T190000
DTEND;TZID=America/Chicago:20250807T190000
DTSTAMP:20260423T083440
CREATED:20240329T042327Z
LAST-MODIFIED:20251231T163130Z
UID:10020323-1754593200-1754593200@www.wlcnonline.com
SUMMARY:Xtreme Bar Bingo at The Rusty Rail in Lincoln
DESCRIPTION:Xtreme Bar Bingo is bingo game with awesome prizes. The Rusty Rail features Xtreme Bar Bingo on Thursday nights beginning at 7 PM. \nEvent codes: ccgc\, ccsoc ccbin
URL:https://www.wlcnonline.com/event/xtreme-bar-bingo-at-the-rusty-rail-in-lincoln/2025-08-07/
LOCATION:The Rusty Rail Pub in Lincoln\, 405 Pulaski Street\, Lincoln\, IL\, 62656\, United States
END:VEVENT
BEGIN:VEVENT
DTSTART;TZID=America/Chicago:20250807T183000
DTEND;TZID=America/Chicago:20250807T200000
DTSTAMP:20260423T083440
CREATED:20250731T193216Z
LAST-MODIFIED:20250731T193216Z
UID:10020604-1754591400-1754596800@www.wlcnonline.com
SUMMARY:Mt. Pulaski Community Association Meeting
DESCRIPTION:Monthly meeting of the Community Association of Mt. Pulaski\, during which plans and ideas for events and other items are discussed. \nEvent codes ccgoe ccgovt
URL:https://www.wlcnonline.com/event/mt-pulaski-community-association-meeting-6/
LOCATION:104 S. Washington Street in Mt. Pulaski\, 104 S. Washington Street\, Mt. Pulaski\, IL\, 62548\, United States
ORGANIZER;CN="Mt. Pulaski Community Association":MAILTO:mtpulaskibusinessassociation@gmail.com
END:VEVENT
BEGIN:VEVENT
DTSTART;TZID=America/Chicago:20250807T180000
DTEND;TZID=America/Chicago:20250807T190000
DTSTAMP:20260423T083440
CREATED:20250227T215251Z
LAST-MODIFIED:20251231T170747Z
UID:10019201-1754589600-1754593200@www.wlcnonline.com
SUMMARY:Narcotics Anonymous meetings by Land of Lincoln Recovery Group at Hope on 5th in Lincoln
DESCRIPTION:Meetings are free to attend and take place at 6 PM Thursdays as well as at 5 PM on Sundays. \nEvent codes
URL:https://www.wlcnonline.com/event/narcotics-anonymous-meetings-by-land-of-lincoln-recovery-group-at-hope-on-5th-in-lincoln-2/2025-08-07/
LOCATION:Hope on 5th in Lincoln\, 200 5th Street\, Lincoln\, 62656\, United States
ORGANIZER;CN="Logan Mason Recovery Oriented Systems of Care (ROSC)":MAILTO:jedavis@chestnut.org
END:VEVENT
BEGIN:VEVENT
DTSTART;TZID=America/Chicago:20250807T170000
DTEND;TZID=America/Chicago:20250807T210000
DTSTAMP:20260423T083440
CREATED:20250717T215744Z
LAST-MODIFIED:20251231T171425Z
UID:10020486-1754586000-1754600400@www.wlcnonline.com
SUMMARY:Thursday night bingo (meal @ 5 PM\, bingo @ 6:30 PM) at Eagles Lodge in Lincoln﻿
DESCRIPTION:Doors open at 5 PM with food being served. Bingo starts at 6:30 PM and includes cash prizes\, jackpots as well as jar balls. Open to the public. \nEvent codes ccfb ccgc ccsoc ccbin
URL:https://www.wlcnonline.com/event/thursday-night-bingo-meal-5-pm-bingo-630-pm-at-eagles-lodge-in-lincoln/2025-08-07/
LOCATION:Fraternal Order Of Eagles #2708 in Lincoln\, 1621 N. Kickapoo Street\, Lincoln\, IL\, 62656\, United States
END:VEVENT
BEGIN:VEVENT
DTSTART;TZID=America/Chicago:20250807T100000
DTEND;TZID=America/Chicago:20250807T113000
DTSTAMP:20260423T083440
CREATED:20250605T133913Z
LAST-MODIFIED:20250717T125248Z
UID:10020222-1754560800-1754566200@www.wlcnonline.com
SUMMARY:2025 Summer Family Flicks Series at VIP Grand Theater in Lincoln (Wed 8/6 and Th 8/7 -- "Migration")
DESCRIPTION:The VIP Grand offers a line-up of family-friendly movies every Wednesday and Thursday morning for 10 weeks throughout the summer. Tickets cost $2 per person for each guest every Summer Flicks showing. Tickets can now be purchased online for each showing\, so be aware spots may fill up before the day of the event. \nEvent codes ccfre ccff ccfk ccent
URL:https://www.wlcnonline.com/event/2025-summer-family-flicks-series-at-vip-grand-theater-in-lincoln-10-3/
LOCATION:VIP Lincoln Grand\, 225 S. Kickapoo Street\, Lincoln\, IL\, 62656\, United States
ORGANIZER;CN="VIP Lincoln Grand":MAILTO:lincoln@vipcinemas.com
END:VEVENT
BEGIN:VEVENT
DTSTART;TZID=America/Chicago:20250807T080000
DTEND;TZID=America/Chicago:20250807T170000
DTSTAMP:20260423T083440
CREATED:20250605T131802Z
LAST-MODIFIED:20250605T132109Z
UID:10020241-1754553600-1754586000@www.wlcnonline.com
SUMMARY:2025 Summer Family Flicks Series at VIP Grand Theater in Lincoln (Wed 8/6 and Th 8/7 -- "Migration")
DESCRIPTION:The VIP Grand offers a line-up of family-friendly movies every Wednesday and Thursday morning for 10 weeks throughout the summer. Tickets cost $2 per person for each guest every Summer Flicks showing. Tickets can now be purchased online for each showing\, so be aware spots may fill up before the day of the event.
URL:https://www.wlcnonline.com/event/2025-summer-family-flicks-series-at-vip-grand-theater-in-lincoln-10/
LOCATION:VIP Lincoln Grand\, 225 S. Kickapoo Street\, Lincoln\, IL\, 62656\, United States
ORGANIZER;CN="VIP Lincoln Grand":MAILTO:lincoln@vipcinemas.com
END:VEVENT
BEGIN:VEVENT
DTSTART;TZID=America/Chicago:20250806T180000
DTEND;TZID=America/Chicago:20250806T235900
DTSTAMP:20260423T083440
CREATED:20250508T140922Z
LAST-MODIFIED:20250508T140922Z
UID:10020083-1754503200-1754524740@www.wlcnonline.com
SUMMARY:Bike night at The Rusty Rail Pub in Lincoln
DESCRIPTION:Bike Nights are back on Wednesdays through thru October 8. Enjoy drinks\, games\, contests\, prizes and of course bikes Wednesdays starting at 6 PM. \nEvent codes cclbep ccfb ccsoc
URL:https://www.wlcnonline.com/event/bike-night-at-the-rusty-rail-pub-in-lincoln/2025-08-06/
LOCATION:The Rusty Rail Pub in Lincoln\, 405 Pulaski Street\, Lincoln\, IL\, 62656\, United States
END:VEVENT
BEGIN:VEVENT
DTSTART;TZID=America/Chicago:20250806T180000
DTEND;TZID=America/Chicago:20250806T190000
DTSTAMP:20260423T083440
CREATED:20250227T221550Z
LAST-MODIFIED:20251231T171533Z
UID:10019569-1754503200-1754506800@www.wlcnonline.com
SUMMARY:Odds & Ends peer recovery support group meeting at Hardee's in Havana
DESCRIPTION:Meetings are free to attend and take place Wednesdays at 6 PM. \nEvent codes
URL:https://www.wlcnonline.com/event/odds-ends-peer-recovery-support-group-meeting-at-hardees-in-havana/2025-08-06/
LOCATION:Hardee’s in Havana\, 401 W. Dearborn Street\, Havana\, 62644\, United States
ORGANIZER;CN="Logan Mason Recovery Oriented Systems of Care (ROSC)":MAILTO:jedavis@chestnut.org
END:VEVENT
BEGIN:VEVENT
DTSTART;TZID=America/Chicago:20250806T180000
DTEND;TZID=America/Chicago:20250806T190000
DTSTAMP:20260423T083440
CREATED:20250227T220829Z
LAST-MODIFIED:20251231T164443Z
UID:10019395-1754503200-1754506800@www.wlcnonline.com
SUMMARY:Alcoholics Anonymous meetings at Trinity Episcopal Church in Lincoln
DESCRIPTION:Meetings are free to attend and take place at the following times: \n\nMondays at 7 PM\nWednesdays at 6 PM\nFridays at 11 AM\nSundays at 6 PM\n\nEvent codes
URL:https://www.wlcnonline.com/event/alcoholics-anonymous-meetings-at-trinity-episcopal-church-in-lincoln-2/2025-08-06/
LOCATION:Trinity Episcopal Church in Lincoln\, 402 Pekin Street\, Lincoln\, 62656\, United States
ORGANIZER;CN="Logan Mason Recovery Oriented Systems of Care (ROSC)":MAILTO:jedavis@chestnut.org
END:VEVENT
BEGIN:VEVENT
DTSTART;TZID=America/Chicago:20250806T180000
DTEND;TZID=America/Chicago:20250806T190000
DTSTAMP:20260423T083440
CREATED:20250227T214713Z
LAST-MODIFIED:20251231T161900Z
UID:10019005-1754503200-1754506800@www.wlcnonline.com
SUMMARY:Alcoholics Anonymous meetings by Land of Lincoln Recovery Group at Hope on 5th in Lincoln
DESCRIPTION:Meetings are free to attend and take place at 6 PM on Tuesdays\, Wednesdays\, Fridays and Saturdays as well as at 9 AM on Saturdays and Sundays. \nEvent codes
URL:https://www.wlcnonline.com/event/alcoholics-anonymous-meetings-by-land-of-lincoln-recovery-group-at-hope-on-5th-in-lincoln/2025-08-06/
LOCATION:Hope on 5th in Lincoln\, 200 5th Street\, Lincoln\, 62656\, United States
ORGANIZER;CN="Logan Mason Recovery Oriented Systems of Care (ROSC)":MAILTO:jedavis@chestnut.org
END:VEVENT
BEGIN:VEVENT
DTSTART;TZID=America/Chicago:20250806T120000
DTEND;TZID=America/Chicago:20250806T170000
DTSTAMP:20260423T083440
CREATED:20250725T024235Z
LAST-MODIFIED:20250725T024235Z
UID:10020567-1754481600-1754499600@www.wlcnonline.com
SUMMARY:Community blood drive at Lincoln Park District
DESCRIPTION:Click here to reserve a time online. \nEvent codes: ccbld\, ccserv
URL:https://www.wlcnonline.com/event/community-blood-drive-at-lincoln-park-district-12/
LOCATION:Lincoln Park District\, 1400 Primm Road\, Lincoln\, IL\, 62656\, United States
ORGANIZER;CN="Lincoln Park District":MAILTO:info@lincolnparkdistrict.com
END:VEVENT
BEGIN:VEVENT
DTSTART;TZID=America/Chicago:20250806T100000
DTEND;TZID=America/Chicago:20250806T113000
DTSTAMP:20260423T083440
CREATED:20250731T191524Z
LAST-MODIFIED:20250731T191524Z
UID:10020601-1754474400-1754479800@www.wlcnonline.com
SUMMARY:Health & Wellness Series Event: Overall Mental and Physical Wellbeing in Everyday Life at Lincoln Park District
DESCRIPTION:Elena Cotter from Heartland Community College will be the presenter with information about overall mental and physical wellbeing. \nThe event is free to the public; you do not need to be a member of the Lincoln Park District to attend. \nEvent codes ccfre cchwf ccedu
URL:https://www.wlcnonline.com/event/health-wellness-series-event-overall-mental-and-physical-wellbeing-in-everyday-life-at-lincoln-park-district/
LOCATION:Lincoln Park District\, 1400 Primm Road\, Lincoln\, IL\, 62656\, United States
ORGANIZER;CN="Lincoln Park District":MAILTO:info@lincolnparkdistrict.com
END:VEVENT
BEGIN:VEVENT
DTSTART;TZID=America/Chicago:20250806T100000
DTEND;TZID=America/Chicago:20250806T113000
DTSTAMP:20260423T083440
CREATED:20250703T182729Z
LAST-MODIFIED:20250725T034324Z
UID:10020437-1754474400-1754479800@www.wlcnonline.com
SUMMARY:2025 Summer Kids Movie Series at Clintonia Eagle Theater in Clinton (Tu 8/5 & We 8/6 - Shrek)
DESCRIPTION:The 2025 Summer Kids Movie series offers free admission to all attendees. Movies begin at 10 AM; free popcorn Wednesday does not apply. \nEvent codes ccfre ccff ccfk ccent
URL:https://www.wlcnonline.com/event/2025-summer-kids-movie-series-at-clintonia-eagle-theater-in-clinton-tu-6-3-we-6-4-the-lego-movie-2-2-2-2-2-2-2-3/2025-08-06/
LOCATION:Clintonia Eagle Theater in Clinton\, 13 Kelli Court\, Clinton\, IL\, 61727\, United States
ORGANIZER;CN="Clintonia Eagle Theater":MAILTO:bethany@eagletheater.net
END:VEVENT
BEGIN:VEVENT
DTSTART;TZID=America/Chicago:20250806T100000
DTEND;TZID=America/Chicago:20250806T113000
DTSTAMP:20260423T083440
CREATED:20250605T133858Z
LAST-MODIFIED:20250605T133858Z
UID:10020213-1754474400-1754479800@www.wlcnonline.com
SUMMARY:2025 Summer Family Flicks Series at VIP Grand Theater in Lincoln (Wed 8/6 and Th 8/7 -- "Migration")
DESCRIPTION:The VIP Grand offers a line-up of family-friendly movies every Wednesday and Thursday morning for 10 weeks throughout the summer. Tickets cost $2 per person for each guest every Summer Flicks showing. Tickets can now be purchased online for each showing\, so be aware spots may fill up before the day of the event. \nEvent codes ccfre ccff ccfk ccent
URL:https://www.wlcnonline.com/event/2025-summer-family-flicks-series-at-vip-grand-theater-in-lincoln-10-2/
LOCATION:VIP Lincoln Grand\, 225 S. Kickapoo Street\, Lincoln\, IL\, 62656\, United States
ORGANIZER;CN="VIP Lincoln Grand":MAILTO:lincoln@vipcinemas.com
END:VEVENT
BEGIN:VEVENT
DTSTART;TZID=America/Chicago:20250805T200000
DTEND;TZID=America/Chicago:20250806T000000
DTSTAMP:20260423T083440
CREATED:20250725T022208Z
LAST-MODIFIED:20251231T164013Z
UID:10020539-1754424000-1754438400@www.wlcnonline.com
SUMMARY:Karaoke at The Rusty Rail Pub in Lincoln
DESCRIPTION:Karaoke events are scheduled at the Rusty Rail each Tuesday night from 8 PM to midnight. \nEvent codes ccfb ccent cckar
URL:https://www.wlcnonline.com/event/karaoke-at-the-rusty-rail-pub-in-lincoln/2025-08-05/
LOCATION:The Rusty Rail Pub in Lincoln\, 405 Pulaski Street\, Lincoln\, IL\, 62656\, United States
END:VEVENT
BEGIN:VEVENT
DTSTART;TZID=America/Chicago:20250805T180000
DTEND;TZID=America/Chicago:20250805T190000
DTSTAMP:20260423T083440
CREATED:20250227T214713Z
LAST-MODIFIED:20251231T161900Z
UID:10019004-1754416800-1754420400@www.wlcnonline.com
SUMMARY:Alcoholics Anonymous meetings by Land of Lincoln Recovery Group at Hope on 5th in Lincoln
DESCRIPTION:Meetings are free to attend and take place at 6 PM on Tuesdays\, Wednesdays\, Fridays and Saturdays as well as at 9 AM on Saturdays and Sundays. \nEvent codes
URL:https://www.wlcnonline.com/event/alcoholics-anonymous-meetings-by-land-of-lincoln-recovery-group-at-hope-on-5th-in-lincoln/2025-08-05/
LOCATION:Hope on 5th in Lincoln\, 200 5th Street\, Lincoln\, 62656\, United States
ORGANIZER;CN="Logan Mason Recovery Oriented Systems of Care (ROSC)":MAILTO:jedavis@chestnut.org
END:VEVENT
BEGIN:VEVENT
DTSTART;TZID=America/Chicago:20250805T170000
DTEND;TZID=America/Chicago:20250805T203000
DTSTAMP:20260423T083441
CREATED:20250220T233455Z
LAST-MODIFIED:20251231T163935Z
UID:10018870-1754413200-1754425800@www.wlcnonline.com
SUMMARY:Tuesday night bingo (meal @ 5 PM\, bingo @ 6:30 PM) at Oasis Senior Center in Lincoln﻿
DESCRIPTION:Bingo takes place on Tuesday evenings from 6:30 PM to 8:30 PM and is open to the public. Doors open at 5 PM for a meal\, snack and beverages. \nEvent codes ccgc ccbin ccfb ccsoc
URL:https://www.wlcnonline.com/event/tuesday-night-bingo-meal-5-pm-bingo-630-pm-at-oasis-senior-center-in-lincoln/2025-08-05/
LOCATION:Oasis Senior Center\, 2810 Woodlawn Road\, Lincoln\, IL\, 62656\, United States
ORGANIZER;CN="Oasis Senior Center":MAILTO:nancy@oasisseniorcenter.com
END:VEVENT
BEGIN:VEVENT
DTSTART;TZID=America/Chicago:20250805T170000
DTEND;TZID=America/Chicago:20250805T200000
DTSTAMP:20260423T083441
CREATED:20250130T142928Z
LAST-MODIFIED:20250228T024515Z
UID:10018086-1754413200-1754424000@www.wlcnonline.com
SUMMARY:Fundraiser for Faith Church of Lincoln at Culver's of Lincoln
DESCRIPTION:Purchase food from Culver’s of Lincoln and help support a worthy cause whether dining in\, carrying out\, using the drive-thru or ordering through DoorDash. During the hours of the fundraiser\, a portion of all proceeds will be donated to the organization. \nEvent codes ccfb\, ccfdd
URL:https://www.wlcnonline.com/event/fundraiser-for-faith-church-of-lincoln-at-culvers-of-lincoln/2025-08-05/
LOCATION:Culver’s of Lincoln\, 2530 Woodlawn Road\, Lincoln\, IL\, 62656\, United States
ORGANIZER;CN="Culver's of Lincoln":MAILTO:lincolnculvers@comcast.net
END:VEVENT
BEGIN:VEVENT
DTSTART;TZID=America/Chicago:20250805T100000
DTEND;TZID=America/Chicago:20250805T113000
DTSTAMP:20260423T083441
CREATED:20250703T182729Z
LAST-MODIFIED:20250725T034324Z
UID:10020233-1754388000-1754393400@www.wlcnonline.com
SUMMARY:2025 Summer Kids Movie Series at Clintonia Eagle Theater in Clinton (Tu 8/5 & We 8/6 - Shrek)
DESCRIPTION:The 2025 Summer Kids Movie series offers free admission to all attendees. Movies begin at 10 AM; free popcorn Wednesday does not apply. \nEvent codes ccfre ccff ccfk ccent
URL:https://www.wlcnonline.com/event/2025-summer-kids-movie-series-at-clintonia-eagle-theater-in-clinton-tu-6-3-we-6-4-the-lego-movie-2-2-2-2-2-2-2-3/2025-08-05/
LOCATION:Clintonia Eagle Theater in Clinton\, 13 Kelli Court\, Clinton\, IL\, 61727\, United States
ORGANIZER;CN="Clintonia Eagle Theater":MAILTO:bethany@eagletheater.net
END:VEVENT
BEGIN:VEVENT
DTSTART;TZID=America/Chicago:20250804T190000
DTEND;TZID=America/Chicago:20250804T200000
DTSTAMP:20260423T083441
CREATED:20250227T220659Z
LAST-MODIFIED:20251231T163725Z
UID:10019351-1754334000-1754337600@www.wlcnonline.com
SUMMARY:Alcoholics Anonymous meetings at Trinity Episcopal Church in Lincoln
DESCRIPTION:Meetings are free to attend and take place at the following times: \n\nMondays at 7 PM\nWednesdays at 6 PM\nFridays at 11 AM\nSundays at 6 PM\n\nEvent codes
URL:https://www.wlcnonline.com/event/alcoholics-anonymous-meetings-at-trinity-episcopal-church-in-lincoln/2025-08-04/
LOCATION:Trinity Episcopal Church in Lincoln\, 402 Pekin Street\, Lincoln\, 62656\, United States
ORGANIZER;CN="Logan Mason Recovery Oriented Systems of Care (ROSC)":MAILTO:jedavis@chestnut.org
END:VEVENT
BEGIN:VEVENT
DTSTART;TZID=America/Chicago:20250804T180000
DTEND;TZID=America/Chicago:20250804T200000
DTSTAMP:20260423T083441
CREATED:20250725T024845Z
LAST-MODIFIED:20251231T163623Z
UID:10020569-1754330400-1754337600@www.wlcnonline.com
SUMMARY:Music bingo at Copper & Oak Bourbon & Craft Beer Bar in Lincoln
DESCRIPTION:Music bingo is like regular bingo\, except of numbers being called\, segments of songs are played; if you can identify the song played and it is on your bingo card\, cross it off and continue doing so until someone gets bingo. \nMusic bingo is free to play. \nEvent codes ccbin ccsoc ccfb
URL:https://www.wlcnonline.com/event/music-bingo-at-copper-oak-bourbon-craft-beer-bar-in-lincoln/2025-08-04/
LOCATION:Copper & Oak in Lincoln\, 227 N. Kickapoo Street\, Lincoln\, IL\, 62656\, United States
END:VEVENT
BEGIN:VEVENT
DTSTART;TZID=America/Chicago:20250804T180000
DTEND;TZID=America/Chicago:20250804T200000
DTSTAMP:20260423T083441
CREATED:20240926T041522Z
LAST-MODIFIED:20240926T041522Z
UID:10016861-1754330400-1754337600@www.wlcnonline.com
SUMMARY:Xtreme Bar Bingo at Stag R Inn in Emden
DESCRIPTION:Enjoy Xtreme Bar Bingo along with drink and food specials each week. Participants will have the chance to win prizes and cash. \nEvent codes: ccgc\, ccsoc ccbin
URL:https://www.wlcnonline.com/event/xtreme-bar-bingo-at-stag-r-inn-in-emden-2/2025-08-04/
LOCATION:Stag R Inn in Emden\, 102 Lincoln Street\, Emden\, IL\, 62635\, United States
END:VEVENT
BEGIN:VEVENT
DTSTART;TZID=America/Chicago:20250804T180000
DTEND;TZID=America/Chicago:20250804T190000
DTSTAMP:20260423T083441
CREATED:20250227T215503Z
LAST-MODIFIED:20251231T163530Z
UID:10019244-1754330400-1754334000@www.wlcnonline.com
SUMMARY:Co-Dependents Anonymous (CoDA) meetings by Land of Lincoln Recovery Group at Hope on 5th in Lincoln
DESCRIPTION:Meetings are free to attend and take place at 6 PM Mondays. \nEvent codes
URL:https://www.wlcnonline.com/event/co-dependents-anonymous-coda-meetings-by-land-of-lincoln-recovery-group-at-hope-on-5th-in-lincoln/2025-08-04/
LOCATION:Hope on 5th in Lincoln\, 200 5th Street\, Lincoln\, 62656\, United States
ORGANIZER;CN="Logan Mason Recovery Oriented Systems of Care (ROSC)":MAILTO:jedavis@chestnut.org
END:VEVENT
BEGIN:VEVENT
DTSTART;TZID=America/Chicago:20250804T170000
DTEND;TZID=America/Chicago:20250804T200000
DTSTAMP:20260423T083441
CREATED:20250130T142758Z
LAST-MODIFIED:20250417T125953Z
UID:10018076-1754326800-1754337600@www.wlcnonline.com
SUMMARY:Fundraiser for Jefferson Street Christian Church at Culver's of Lincoln
DESCRIPTION:Purchase food from Culver’s of Lincoln and help support a worthy cause whether dining in\, carrying out\, using the drive-thru or ordering through DoorDash. During the hours of the fundraiser\, a portion of all proceeds will be donated to the organization. \nEvent codes ccfb\, ccfdd
URL:https://www.wlcnonline.com/event/fundraiser-for-jefferson-street-christian-church-at-culvers-of-lincoln/2025-08-04/
LOCATION:Culver’s of Lincoln\, 2530 Woodlawn Road\, Lincoln\, IL\, 62656\, United States
ORGANIZER;CN="Culver's of Lincoln":MAILTO:lincolnculvers@comcast.net
END:VEVENT
BEGIN:VEVENT
DTSTART;TZID=America/Chicago:20250804T090000
DTEND;TZID=America/Chicago:20250804T150000
DTSTAMP:20260423T083442
CREATED:20250417T145555Z
LAST-MODIFIED:20250522T180637Z
UID:10019964-1754298000-1754319600@www.wlcnonline.com
SUMMARY:Free safe sitter babysitting class at Lincoln Memorial Hospital
DESCRIPTION:All participants will learn the safety skills needed to care for babysitting children. \nThe LMH Auxiliary offers this class free of charge. Attendees may bring a lunch or purchase lunch in the cafeteria. \nThe course will be offered on three dates: May 30\, July 9 and August 4 at Lincoln Memorial Hospital. Each class takes place from 9 AM to 3 PM in the Steinfort Conference Rooms at Lincoln Memorial Hospital. Students will use mannequins to practice lifesaving skills. There will also be role playing\, games and activities as students learn how to handle everyday situations that could present a risk to children’s safety\, including what to do when severe weather occurs. \nSpace is limited; those interested should register in advance. Click here to complete the online registration form.  \nEvent codes ccedu ccteen ccfre
URL:https://www.wlcnonline.com/event/free-safe-sitter-babysitting-class-at-lincoln-memorial-hospital/2025-08-04/
LOCATION:Steinfort Conference Rooms at Lincoln Memorial Hospital\, 200 Stahlhut Drive\, Lincoln\, IL\, 62656\, United States
END:VEVENT
END:VCALENDAR