BEGIN:VCALENDAR
VERSION:2.0
PRODID:-//WLCN 96.3 FM - ECPv6.15.20//NONSGML v1.0//EN
CALSCALE:GREGORIAN
METHOD:PUBLISH
X-WR-CALNAME:WLCN 96.3 FM
X-ORIGINAL-URL:https://www.wlcnonline.com
X-WR-CALDESC:Events for WLCN 96.3 FM
REFRESH-INTERVAL;VALUE=DURATION:PT1H
X-Robots-Tag:noindex
X-PUBLISHED-TTL:PT1H
BEGIN:VTIMEZONE
TZID:America/Chicago
BEGIN:DAYLIGHT
TZOFFSETFROM:-0600
TZOFFSETTO:-0500
TZNAME:CDT
DTSTART:20240310T080000
END:DAYLIGHT
BEGIN:STANDARD
TZOFFSETFROM:-0500
TZOFFSETTO:-0600
TZNAME:CST
DTSTART:20241103T070000
END:STANDARD
BEGIN:DAYLIGHT
TZOFFSETFROM:-0600
TZOFFSETTO:-0500
TZNAME:CDT
DTSTART:20250309T080000
END:DAYLIGHT
BEGIN:STANDARD
TZOFFSETFROM:-0500
TZOFFSETTO:-0600
TZNAME:CST
DTSTART:20251102T070000
END:STANDARD
BEGIN:DAYLIGHT
TZOFFSETFROM:-0600
TZOFFSETTO:-0500
TZNAME:CDT
DTSTART:20260308T080000
END:DAYLIGHT
BEGIN:STANDARD
TZOFFSETFROM:-0500
TZOFFSETTO:-0600
TZNAME:CST
DTSTART:20261101T070000
END:STANDARD
END:VTIMEZONE
BEGIN:VEVENT
DTSTART;TZID=America/Chicago:20250822T190000
DTEND;TZID=America/Chicago:20250822T230000
DTSTAMP:20260423T022921
CREATED:20250822T021231Z
LAST-MODIFIED:20250822T021231Z
UID:10020659-1755889200-1755903600@www.wlcnonline.com
SUMMARY:Bennett Memorial Race Night at Lincoln Speedway at the Logan County Fairgrounds
DESCRIPTION:Divisions:\nDIRTcar Pro Late Models\nDIRTcar Modified\nDIRTcar Pro Mods\nDIRTcar Sportsman\nCrown Vics\nMARA Midgets \nTimes:\nPits: 4:00 PM\nStands: 5:00 PM\nLocal Pill Draw Ends: 5:50 PM\nHotlaps: 6:00 PM\nRacing: 7:00 PM \nGrandstand Pricing:\nGrandstand Admission – $15\nChildren 11 & Under – Free \nTickets as well as all pit passes will be sold at track on raceday
URL:https://www.wlcnonline.com/event/bennett-memorial-race-night-at-lincoln-speedway-at-the-logan-county-fairgrounds/
LOCATION:Lincoln Speedway at Logan County Fairgrounds\, 230 N. Postville Drive\, Lincoln\, IL\, 62656\, United States
ORGANIZER;CN="Track Enterprises":MAILTO:track@trackenterprises.com
END:VEVENT
BEGIN:VEVENT
DTSTART;TZID=America/Chicago:20250822T190000
DTEND;TZID=America/Chicago:20250822T220000
DTSTAMP:20260423T022921
CREATED:20250822T021446Z
LAST-MODIFIED:20250822T021446Z
UID:10020660-1755889200-1755900000@www.wlcnonline.com
SUMMARY:Live music by David "The Live Jukebox" Howie at the Irish Circle in Wapella
DESCRIPTION:Enjoy a unique blend of music by David Howie at the Irish Circle in Wapella. \nEvent codes ccfb ccent cclm
URL:https://www.wlcnonline.com/event/live-music-by-david-the-live-jukebox-howie-at-the-irish-circle-in-wapella/
LOCATION:The Irish Circle in Wapella\, 405 N Walnut Street\, Wapella\, IL\, 61777\, United States
END:VEVENT
BEGIN:VEVENT
DTSTART;TZID=America/Chicago:20250822T180000
DTEND;TZID=America/Chicago:20250822T190000
DTSTAMP:20260423T022921
CREATED:20250227T214713Z
LAST-MODIFIED:20251231T161900Z
UID:10019014-1755885600-1755889200@www.wlcnonline.com
SUMMARY:Alcoholics Anonymous meetings by Land of Lincoln Recovery Group at Hope on 5th in Lincoln
DESCRIPTION:Meetings are free to attend and take place at 6 PM on Tuesdays\, Wednesdays\, Fridays and Saturdays as well as at 9 AM on Saturdays and Sundays. \nEvent codes
URL:https://www.wlcnonline.com/event/alcoholics-anonymous-meetings-by-land-of-lincoln-recovery-group-at-hope-on-5th-in-lincoln/2025-08-22/
LOCATION:Hope on 5th in Lincoln\, 200 5th Street\, Lincoln\, 62656\, United States
ORGANIZER;CN="Logan Mason Recovery Oriented Systems of Care (ROSC)":MAILTO:jedavis@chestnut.org
END:VEVENT
BEGIN:VEVENT
DTSTART;TZID=America/Chicago:20250822T120000
DTEND;TZID=America/Chicago:20250822T133000
DTSTAMP:20260423T022921
CREATED:20250227T221857Z
LAST-MODIFIED:20251231T161051Z
UID:10019616-1755864000-1755869400@www.wlcnonline.com
SUMMARY:SMART (Self-Management and Recovery Training) recovery meetings at Hope on 5th in Lincoln
DESCRIPTION:Meetings are free to attend and take place Fridays from noon to 1:30 PM. \nEvent codes
URL:https://www.wlcnonline.com/event/smart-self-management-and-recovery-training-recovery-meetings-at-hope-on-5th-in-lincoln/2025-08-22/
LOCATION:Hope on 5th in Lincoln\, 200 5th Street\, Lincoln\, 62656\, United States
ORGANIZER;CN="Logan Mason Recovery Oriented Systems of Care (ROSC)":MAILTO:jedavis@chestnut.org
END:VEVENT
BEGIN:VEVENT
DTSTART;TZID=America/Chicago:20250822T110000
DTEND;TZID=America/Chicago:20250822T120000
DTSTAMP:20260423T022921
CREATED:20250227T220937Z
LAST-MODIFIED:20251231T160939Z
UID:10019441-1755860400-1755864000@www.wlcnonline.com
SUMMARY:Alcoholics Anonymous meetings at Trinity Episcopal Church in Lincoln
DESCRIPTION:Meetings are free to attend and take place at the following times: \n\nMondays at 7 PM\nWednesdays at 6 PM\nFridays at 11 AM\nSundays at 6 PM\n\nEvent codes
URL:https://www.wlcnonline.com/event/alcoholics-anonymous-meetings-at-trinity-episcopal-church-in-lincoln-3/2025-08-22/
LOCATION:Trinity Episcopal Church in Lincoln\, 402 Pekin Street\, Lincoln\, 62656\, United States
ORGANIZER;CN="Logan Mason Recovery Oriented Systems of Care (ROSC)":MAILTO:jedavis@chestnut.org
END:VEVENT
BEGIN:VEVENT
DTSTART;TZID=America/Chicago:20250822T100000
DTEND;TZID=America/Chicago:20250822T104500
DTSTAMP:20260423T022921
CREATED:20250814T220121Z
LAST-MODIFIED:20250814T220121Z
UID:10020639-1755856800-1755859500@www.wlcnonline.com
SUMMARY:Cardio and strength workout by Silver Fox Fitness at The Villas at Lincoln﻿
DESCRIPTION:Attendees can build strength and endurance in a fun atmosphere. This workout is adaptable to all ability levels; a chair is always close by for balance and sitting.\nCost is $3 per class; Silver Sneakers\, Renew Active\, Silver&Fit or Health Alliance reimbursement are welcome. \nEvent codes: ccfs\, cchwf
URL:https://www.wlcnonline.com/event/cardio-and-strength-workout-by-silver-fox-fitness-at-the-villas-at-lincoln/2025-08-22/
LOCATION:Villas at Lincoln (formerly The Christian Village) in Lincoln\, 1507 7th Street\, Lincoln\, IL\, 62656\, United States
END:VEVENT
BEGIN:VEVENT
DTSTART;TZID=America/Chicago:20250822T090000
DTEND;TZID=America/Chicago:20250822T190000
DTSTAMP:20260423T022921
CREATED:20250822T020910Z
LAST-MODIFIED:20250822T020910Z
UID:10020657-1755853200-1755889200@www.wlcnonline.com
SUMMARY:Buck-A-Bag Book Sale at Lincoln Public Library
DESCRIPTION:Patrons are invited to fill a bag with books for just $1. The event takes place in the Carnegie Building.
URL:https://www.wlcnonline.com/event/buck-a-bag-book-sale-at-lincoln-public-library/2025-08-22/
LOCATION:Lincoln Public Library\, 725 Pekin Street\, Lincoln\, IL\, 62656\, United States
ORGANIZER;CN="Lincoln Public Library District":MAILTO:refdesklpld@gmail.com
END:VEVENT
BEGIN:VEVENT
DTSTART;TZID=America/Chicago:20250821T190000
DTEND;TZID=America/Chicago:20250821T220000
DTSTAMP:20260423T022921
CREATED:20250710T225735Z
LAST-MODIFIED:20251231T171651Z
UID:10018380-1755802800-1755813600@www.wlcnonline.com
SUMMARY:Open mic night at Spirited Republic in Lincoln
DESCRIPTION:Spirited Republic open mic nights are a solo acoustic musical experiment with the goal of cultivating friendship\, support and good times amongst musicians\, comedians\, poets and artists of all kinds. Performers are asked to bring their own instruments (no drum sets; hand drums and percussion equipment only). \nEvent codes: ccent\, ccfb\, cclm\, ccsoc
URL:https://www.wlcnonline.com/event/open-mic-night-at-spirited-republic-in-lincoln-2/2025-08-21/
LOCATION:Spirited Republic in Lincoln\, 509 Pulaski Street\, Lincoln\, IL\, 62656\, United States
ORGANIZER;CN="Spirited Republic/Limerick Brewing Company":MAILTO:spiritedrepublic@gmail.com
END:VEVENT
BEGIN:VEVENT
DTSTART;TZID=America/Chicago:20250821T190000
DTEND;TZID=America/Chicago:20250821T200000
DTSTAMP:20260423T022921
CREATED:20250227T221223Z
LAST-MODIFIED:20251231T171824Z
UID:10019528-1755802800-1755806400@www.wlcnonline.com
SUMMARY:Alcoholics Anonymous meetings at Atlanta Community House in Atlanta
DESCRIPTION:Meetings are free to attend and take place Thursdays at 7 PM. \nEvent codes
URL:https://www.wlcnonline.com/event/alcoholics-anonymous-meetings-at-atlanta-community-house-in-atlanta/2025-08-21/
LOCATION:Atlanta Memorial Community House\, 106 SW 6th Street\, Atlanta\, IL\, 61723\, United States
ORGANIZER;CN="Logan Mason Recovery Oriented Systems of Care (ROSC)":MAILTO:jedavis@chestnut.org
END:VEVENT
BEGIN:VEVENT
DTSTART;TZID=America/Chicago:20250821T190000
DTEND;TZID=America/Chicago:20250821T200000
DTSTAMP:20260423T022921
CREATED:20250227T220255Z
LAST-MODIFIED:20251231T170522Z
UID:10019310-1755802800-1755806400@www.wlcnonline.com
SUMMARY:Celebrate recovery events at Open Arms Christian Fellowship in Lincoln
DESCRIPTION:Events take place on Thursday evenings with snacks served at 6 PM and the meeting starting at 7 PM.
URL:https://www.wlcnonline.com/event/celebrate-recovery-events-at-open-arms-christian-fellowship-in-lincoln/2025-08-21/
LOCATION:Open Arms Christian Fellowship\, 1321 State Route 10\, Lincoln\, IL\, 62656\, United States
ORGANIZER;CN="Hope on 5th":MAILTO:rhss2005th@gmail.com
END:VEVENT
BEGIN:VEVENT
DTSTART;TZID=America/Chicago:20250821T190000
DTEND;TZID=America/Chicago:20250821T190000
DTSTAMP:20260423T022921
CREATED:20240329T042327Z
LAST-MODIFIED:20251231T163130Z
UID:10020325-1755802800-1755802800@www.wlcnonline.com
SUMMARY:Xtreme Bar Bingo at The Rusty Rail in Lincoln
DESCRIPTION:Xtreme Bar Bingo is bingo game with awesome prizes. The Rusty Rail features Xtreme Bar Bingo on Thursday nights beginning at 7 PM. \nEvent codes: ccgc\, ccsoc ccbin
URL:https://www.wlcnonline.com/event/xtreme-bar-bingo-at-the-rusty-rail-in-lincoln/2025-08-21/
LOCATION:The Rusty Rail Pub in Lincoln\, 405 Pulaski Street\, Lincoln\, IL\, 62656\, United States
END:VEVENT
BEGIN:VEVENT
DTSTART;TZID=America/Chicago:20250821T180000
DTEND;TZID=America/Chicago:20250821T190000
DTSTAMP:20260423T022921
CREATED:20250227T215251Z
LAST-MODIFIED:20251231T170747Z
UID:10019203-1755799200-1755802800@www.wlcnonline.com
SUMMARY:Narcotics Anonymous meetings by Land of Lincoln Recovery Group at Hope on 5th in Lincoln
DESCRIPTION:Meetings are free to attend and take place at 6 PM Thursdays as well as at 5 PM on Sundays. \nEvent codes
URL:https://www.wlcnonline.com/event/narcotics-anonymous-meetings-by-land-of-lincoln-recovery-group-at-hope-on-5th-in-lincoln-2/2025-08-21/
LOCATION:Hope on 5th in Lincoln\, 200 5th Street\, Lincoln\, 62656\, United States
ORGANIZER;CN="Logan Mason Recovery Oriented Systems of Care (ROSC)":MAILTO:jedavis@chestnut.org
END:VEVENT
BEGIN:VEVENT
DTSTART;TZID=America/Chicago:20250821T170000
DTEND;TZID=America/Chicago:20250821T210000
DTSTAMP:20260423T022921
CREATED:20250717T215744Z
LAST-MODIFIED:20251231T171425Z
UID:10020488-1755795600-1755810000@www.wlcnonline.com
SUMMARY:Thursday night bingo (meal @ 5 PM\, bingo @ 6:30 PM) at Eagles Lodge in Lincoln﻿
DESCRIPTION:Doors open at 5 PM with food being served. Bingo starts at 6:30 PM and includes cash prizes\, jackpots as well as jar balls. Open to the public. \nEvent codes ccfb ccgc ccsoc ccbin
URL:https://www.wlcnonline.com/event/thursday-night-bingo-meal-5-pm-bingo-630-pm-at-eagles-lodge-in-lincoln/2025-08-21/
LOCATION:Fraternal Order Of Eagles #2708 in Lincoln\, 1621 N. Kickapoo Street\, Lincoln\, IL\, 62656\, United States
END:VEVENT
BEGIN:VEVENT
DTSTART;TZID=America/Chicago:20250821T130000
DTEND;TZID=America/Chicago:20250821T180000
DTSTAMP:20260423T022921
CREATED:20250815T032012Z
LAST-MODIFIED:20250815T032012Z
UID:10020651-1755781200-1755799200@www.wlcnonline.com
SUMMARY:Community blood drive at Mount Hope-Funks Grove Fire Protection District in McLean
DESCRIPTION:Donations can be made between 1 PM and 6 PM. Click here to reserve a time online. \nEvent codes: ccbld\, ccserv
URL:https://www.wlcnonline.com/event/community-blood-drive-at-mount-hope-funks-grove-fire-protection-district-in-mclean-3/
LOCATION:Mt. Hope-Funks Grove Fire Protection District in McLean\, 209 South Hamilton Street\, McLean\, IL\, 61754\, United States
END:VEVENT
BEGIN:VEVENT
DTSTART;TZID=America/Chicago:20250821T090000
DTEND;TZID=America/Chicago:20250821T100000
DTSTAMP:20260423T022922
CREATED:20250815T030711Z
LAST-MODIFIED:20250911T172039Z
UID:10020650-1755766800-1755770400@www.wlcnonline.com
SUMMARY:Cup o' Joe with a Pro event featuring representatives from Prynt Digital hosted by LEAD at Guest House Coffee & Pastries in Lincoln
DESCRIPTION:Aspiring local entrepreneurs can share a cup of coffee and ask questions of local professionals at Cup o’ Joe with a Pro. This event takes place on the third Thursdays of the month through Summer 2025 and allows persons interested in starting their own business to get insights to questions they have. \nRepresentatives from the social media marketing company Prynt Digital will be featured at the August event. \nThe event runs from 9 AM to 10 AM at Guest House Coffee & Pastries and is hosted by Lincoln Economic Advancement & Development\, Inc. (LEAD).
URL:https://www.wlcnonline.com/event/cup-o-joe-with-a-pro-event-featuring-representatives-from-prynt-digital-hosted-by-lead-at-guest-house-coffee-pastries-in-lincoln/
LOCATION:Guest House Coffee & Pastries in Lincoln\, 113 S. Kickapoo Street\, Lincoln\, IL\, 62656\, United States
ORGANIZER;CN="Lincoln Economic Advancement & Development (LEAD)":MAILTO:arunge@thriveinlincoln.org
END:VEVENT
BEGIN:VEVENT
DTSTART;TZID=America/Chicago:20250820T180000
DTEND;TZID=America/Chicago:20250820T235900
DTSTAMP:20260423T022922
CREATED:20250508T140922Z
LAST-MODIFIED:20250508T140922Z
UID:10020085-1755712800-1755734340@www.wlcnonline.com
SUMMARY:Bike night at The Rusty Rail Pub in Lincoln
DESCRIPTION:Bike Nights are back on Wednesdays through thru October 8. Enjoy drinks\, games\, contests\, prizes and of course bikes Wednesdays starting at 6 PM. \nEvent codes cclbep ccfb ccsoc
URL:https://www.wlcnonline.com/event/bike-night-at-the-rusty-rail-pub-in-lincoln/2025-08-20/
LOCATION:The Rusty Rail Pub in Lincoln\, 405 Pulaski Street\, Lincoln\, IL\, 62656\, United States
END:VEVENT
BEGIN:VEVENT
DTSTART;TZID=America/Chicago:20250820T180000
DTEND;TZID=America/Chicago:20250820T190000
DTSTAMP:20260423T022922
CREATED:20250227T221550Z
LAST-MODIFIED:20251231T171533Z
UID:10019571-1755712800-1755716400@www.wlcnonline.com
SUMMARY:Odds & Ends peer recovery support group meeting at Hardee's in Havana
DESCRIPTION:Meetings are free to attend and take place Wednesdays at 6 PM. \nEvent codes
URL:https://www.wlcnonline.com/event/odds-ends-peer-recovery-support-group-meeting-at-hardees-in-havana/2025-08-20/
LOCATION:Hardee’s in Havana\, 401 W. Dearborn Street\, Havana\, 62644\, United States
ORGANIZER;CN="Logan Mason Recovery Oriented Systems of Care (ROSC)":MAILTO:jedavis@chestnut.org
END:VEVENT
BEGIN:VEVENT
DTSTART;TZID=America/Chicago:20250820T180000
DTEND;TZID=America/Chicago:20250820T190000
DTSTAMP:20260423T022922
CREATED:20250227T220829Z
LAST-MODIFIED:20251231T164443Z
UID:10019397-1755712800-1755716400@www.wlcnonline.com
SUMMARY:Alcoholics Anonymous meetings at Trinity Episcopal Church in Lincoln
DESCRIPTION:Meetings are free to attend and take place at the following times: \n\nMondays at 7 PM\nWednesdays at 6 PM\nFridays at 11 AM\nSundays at 6 PM\n\nEvent codes
URL:https://www.wlcnonline.com/event/alcoholics-anonymous-meetings-at-trinity-episcopal-church-in-lincoln-2/2025-08-20/
LOCATION:Trinity Episcopal Church in Lincoln\, 402 Pekin Street\, Lincoln\, 62656\, United States
ORGANIZER;CN="Logan Mason Recovery Oriented Systems of Care (ROSC)":MAILTO:jedavis@chestnut.org
END:VEVENT
BEGIN:VEVENT
DTSTART;TZID=America/Chicago:20250820T180000
DTEND;TZID=America/Chicago:20250820T190000
DTSTAMP:20260423T022922
CREATED:20250227T214713Z
LAST-MODIFIED:20251231T161900Z
UID:10019013-1755712800-1755716400@www.wlcnonline.com
SUMMARY:Alcoholics Anonymous meetings by Land of Lincoln Recovery Group at Hope on 5th in Lincoln
DESCRIPTION:Meetings are free to attend and take place at 6 PM on Tuesdays\, Wednesdays\, Fridays and Saturdays as well as at 9 AM on Saturdays and Sundays. \nEvent codes
URL:https://www.wlcnonline.com/event/alcoholics-anonymous-meetings-by-land-of-lincoln-recovery-group-at-hope-on-5th-in-lincoln/2025-08-20/
LOCATION:Hope on 5th in Lincoln\, 200 5th Street\, Lincoln\, 62656\, United States
ORGANIZER;CN="Logan Mason Recovery Oriented Systems of Care (ROSC)":MAILTO:jedavis@chestnut.org
END:VEVENT
BEGIN:VEVENT
DTSTART;TZID=America/Chicago:20250819T200000
DTEND;TZID=America/Chicago:20250820T000000
DTSTAMP:20260423T022922
CREATED:20250725T022208Z
LAST-MODIFIED:20251231T164013Z
UID:10020541-1755633600-1755648000@www.wlcnonline.com
SUMMARY:Karaoke at The Rusty Rail Pub in Lincoln
DESCRIPTION:Karaoke events are scheduled at the Rusty Rail each Tuesday night from 8 PM to midnight. \nEvent codes ccfb ccent cckar
URL:https://www.wlcnonline.com/event/karaoke-at-the-rusty-rail-pub-in-lincoln/2025-08-19/
LOCATION:The Rusty Rail Pub in Lincoln\, 405 Pulaski Street\, Lincoln\, IL\, 62656\, United States
END:VEVENT
BEGIN:VEVENT
DTSTART;TZID=America/Chicago:20250819T180000
DTEND;TZID=America/Chicago:20250819T190000
DTSTAMP:20260423T022922
CREATED:20250227T214713Z
LAST-MODIFIED:20251231T161900Z
UID:10019012-1755626400-1755630000@www.wlcnonline.com
SUMMARY:Alcoholics Anonymous meetings by Land of Lincoln Recovery Group at Hope on 5th in Lincoln
DESCRIPTION:Meetings are free to attend and take place at 6 PM on Tuesdays\, Wednesdays\, Fridays and Saturdays as well as at 9 AM on Saturdays and Sundays. \nEvent codes
URL:https://www.wlcnonline.com/event/alcoholics-anonymous-meetings-by-land-of-lincoln-recovery-group-at-hope-on-5th-in-lincoln/2025-08-19/
LOCATION:Hope on 5th in Lincoln\, 200 5th Street\, Lincoln\, 62656\, United States
ORGANIZER;CN="Logan Mason Recovery Oriented Systems of Care (ROSC)":MAILTO:jedavis@chestnut.org
END:VEVENT
BEGIN:VEVENT
DTSTART;TZID=America/Chicago:20250819T170000
DTEND;TZID=America/Chicago:20250819T203000
DTSTAMP:20260423T022922
CREATED:20250220T233455Z
LAST-MODIFIED:20251231T163935Z
UID:10018872-1755622800-1755635400@www.wlcnonline.com
SUMMARY:Tuesday night bingo (meal @ 5 PM\, bingo @ 6:30 PM) at Oasis Senior Center in Lincoln﻿
DESCRIPTION:Bingo takes place on Tuesday evenings from 6:30 PM to 8:30 PM and is open to the public. Doors open at 5 PM for a meal\, snack and beverages. \nEvent codes ccgc ccbin ccfb ccsoc
URL:https://www.wlcnonline.com/event/tuesday-night-bingo-meal-5-pm-bingo-630-pm-at-oasis-senior-center-in-lincoln/2025-08-19/
LOCATION:Oasis Senior Center\, 2810 Woodlawn Road\, Lincoln\, IL\, 62656\, United States
ORGANIZER;CN="Oasis Senior Center":MAILTO:nancy@oasisseniorcenter.com
END:VEVENT
BEGIN:VEVENT
DTSTART;TZID=America/Chicago:20250819T090000
DTEND;TZID=America/Chicago:20250819T120000
DTSTAMP:20260423T022922
CREATED:20250815T034947Z
LAST-MODIFIED:20250815T034947Z
UID:10020656-1755594000-1755604800@www.wlcnonline.com
SUMMARY:Community blood drive at Good Shepherd Lutheran Church in Minier
DESCRIPTION:Donations can be made between 9 AM and noon. Click here to reserve a time online. \nEvent codes: ccbld\, ccserv
URL:https://www.wlcnonline.com/event/community-blood-drive-at-good-shepherd-lutheran-church-in-minier-3/
LOCATION:Good Shepherd Lutheran Church in Minier\, 101 E. Garfield Street\, Minier\, 61759\, United States
END:VEVENT
BEGIN:VEVENT
DTSTART;TZID=America/Chicago:20250818T190000
DTEND;TZID=America/Chicago:20250818T200000
DTSTAMP:20260423T022922
CREATED:20250227T220659Z
LAST-MODIFIED:20251231T163725Z
UID:10019353-1755543600-1755547200@www.wlcnonline.com
SUMMARY:Alcoholics Anonymous meetings at Trinity Episcopal Church in Lincoln
DESCRIPTION:Meetings are free to attend and take place at the following times: \n\nMondays at 7 PM\nWednesdays at 6 PM\nFridays at 11 AM\nSundays at 6 PM\n\nEvent codes
URL:https://www.wlcnonline.com/event/alcoholics-anonymous-meetings-at-trinity-episcopal-church-in-lincoln/2025-08-18/
LOCATION:Trinity Episcopal Church in Lincoln\, 402 Pekin Street\, Lincoln\, 62656\, United States
ORGANIZER;CN="Logan Mason Recovery Oriented Systems of Care (ROSC)":MAILTO:jedavis@chestnut.org
END:VEVENT
BEGIN:VEVENT
DTSTART;TZID=America/Chicago:20250818T183000
DTEND;TZID=America/Chicago:20250818T203000
DTSTAMP:20260423T022922
CREATED:20250815T030426Z
LAST-MODIFIED:20250815T030426Z
UID:10020649-1755541800-1755549000@www.wlcnonline.com
SUMMARY:August card making event at Interurban Merchant in Williamsville
DESCRIPTION:Interurban Merchant is hosting this creative event for attendees to make four unique handcrafted cards for sending or giving\, all while enjoying a cool or warm beverage of choice. All card supplies\, specialty tools and instructions will be provided\, but attendees should bring scissors and adhesive (tape runner type works best). \nCost is $20 and includes the costs of supplies and instruction. Participants will also get a free beverage. \nDue to a limited number of spaces\, those planning to attend are asked to RSVP by August 17 so supply kits can be prepared. Interested persons can text or call (217) 741-1688 to confirm availability and reserve a spot. \nEvent codes ccaca ccsoc
URL:https://www.wlcnonline.com/event/august-card-making-event-at-interurban-merchant-in-williamsville/
LOCATION:Interurban Merchant in Williamsville\, 112 W. Main Street\, Williamsville\, IL\, 62693\, United States
ORGANIZER;CN="Interurban Merchant":MAILTO:interurbanmerchant@gmail.com
END:VEVENT
BEGIN:VEVENT
DTSTART;TZID=America/Chicago:20250818T180000
DTEND;TZID=America/Chicago:20250818T200000
DTSTAMP:20260423T022922
CREATED:20250725T024845Z
LAST-MODIFIED:20251231T163623Z
UID:10020571-1755540000-1755547200@www.wlcnonline.com
SUMMARY:Music bingo at Copper & Oak Bourbon & Craft Beer Bar in Lincoln
DESCRIPTION:Music bingo is like regular bingo\, except of numbers being called\, segments of songs are played; if you can identify the song played and it is on your bingo card\, cross it off and continue doing so until someone gets bingo. \nMusic bingo is free to play. \nEvent codes ccbin ccsoc ccfb
URL:https://www.wlcnonline.com/event/music-bingo-at-copper-oak-bourbon-craft-beer-bar-in-lincoln/2025-08-18/
LOCATION:Copper & Oak in Lincoln\, 227 N. Kickapoo Street\, Lincoln\, IL\, 62656\, United States
END:VEVENT
BEGIN:VEVENT
DTSTART;TZID=America/Chicago:20250818T180000
DTEND;TZID=America/Chicago:20250818T200000
DTSTAMP:20260423T022922
CREATED:20240926T041522Z
LAST-MODIFIED:20240926T041522Z
UID:10016863-1755540000-1755547200@www.wlcnonline.com
SUMMARY:Xtreme Bar Bingo at Stag R Inn in Emden
DESCRIPTION:Enjoy Xtreme Bar Bingo along with drink and food specials each week. Participants will have the chance to win prizes and cash. \nEvent codes: ccgc\, ccsoc ccbin
URL:https://www.wlcnonline.com/event/xtreme-bar-bingo-at-stag-r-inn-in-emden-2/2025-08-18/
LOCATION:Stag R Inn in Emden\, 102 Lincoln Street\, Emden\, IL\, 62635\, United States
END:VEVENT
BEGIN:VEVENT
DTSTART;TZID=America/Chicago:20250818T180000
DTEND;TZID=America/Chicago:20250818T190000
DTSTAMP:20260423T022922
CREATED:20250227T215503Z
LAST-MODIFIED:20251231T163530Z
UID:10019246-1755540000-1755543600@www.wlcnonline.com
SUMMARY:Co-Dependents Anonymous (CoDA) meetings by Land of Lincoln Recovery Group at Hope on 5th in Lincoln
DESCRIPTION:Meetings are free to attend and take place at 6 PM Mondays. \nEvent codes
URL:https://www.wlcnonline.com/event/co-dependents-anonymous-coda-meetings-by-land-of-lincoln-recovery-group-at-hope-on-5th-in-lincoln/2025-08-18/
LOCATION:Hope on 5th in Lincoln\, 200 5th Street\, Lincoln\, 62656\, United States
ORGANIZER;CN="Logan Mason Recovery Oriented Systems of Care (ROSC)":MAILTO:jedavis@chestnut.org
END:VEVENT
BEGIN:VEVENT
DTSTART;TZID=America/Chicago:20250818T170000
DTEND;TZID=America/Chicago:20250818T200000
DTSTAMP:20260423T022922
CREATED:20250130T145000Z
LAST-MODIFIED:20260417T032605Z
UID:10018113-1755536400-1755547200@www.wlcnonline.com
SUMMARY:Fundraiser for Habitat for Humanity of Logan County at Culver's of Lincoln
DESCRIPTION:Purchase food from Culver’s of Lincoln and help support a worthy cause whether dining in\, carrying out\, using the drive-thru or ordering through DoorDash. During the hours of the fundraiser\, a portion of all proceeds will be donated to the organization. \nEvent codes ccfb\, ccfdd
URL:https://www.wlcnonline.com/event/fundraiser-for-habitat-for-humanity-of-logan-county-at-culvers-of-lincoln-8/2025-08-18/
LOCATION:Culver’s of Lincoln\, 2530 Woodlawn Road\, Lincoln\, IL\, 62656\, United States
ORGANIZER;CN="Culver's of Lincoln":MAILTO:lincolnculvers@comcast.net
END:VEVENT
BEGIN:VEVENT
DTSTART;TZID=America/Chicago:20250818T160000
DTEND;TZID=America/Chicago:20250818T170000
DTSTAMP:20260423T022922
CREATED:20250710T213848Z
LAST-MODIFIED:20251212T053103Z
UID:10020648-1755532800-1755536400@www.wlcnonline.com
SUMMARY:Meet and mingle event by Lincoln Park District at Guest House Coffee & Pastries in Lincoln
DESCRIPTION:The public is invited to this Meet & Mingle event to find out about upcoming events and programming while speaking with staff and park district members. Pick up the latest group fitness Schedule and the latest newsletter while attending. \nEvent codes ccfb cclbep cchwf
URL:https://www.wlcnonline.com/event/meet-and-mingle-event-by-lincoln-park-district-at-guest-house-coffee-pastries-in-lincoln-2/2025-08-18/
LOCATION:Guest House Coffee & Pastries in Lincoln\, 113 S. Kickapoo Street\, Lincoln\, IL\, 62656\, United States
ORGANIZER;CN="Lincoln Park District":MAILTO:info@lincolnparkdistrict.com
END:VEVENT
END:VCALENDAR