BEGIN:VCALENDAR
VERSION:2.0
PRODID:-//WLCN 96.3 FM - ECPv6.15.20//NONSGML v1.0//EN
CALSCALE:GREGORIAN
METHOD:PUBLISH
X-WR-CALNAME:WLCN 96.3 FM
X-ORIGINAL-URL:https://www.wlcnonline.com
X-WR-CALDESC:Events for WLCN 96.3 FM
REFRESH-INTERVAL;VALUE=DURATION:PT1H
X-Robots-Tag:noindex
X-PUBLISHED-TTL:PT1H
BEGIN:VTIMEZONE
TZID:America/Chicago
BEGIN:DAYLIGHT
TZOFFSETFROM:-0600
TZOFFSETTO:-0500
TZNAME:CDT
DTSTART:20250309T080000
END:DAYLIGHT
BEGIN:STANDARD
TZOFFSETFROM:-0500
TZOFFSETTO:-0600
TZNAME:CST
DTSTART:20251102T070000
END:STANDARD
BEGIN:DAYLIGHT
TZOFFSETFROM:-0600
TZOFFSETTO:-0500
TZNAME:CDT
DTSTART:20260308T080000
END:DAYLIGHT
BEGIN:STANDARD
TZOFFSETFROM:-0500
TZOFFSETTO:-0600
TZNAME:CST
DTSTART:20261101T070000
END:STANDARD
BEGIN:DAYLIGHT
TZOFFSETFROM:-0600
TZOFFSETTO:-0500
TZNAME:CDT
DTSTART:20270314T080000
END:DAYLIGHT
BEGIN:STANDARD
TZOFFSETFROM:-0500
TZOFFSETTO:-0600
TZNAME:CST
DTSTART:20271107T070000
END:STANDARD
END:VTIMEZONE
BEGIN:VEVENT
DTSTART;TZID=America/Chicago:20260101T170000
DTEND;TZID=America/Chicago:20260101T210000
DTSTAMP:20260420T234851
CREATED:20250717T215744Z
LAST-MODIFIED:20251231T171425Z
UID:10022034-1767286800-1767301200@www.wlcnonline.com
SUMMARY:Thursday night bingo (meal @ 5 PM\, bingo @ 6:30 PM) at Eagles Lodge in Lincoln﻿
DESCRIPTION:Doors open at 5 PM with food being served. Bingo starts at 6:30 PM and includes cash prizes\, jackpots as well as jar balls. Open to the public. \nEvent codes ccfb ccgc ccsoc ccbin
URL:https://www.wlcnonline.com/event/thursday-night-bingo-meal-5-pm-bingo-630-pm-at-eagles-lodge-in-lincoln/2026-01-01/
LOCATION:Fraternal Order Of Eagles #2708 in Lincoln\, 1621 N. Kickapoo Street\, Lincoln\, IL\, 62656\, United States
END:VEVENT
BEGIN:VEVENT
DTSTART;TZID=America/Chicago:20260101T180000
DTEND;TZID=America/Chicago:20260101T190000
DTSTAMP:20260420T234851
CREATED:20250227T215251Z
LAST-MODIFIED:20251231T170747Z
UID:10022007-1767290400-1767294000@www.wlcnonline.com
SUMMARY:Narcotics Anonymous meetings by Land of Lincoln Recovery Group at Hope on 5th in Lincoln
DESCRIPTION:Meetings are free to attend and take place at 6 PM Thursdays as well as at 5 PM on Sundays. \nEvent codes
URL:https://www.wlcnonline.com/event/narcotics-anonymous-meetings-by-land-of-lincoln-recovery-group-at-hope-on-5th-in-lincoln-2/2026-01-01/
LOCATION:Hope on 5th in Lincoln\, 200 5th Street\, Lincoln\, 62656\, United States
ORGANIZER;CN="Logan Mason Recovery Oriented Systems of Care (ROSC)":MAILTO:jedavis@chestnut.org
END:VEVENT
BEGIN:VEVENT
DTSTART;TZID=America/Chicago:20260101T190000
DTEND;TZID=America/Chicago:20260101T190000
DTSTAMP:20260420T234851
CREATED:20240329T042327Z
LAST-MODIFIED:20251231T163130Z
UID:10021771-1767294000-1767294000@www.wlcnonline.com
SUMMARY:Xtreme Bar Bingo at The Rusty Rail in Lincoln
DESCRIPTION:Xtreme Bar Bingo is bingo game with awesome prizes. The Rusty Rail features Xtreme Bar Bingo on Thursday nights beginning at 7 PM. \nEvent codes: ccgc\, ccsoc ccbin
URL:https://www.wlcnonline.com/event/xtreme-bar-bingo-at-the-rusty-rail-in-lincoln/2026-01-01/
LOCATION:The Rusty Rail Pub in Lincoln\, 405 Pulaski Street\, Lincoln\, IL\, 62656\, United States
END:VEVENT
BEGIN:VEVENT
DTSTART;TZID=America/Chicago:20260101T190000
DTEND;TZID=America/Chicago:20260101T200000
DTSTAMP:20260420T234851
CREATED:20250227T220255Z
LAST-MODIFIED:20251231T170522Z
UID:10021981-1767294000-1767297600@www.wlcnonline.com
SUMMARY:Celebrate recovery events at Open Arms Christian Fellowship in Lincoln
DESCRIPTION:Events take place on Thursday evenings with snacks served at 6 PM and the meeting starting at 7 PM.
URL:https://www.wlcnonline.com/event/celebrate-recovery-events-at-open-arms-christian-fellowship-in-lincoln/2026-01-01/
LOCATION:Open Arms Christian Fellowship\, 1321 State Route 10\, Lincoln\, IL\, 62656\, United States
ORGANIZER;CN="Hope on 5th":MAILTO:rhss2005th@gmail.com
END:VEVENT
BEGIN:VEVENT
DTSTART;TZID=America/Chicago:20260101T190000
DTEND;TZID=America/Chicago:20260101T200000
DTSTAMP:20260420T234851
CREATED:20250227T221223Z
LAST-MODIFIED:20251231T171824Z
UID:10022139-1767294000-1767297600@www.wlcnonline.com
SUMMARY:Alcoholics Anonymous meetings at Atlanta Community House in Atlanta
DESCRIPTION:Meetings are free to attend and take place Thursdays at 7 PM. \nEvent codes
URL:https://www.wlcnonline.com/event/alcoholics-anonymous-meetings-at-atlanta-community-house-in-atlanta/2026-01-01/
LOCATION:Atlanta Memorial Community House\, 106 SW 6th Street\, Atlanta\, IL\, 61723\, United States
ORGANIZER;CN="Logan Mason Recovery Oriented Systems of Care (ROSC)":MAILTO:jedavis@chestnut.org
END:VEVENT
BEGIN:VEVENT
DTSTART;TZID=America/Chicago:20260101T190000
DTEND;TZID=America/Chicago:20260101T220000
DTSTAMP:20260420T234851
CREATED:20250710T225735Z
LAST-MODIFIED:20251231T171651Z
UID:10022113-1767294000-1767304800@www.wlcnonline.com
SUMMARY:Open mic night at Spirited Republic in Lincoln
DESCRIPTION:Spirited Republic open mic nights are a solo acoustic musical experiment with the goal of cultivating friendship\, support and good times amongst musicians\, comedians\, poets and artists of all kinds. Performers are asked to bring their own instruments (no drum sets; hand drums and percussion equipment only). \nEvent codes: ccent\, ccfb\, cclm\, ccsoc
URL:https://www.wlcnonline.com/event/open-mic-night-at-spirited-republic-in-lincoln-2/2026-01-01/
LOCATION:Spirited Republic in Lincoln\, 509 Pulaski Street\, Lincoln\, IL\, 62656\, United States
ORGANIZER;CN="Spirited Republic/Limerick Brewing Company":MAILTO:spiritedrepublic@gmail.com
END:VEVENT
BEGIN:VEVENT
DTSTART;TZID=America/Chicago:20260102T050000
DTEND;TZID=America/Chicago:20260102T180000
DTSTAMP:20260420T234851
CREATED:20251226T190651Z
LAST-MODIFIED:20260102T002357Z
UID:10022228-1767330000-1767376800@www.wlcnonline.com
SUMMARY:New Year Reformer class at Imago del Pilates Studio in Lincoln
DESCRIPTION:On January 2\, all reformer classes at Imago Del Pilates will feature a Ring In The New Year kickoff – complete with a festive playlist and a special focus on the Pilates Ring (also known as the magic circle). \nThis prop provides feedback and resistance to help participants move with purpose – activating the core\, sculpting the arms and legs\, and supporting mindful alignment to help reset your rhythm and begin the year feeling strong from the inside out. \nAll levels welcome. Modifications are always available. \nEvent code cchwf
URL:https://www.wlcnonline.com/event/new-year-reformer-class-at-imago-del-pilates-studio-in-lincoln/
LOCATION:Imago Dei Pilates Studio at the Dugan Center in Lincoln\, 1500 N McLean Street\, Suite 5\, Lincoln\, 62656\, United States
ORGANIZER;CN="Imago Dei Pilates":MAILTO:info@imagopilates.com
END:VEVENT
BEGIN:VEVENT
DTSTART;TZID=America/Chicago:20260102T051500
DTEND;TZID=America/Chicago:20260102T200000
DTSTAMP:20260420T234851
CREATED:20251231T202731Z
LAST-MODIFIED:20251231T202731Z
UID:10022200-1767330900-1767384000@www.wlcnonline.com
SUMMARY:Free week of Group Fitness Classes (January 2-8\, 2026) at Lincoln Park District
DESCRIPTION:Lincoln Park District is offering free classes for members of the community from October 1 through October 7. Individuals who are not members of the park district are invited to take part in any of the group fitness classes offered by the park district. Use this link to register online for the free classes. Call the park district for more information. \nEvent codes ccfre cchwf
URL:https://www.wlcnonline.com/event/free-week-of-group-fitness-classes-january-2-8-2026-at-lincoln-park-district/2026-01-02/
LOCATION:Lincoln Park District\, 1400 Primm Road\, Lincoln\, IL\, 62656\, United States
ORGANIZER;CN="Lincoln Park District":MAILTO:info@lincolnparkdistrict.com
END:VEVENT
BEGIN:VEVENT
DTSTART;TZID=America/Chicago:20260102T060000
DTEND;TZID=America/Chicago:20260102T070000
DTSTAMP:20260420T234851
CREATED:20260102T002547Z
LAST-MODIFIED:20260102T002842Z
UID:10021398-1767333600-1767337200@www.wlcnonline.com
SUMMARY:New Year Reformer class at Imago del Pilates Studio in Lincoln
DESCRIPTION:On January 2\, all reformer classes at Imago Del Pilates will feature a Ring In The New Year kickoff – complete with a festive playlist and a special focus on the Pilates Ring (also known as the magic circle). \nThis prop provides feedback and resistance to help participants move with purpose – activating the core\, sculpting the arms and legs\, and supporting mindful alignment to help reset your rhythm and begin the year feeling strong from the inside out. \nAll levels welcome. Modifications are always available. \nEvent code cchwf
URL:https://www.wlcnonline.com/event/new-year-reformer-class-at-imago-del-pilates-studio-in-lincoln-3/
LOCATION:Imago Dei Pilates Studio at the Dugan Center in Lincoln\, 1500 N McLean Street\, Suite 5\, Lincoln\, 62656\, United States
ORGANIZER;CN="Imago Dei Pilates":MAILTO:info@imagopilates.com
END:VEVENT
BEGIN:VEVENT
DTSTART;TZID=America/Chicago:20260102T083000
DTEND;TZID=America/Chicago:20260102T093000
DTSTAMP:20260420T234851
CREATED:20260102T002512Z
LAST-MODIFIED:20260102T002603Z
UID:10021400-1767342600-1767346200@www.wlcnonline.com
SUMMARY:New Year Reformer class at Imago del Pilates Studio in Lincoln
DESCRIPTION:On January 2\, all reformer classes at Imago Del Pilates will feature a Ring In The New Year kickoff – complete with a festive playlist and a special focus on the Pilates Ring (also known as the magic circle). \nThis prop provides feedback and resistance to help participants move with purpose – activating the core\, sculpting the arms and legs\, and supporting mindful alignment to help reset your rhythm and begin the year feeling strong from the inside out. \nAll levels welcome. Modifications are always available. \nEvent code cchwf
URL:https://www.wlcnonline.com/event/new-year-reformer-class-at-imago-del-pilates-studio-in-lincoln-2/
LOCATION:Imago Dei Pilates Studio at the Dugan Center in Lincoln\, 1500 N McLean Street\, Suite 5\, Lincoln\, 62656\, United States
ORGANIZER;CN="Imago Dei Pilates":MAILTO:info@imagopilates.com
END:VEVENT
BEGIN:VEVENT
DTSTART;TZID=America/Chicago:20260102T100000
DTEND;TZID=America/Chicago:20260102T130000
DTSTAMP:20260420T234851
CREATED:20251219T022858Z
LAST-MODIFIED:20251219T022858Z
UID:10021363-1767348000-1767358800@www.wlcnonline.com
SUMMARY:Community blood drive at Longview Community Bank in Mt. Pulaski
DESCRIPTION:The event will take place in the donor bus and runs from 10 AM to 1 PM. Click here to make an appointment time online. \nEvent codes cchwf ccbld
URL:https://www.wlcnonline.com/event/community-blood-drive-at-longview-community-bank-in-mt-pulaski-3/
LOCATION:Longview Community Bank in Mt. Pulaski\, 130 S. Washington\, Mt. Pulaski\, IL\, 62548\, United States
ORGANIZER;CN="Longview Community Bank (formerly The Farmers Bank of Mt. Pulaski)":MAILTO:customerservice@longviewcb.com
END:VEVENT
BEGIN:VEVENT
DTSTART;TZID=America/Chicago:20260102T110000
DTEND;TZID=America/Chicago:20260102T120000
DTSTAMP:20260420T234851
CREATED:20250227T220937Z
LAST-MODIFIED:20251231T160939Z
UID:10021415-1767351600-1767355200@www.wlcnonline.com
SUMMARY:Alcoholics Anonymous meetings at Trinity Episcopal Church in Lincoln
DESCRIPTION:Meetings are free to attend and take place at the following times: \n\nMondays at 7 PM\nWednesdays at 6 PM\nFridays at 11 AM\nSundays at 6 PM\n\nEvent codes
URL:https://www.wlcnonline.com/event/alcoholics-anonymous-meetings-at-trinity-episcopal-church-in-lincoln-3/2026-01-02/
LOCATION:Trinity Episcopal Church in Lincoln\, 402 Pekin Street\, Lincoln\, 62656\, United States
ORGANIZER;CN="Logan Mason Recovery Oriented Systems of Care (ROSC)":MAILTO:jedavis@chestnut.org
END:VEVENT
BEGIN:VEVENT
DTSTART;TZID=America/Chicago:20260102T110000
DTEND;TZID=America/Chicago:20260102T150000
DTSTAMP:20260420T234851
CREATED:20251226T185251Z
LAST-MODIFIED:20251226T185251Z
UID:10021394-1767351600-1767366000@www.wlcnonline.com
SUMMARY:Barn Day Camp for kids at Hope Unbridled in rural Lincoln
DESCRIPTION:Hope Unbridled is offering a holiday horse camp on January 2 from 11 AM to 3 PM for children from 6 to 14 years of age. Parents can drop their children off for a day of games\, crafts\, pony rides\, activities and more. Parents should pack a lunch for their child and dress them in weather-appropriate clothing. \nCost is $60 per child. \nEvent codes ccaca ccani ccfk
URL:https://www.wlcnonline.com/event/barn-day-camp-for-kids-at-hope-unbridled-in-rural-lincoln/
LOCATION:Hope Unbridled in rural Lincoln\, 1377 1200th Street\, Lincoln\, 62656\, United States
ORGANIZER;CN="Hope Unbridled":MAILTO:Hopeunbridled.il@gmail.com
END:VEVENT
BEGIN:VEVENT
DTSTART;TZID=America/Chicago:20260102T110000
DTEND;TZID=America/Chicago:20260102T180000
DTSTAMP:20260420T234851
CREATED:20251226T191335Z
LAST-MODIFIED:20251226T191335Z
UID:10021401-1767351600-1767376800@www.wlcnonline.com
SUMMARY:Winter Rumble auto racing event at Four Rocks Arena in rural Delavan
DESCRIPTION:4 Rocks Raceway\n📅 Jan 2-3rd\, 2026\n🏁 Classes:\nMod Sprint\n13.5 Sprint -Roar Approved 13.5 Motors BLINKY ESC\nLate Model\n13.5 Late Model – Roar Approved 13.5 Motors BLINKY ESC\nMWM\nBuggy Street Stock – Roar Approved 13.5 Motors BLINKY ESC\nSC MOD\nLosi Sprint – Box Stock\nMidget ROAR approved 13.5 Motors BLINKY ESC\nEntry Fee: $40 / class \nRumble Racing format January 2nd and 3rd :\nFriday: Doors open at 9am. Practice from 11am-6pm. Seeding to Follow\nSaturday: Doors open at 7am Racing at 8am.\nSeeding Round- (Top 5 average)\n2 rounds of heats- 25 laps\n2nd round you will start where you finished\nLock 6 bump 2\n30 lap- lower mains\n50 lap- A mains \nEvent codes ccms
URL:https://www.wlcnonline.com/event/winter-rumble-auto-racing-event-at-four-rocks-arena-in-rural-delavan/2026-01-02/
LOCATION:Four Rocks Arena in rural Delavan\, 24865 Ilinois Route122\, Delavan\, IL\, 61734\, United States
END:VEVENT
BEGIN:VEVENT
DTSTART;TZID=America/Chicago:20260102T120000
DTEND;TZID=America/Chicago:20260102T133000
DTSTAMP:20260420T234851
CREATED:20250227T221857Z
LAST-MODIFIED:20251231T161051Z
UID:10021441-1767355200-1767360600@www.wlcnonline.com
SUMMARY:SMART (Self-Management and Recovery Training) recovery meetings at Hope on 5th in Lincoln
DESCRIPTION:Meetings are free to attend and take place Fridays from noon to 1:30 PM. \nEvent codes
URL:https://www.wlcnonline.com/event/smart-self-management-and-recovery-training-recovery-meetings-at-hope-on-5th-in-lincoln/2026-01-02/
LOCATION:Hope on 5th in Lincoln\, 200 5th Street\, Lincoln\, 62656\, United States
ORGANIZER;CN="Logan Mason Recovery Oriented Systems of Care (ROSC)":MAILTO:jedavis@chestnut.org
END:VEVENT
BEGIN:VEVENT
DTSTART;TZID=America/Chicago:20260102T170000
DTEND;TZID=America/Chicago:20260102T180000
DTSTAMP:20260420T234851
CREATED:20260102T002901Z
LAST-MODIFIED:20260102T002901Z
UID:10022227-1767373200-1767376800@www.wlcnonline.com
SUMMARY:New Year Reformer class at Imago del Pilates Studio in Lincoln
DESCRIPTION:On January 2\, all reformer classes at Imago Del Pilates will feature a Ring In The New Year kickoff – complete with a festive playlist and a special focus on the Pilates Ring (also known as the magic circle). \nThis prop provides feedback and resistance to help participants move with purpose – activating the core\, sculpting the arms and legs\, and supporting mindful alignment to help reset your rhythm and begin the year feeling strong from the inside out. \nAll levels welcome. Modifications are always available. \nEvent code cchwf
URL:https://www.wlcnonline.com/event/new-year-reformer-class-at-imago-del-pilates-studio-in-lincoln-5/
LOCATION:Imago Dei Pilates Studio at the Dugan Center in Lincoln\, 1500 N McLean Street\, Suite 5\, Lincoln\, 62656\, United States
ORGANIZER;CN="Imago Dei Pilates":MAILTO:info@imagopilates.com
END:VEVENT
BEGIN:VEVENT
DTSTART;TZID=America/Chicago:20260102T180000
DTEND;TZID=America/Chicago:20260102T190000
DTSTAMP:20260420T234851
CREATED:20250227T214713Z
LAST-MODIFIED:20251231T161900Z
UID:10021505-1767376800-1767380400@www.wlcnonline.com
SUMMARY:Alcoholics Anonymous meetings by Land of Lincoln Recovery Group at Hope on 5th in Lincoln
DESCRIPTION:Meetings are free to attend and take place at 6 PM on Tuesdays\, Wednesdays\, Fridays and Saturdays as well as at 9 AM on Saturdays and Sundays. \nEvent codes
URL:https://www.wlcnonline.com/event/alcoholics-anonymous-meetings-by-land-of-lincoln-recovery-group-at-hope-on-5th-in-lincoln/2026-01-02/
LOCATION:Hope on 5th in Lincoln\, 200 5th Street\, Lincoln\, 62656\, United States
ORGANIZER;CN="Logan Mason Recovery Oriented Systems of Care (ROSC)":MAILTO:jedavis@chestnut.org
END:VEVENT
BEGIN:VEVENT
DTSTART;TZID=America/Chicago:20260102T180000
DTEND;TZID=America/Chicago:20260102T190000
DTSTAMP:20260420T234851
CREATED:20250227T215905Z
LAST-MODIFIED:20251231T161347Z
UID:10021467-1767376800-1767380400@www.wlcnonline.com
SUMMARY:Veterans recovery group meetings by Never Alone at Hope on 5th in Lincoln
DESCRIPTION:Meetings are free to attend and take place at 6 PM on the first and third Fridays of the month. \nEvent codes
URL:https://www.wlcnonline.com/event/veterans-recovery-group-meetings-by-never-alone-at-hope-on-5th-in-lincoln/2026-01-02/
LOCATION:Hope on 5th in Lincoln\, 200 5th Street\, Lincoln\, 62656\, United States
ORGANIZER;CN="Logan Mason Recovery Oriented Systems of Care (ROSC)":MAILTO:jedavis@chestnut.org
END:VEVENT
BEGIN:VEVENT
DTSTART;TZID=America/Chicago:20260103T080000
DTEND;TZID=America/Chicago:20260103T080000
DTSTAMP:20260420T234851
CREATED:20251226T191335Z
LAST-MODIFIED:20251226T191335Z
UID:10021402-1767427200-1767427200@www.wlcnonline.com
SUMMARY:Winter Rumble auto racing event at Four Rocks Arena in rural Delavan
DESCRIPTION:4 Rocks Raceway\n📅 Jan 2-3rd\, 2026\n🏁 Classes:\nMod Sprint\n13.5 Sprint -Roar Approved 13.5 Motors BLINKY ESC\nLate Model\n13.5 Late Model – Roar Approved 13.5 Motors BLINKY ESC\nMWM\nBuggy Street Stock – Roar Approved 13.5 Motors BLINKY ESC\nSC MOD\nLosi Sprint – Box Stock\nMidget ROAR approved 13.5 Motors BLINKY ESC\nEntry Fee: $40 / class \nRumble Racing format January 2nd and 3rd :\nFriday: Doors open at 9am. Practice from 11am-6pm. Seeding to Follow\nSaturday: Doors open at 7am Racing at 8am.\nSeeding Round- (Top 5 average)\n2 rounds of heats- 25 laps\n2nd round you will start where you finished\nLock 6 bump 2\n30 lap- lower mains\n50 lap- A mains \nEvent codes ccms
URL:https://www.wlcnonline.com/event/winter-rumble-auto-racing-event-at-four-rocks-arena-in-rural-delavan/2026-01-03/
LOCATION:Four Rocks Arena in rural Delavan\, 24865 Ilinois Route122\, Delavan\, IL\, 61734\, United States
END:VEVENT
BEGIN:VEVENT
DTSTART;TZID=America/Chicago:20260103T080000
DTEND;TZID=America/Chicago:20260103T100000
DTSTAMP:20260420T234851
CREATED:20250717T144857Z
LAST-MODIFIED:20260416T222931Z
UID:10022205-1767427200-1767434400@www.wlcnonline.com
SUMMARY:Precision Church: Faith + Fitness workout session at Precision Movement in Lincoln
DESCRIPTION:This event mixes faith and fitness to strengthen both bodies and spirits. The free event is open to the public; attendees do not have to be a Precision Fitness member to come break a sweat\, share positive energy and connect with others. \nThe event starts with prayer\, a group workout session suitable for all fitness levels\, followed by a time of fellowship and reflection. \nEvent codes cchwf ccrel
URL:https://www.wlcnonline.com/event/precision-church-faith-fitness-workout-session-at-precision-movement-in-lincoln-8/2026-01-03/
LOCATION:Precision Movement in Lincoln\, 1417 N. Kickapoo Street\, Lincoln\, IL\, 62656\, United States
ORGANIZER;CN="Precision Movement in Lincoln":MAILTO:ashley@precision-movement.com
END:VEVENT
BEGIN:VEVENT
DTSTART;TZID=America/Chicago:20260103T090000
DTEND;TZID=America/Chicago:20260103T100000
DTSTAMP:20260420T234851
CREATED:20250227T214918Z
LAST-MODIFIED:20251231T162155Z
UID:10021608-1767430800-1767434400@www.wlcnonline.com
SUMMARY:Alcoholics Anonymous meetings by Land of Lincoln Recovery Group at Hope on 5th in Lincoln
DESCRIPTION:Meetings are free to attend and take place at 6 PM on Tuesdays\, Wednesdays\, Fridays and Saturdays as well as at 9 AM on Saturdays and Sundays. \nEvent codes
URL:https://www.wlcnonline.com/event/alcoholics-anonymous-meetings-by-land-of-lincoln-recovery-group-at-hope-on-5th-in-lincoln-2/2026-01-03/
LOCATION:Hope on 5th in Lincoln\, 200 5th Street\, Lincoln\, 62656\, United States
ORGANIZER;CN="Logan Mason Recovery Oriented Systems of Care (ROSC)":MAILTO:jedavis@chestnut.org
END:VEVENT
BEGIN:VEVENT
DTSTART;TZID=America/Chicago:20260103T170000
DTEND;TZID=America/Chicago:20260103T183000
DTSTAMP:20260420T234851
CREATED:20251226T191709Z
LAST-MODIFIED:20251226T191709Z
UID:10021403-1767459600-1767465000@www.wlcnonline.com
SUMMARY:Soup supper fundraiser by the missions team at Atlanta Christian Church
DESCRIPTION:Proceeds will be used in support of the missions team going to Alaska in July 2026. A variety of soups will be available with cornbread\, grilled cheese\, corn dogs\, and desserts. \nEvent codes ccfb ccsoc ccrel ccfdd
URL:https://www.wlcnonline.com/event/soup-supper-fundraiser-by-the-missions-team-at-atlanta-christian-church/
LOCATION:Atlanta Christian Church\, 300 NE 3rd Street\, Atlanta\, IL\, 61723\, United States
ORGANIZER;CN="Atlanta Christian Church":MAILTO:atlantachristianfamily@gmail.com
END:VEVENT
BEGIN:VEVENT
DTSTART;TZID=America/Chicago:20260103T180000
DTEND;TZID=America/Chicago:20260103T190000
DTSTAMP:20260420T234851
CREATED:20250227T214713Z
LAST-MODIFIED:20251231T161900Z
UID:10021506-1767463200-1767466800@www.wlcnonline.com
SUMMARY:Alcoholics Anonymous meetings by Land of Lincoln Recovery Group at Hope on 5th in Lincoln
DESCRIPTION:Meetings are free to attend and take place at 6 PM on Tuesdays\, Wednesdays\, Fridays and Saturdays as well as at 9 AM on Saturdays and Sundays. \nEvent codes
URL:https://www.wlcnonline.com/event/alcoholics-anonymous-meetings-by-land-of-lincoln-recovery-group-at-hope-on-5th-in-lincoln/2026-01-03/
LOCATION:Hope on 5th in Lincoln\, 200 5th Street\, Lincoln\, 62656\, United States
ORGANIZER;CN="Logan Mason Recovery Oriented Systems of Care (ROSC)":MAILTO:jedavis@chestnut.org
END:VEVENT
BEGIN:VEVENT
DTSTART;TZID=America/Chicago:20260103T190000
DTEND;TZID=America/Chicago:20260103T220000
DTSTAMP:20260420T234851
CREATED:20251226T191815Z
LAST-MODIFIED:20251226T191815Z
UID:10021404-1767466800-1767477600@www.wlcnonline.com
SUMMARY:Live music by Spoony & The Bootleggers at Minier Tap in Minier
DESCRIPTION:This 4-piece band brings a fresh take to classic sounds of outlaw country\, bluegrass and southern rock music. Spoony & The Bootleggers features a driving rhythm section\, acoustic lead guitars\, and vocal harmonies to get audience members moving and grooving. \nEvent codes ccent cclm ccfb
URL:https://www.wlcnonline.com/event/live-music-by-spoony-the-bootleggers-at-minier-tap-in-minier-3/
LOCATION:Minier Tap\, 121 S. Main Avenue\, Minier\, IL\, 61759\, United States
END:VEVENT
BEGIN:VEVENT
DTSTART;TZID=America/Chicago:20260104T090000
DTEND;TZID=America/Chicago:20260104T100000
DTSTAMP:20260420T234851
CREATED:20250227T214918Z
LAST-MODIFIED:20251231T162155Z
UID:10021609-1767517200-1767520800@www.wlcnonline.com
SUMMARY:Alcoholics Anonymous meetings by Land of Lincoln Recovery Group at Hope on 5th in Lincoln
DESCRIPTION:Meetings are free to attend and take place at 6 PM on Tuesdays\, Wednesdays\, Fridays and Saturdays as well as at 9 AM on Saturdays and Sundays. \nEvent codes
URL:https://www.wlcnonline.com/event/alcoholics-anonymous-meetings-by-land-of-lincoln-recovery-group-at-hope-on-5th-in-lincoln-2/2026-01-04/
LOCATION:Hope on 5th in Lincoln\, 200 5th Street\, Lincoln\, 62656\, United States
ORGANIZER;CN="Logan Mason Recovery Oriented Systems of Care (ROSC)":MAILTO:jedavis@chestnut.org
END:VEVENT
BEGIN:VEVENT
DTSTART;TZID=America/Chicago:20260104T120000
DTEND;TZID=America/Chicago:20260104T120000
DTSTAMP:20260420T234851
CREATED:20251226T193044Z
LAST-MODIFIED:20260102T003700Z
UID:10021405-1767528000-1767528000@www.wlcnonline.com
SUMMARY:Preview of the Springfield Theatre Center musical "Something's Afoot" at Interurban Merchant in Williamsville
DESCRIPTION:The Interurban Merchant presents a sneak peek of the theatrical presentation\, Something’s Afoot\, a tongue-in-cheek whodunit that lovingly spoofs Agatha Christie mysteries and the music-hall style of 1930s England.  \nIn the show\, 10 strangers are stranded in an isolated English country house during a raging thunderstorm. One by one\, they’re dispatched by fiendishly clever devices. As the bodies pile up in the library\, the remaining guests must race to uncover the identity—and motive—of the mysterious culprit before it’s too late. \nThis preview takes place Saturday\, January 4 at noon at the Interurban Merchant in Williamsville. \nFull performances of the show take place January 16–18 and January 23–25 at at The Hoogland Center for the Arts in Springfield. click here to purchase tickets online to a full performance. \nEvent codes ccfb ccthe ccent
URL:https://www.wlcnonline.com/event/preview-of-the-springfield-theatre-center-musical-somethings-afoot-at-interurban-merchant-in-williamsville/
LOCATION:Interurban Merchant in Williamsville\, 112 W. Main Street\, Williamsville\, IL\, 62693\, United States
ORGANIZER;CN="Interurban Merchant":MAILTO:interurbanmerchant@gmail.com
END:VEVENT
BEGIN:VEVENT
DTSTART;TZID=America/Chicago:20260104T140000
DTEND;TZID=America/Chicago:20260104T160000
DTSTAMP:20260420T234851
CREATED:20240607T073345Z
LAST-MODIFIED:20251231T163021Z
UID:10021745-1767535200-1767542400@www.wlcnonline.com
SUMMARY:Xtreme Bar Bingo at The Next Stop Saloon in Mt. Pulaski
DESCRIPTION:Games take place every Sunday from 2 PM to 4 PM. \nEvent codes ccfb ccbin
URL:https://www.wlcnonline.com/event/xtreme-bar-bingo-at-the-next-stop-saloon-in-mt-pulaski/2026-01-04/
LOCATION:The Next Stop Saloon in Mt. Pulaski\, 100 E. Cooke Street\, Mt. Pulaski\, IL\, 62548\, United States
END:VEVENT
BEGIN:VEVENT
DTSTART;TZID=America/Chicago:20260104T170000
DTEND;TZID=America/Chicago:20260104T180000
DTSTAMP:20260420T234851
CREATED:20250227T215139Z
LAST-MODIFIED:20251231T162319Z
UID:10021660-1767546000-1767549600@www.wlcnonline.com
SUMMARY:Narcotics Anonymous meetings by Land of Lincoln Recovery Group at Hope on 5th in Lincoln
DESCRIPTION:Meetings are free to attend and take place at 6 PM Thursdays as well as at 5 PM on Sundays. \nEvent codes
URL:https://www.wlcnonline.com/event/narcotics-anonymous-meetings-by-land-of-lincoln-recovery-group-at-hope-on-5th-in-lincoln/2026-01-04/
LOCATION:Hope on 5th in Lincoln\, 200 5th Street\, Lincoln\, 62656\, United States
ORGANIZER;CN="Logan Mason Recovery Oriented Systems of Care (ROSC)":MAILTO:jedavis@chestnut.org
END:VEVENT
BEGIN:VEVENT
DTSTART;TZID=America/Chicago:20260104T180000
DTEND;TZID=America/Chicago:20260104T190000
DTSTAMP:20260420T234851
CREATED:20250227T221038Z
LAST-MODIFIED:20251231T162443Z
UID:10021686-1767549600-1767553200@www.wlcnonline.com
SUMMARY:Alcoholics Anonymous meetings at Trinity Episcopal Church in Lincoln
DESCRIPTION:Meetings are free to attend and take place at the following times: \n\nMondays at 7 PM\nWednesdays at 6 PM\nFridays at 11 AM\nSundays at 6 PM\n\nEvent codes
URL:https://www.wlcnonline.com/event/alcoholics-anonymous-meetings-at-trinity-episcopal-church-in-lincoln-4/2026-01-04/
LOCATION:Trinity Episcopal Church in Lincoln\, 402 Pekin Street\, Lincoln\, 62656\, United States
ORGANIZER;CN="Logan Mason Recovery Oriented Systems of Care (ROSC)":MAILTO:jedavis@chestnut.org
END:VEVENT
BEGIN:VEVENT
DTSTART;TZID=America/Chicago:20260105T051500
DTEND;TZID=America/Chicago:20260105T200000
DTSTAMP:20260420T234851
CREATED:20251231T202731Z
LAST-MODIFIED:20251231T202731Z
UID:10022201-1767590100-1767643200@www.wlcnonline.com
SUMMARY:Free week of Group Fitness Classes (January 2-8\, 2026) at Lincoln Park District
DESCRIPTION:Lincoln Park District is offering free classes for members of the community from October 1 through October 7. Individuals who are not members of the park district are invited to take part in any of the group fitness classes offered by the park district. Use this link to register online for the free classes. Call the park district for more information. \nEvent codes ccfre cchwf
URL:https://www.wlcnonline.com/event/free-week-of-group-fitness-classes-january-2-8-2026-at-lincoln-park-district/2026-01-05/
LOCATION:Lincoln Park District\, 1400 Primm Road\, Lincoln\, IL\, 62656\, United States
ORGANIZER;CN="Lincoln Park District":MAILTO:info@lincolnparkdistrict.com
END:VEVENT
END:VCALENDAR