BEGIN:VCALENDAR
VERSION:2.0
PRODID:-//WLCN 96.3 FM - ECPv6.15.20//NONSGML v1.0//EN
CALSCALE:GREGORIAN
METHOD:PUBLISH
X-WR-CALNAME:WLCN 96.3 FM
X-ORIGINAL-URL:https://www.wlcnonline.com
X-WR-CALDESC:Events for WLCN 96.3 FM
REFRESH-INTERVAL;VALUE=DURATION:PT1H
X-Robots-Tag:noindex
X-PUBLISHED-TTL:PT1H
BEGIN:VTIMEZONE
TZID:America/Chicago
BEGIN:DAYLIGHT
TZOFFSETFROM:-0600
TZOFFSETTO:-0500
TZNAME:CDT
DTSTART:20240310T080000
END:DAYLIGHT
BEGIN:STANDARD
TZOFFSETFROM:-0500
TZOFFSETTO:-0600
TZNAME:CST
DTSTART:20241103T070000
END:STANDARD
BEGIN:DAYLIGHT
TZOFFSETFROM:-0600
TZOFFSETTO:-0500
TZNAME:CDT
DTSTART:20250309T080000
END:DAYLIGHT
BEGIN:STANDARD
TZOFFSETFROM:-0500
TZOFFSETTO:-0600
TZNAME:CST
DTSTART:20251102T070000
END:STANDARD
BEGIN:DAYLIGHT
TZOFFSETFROM:-0600
TZOFFSETTO:-0500
TZNAME:CDT
DTSTART:20260308T080000
END:DAYLIGHT
BEGIN:STANDARD
TZOFFSETFROM:-0500
TZOFFSETTO:-0600
TZNAME:CST
DTSTART:20261101T070000
END:STANDARD
END:VTIMEZONE
BEGIN:VEVENT
DTSTART;TZID=America/Chicago:20251126T180000
DTEND;TZID=America/Chicago:20251126T190000
DTSTAMP:20260420T220629
CREATED:20250227T220829Z
LAST-MODIFIED:20251231T164443Z
UID:10019411-1764180000-1764183600@www.wlcnonline.com
SUMMARY:Alcoholics Anonymous meetings at Trinity Episcopal Church in Lincoln
DESCRIPTION:Meetings are free to attend and take place at the following times: \n\nMondays at 7 PM\nWednesdays at 6 PM\nFridays at 11 AM\nSundays at 6 PM\n\nEvent codes
URL:https://www.wlcnonline.com/event/alcoholics-anonymous-meetings-at-trinity-episcopal-church-in-lincoln-2/2025-11-26/
LOCATION:Trinity Episcopal Church in Lincoln\, 402 Pekin Street\, Lincoln\, 62656\, United States
ORGANIZER;CN="Logan Mason Recovery Oriented Systems of Care (ROSC)":MAILTO:jedavis@chestnut.org
END:VEVENT
BEGIN:VEVENT
DTSTART;TZID=America/Chicago:20251126T180000
DTEND;TZID=America/Chicago:20251126T190000
DTSTAMP:20260420T220629
CREATED:20250227T214713Z
LAST-MODIFIED:20251231T161900Z
UID:10019069-1764180000-1764183600@www.wlcnonline.com
SUMMARY:Alcoholics Anonymous meetings by Land of Lincoln Recovery Group at Hope on 5th in Lincoln
DESCRIPTION:Meetings are free to attend and take place at 6 PM on Tuesdays\, Wednesdays\, Fridays and Saturdays as well as at 9 AM on Saturdays and Sundays. \nEvent codes
URL:https://www.wlcnonline.com/event/alcoholics-anonymous-meetings-by-land-of-lincoln-recovery-group-at-hope-on-5th-in-lincoln/2025-11-26/
LOCATION:Hope on 5th in Lincoln\, 200 5th Street\, Lincoln\, 62656\, United States
ORGANIZER;CN="Logan Mason Recovery Oriented Systems of Care (ROSC)":MAILTO:jedavis@chestnut.org
END:VEVENT
BEGIN:VEVENT
DTSTART;TZID=America/Chicago:20251125T200000
DTEND;TZID=America/Chicago:20251126T000000
DTSTAMP:20260420T220629
CREATED:20250725T022208Z
LAST-MODIFIED:20251231T164013Z
UID:10020555-1764100800-1764115200@www.wlcnonline.com
SUMMARY:Karaoke at The Rusty Rail Pub in Lincoln
DESCRIPTION:Karaoke events are scheduled at the Rusty Rail each Tuesday night from 8 PM to midnight. \nEvent codes ccfb ccent cckar
URL:https://www.wlcnonline.com/event/karaoke-at-the-rusty-rail-pub-in-lincoln/2025-11-25/
LOCATION:The Rusty Rail Pub in Lincoln\, 405 Pulaski Street\, Lincoln\, IL\, 62656\, United States
END:VEVENT
BEGIN:VEVENT
DTSTART;TZID=America/Chicago:20251125T180000
DTEND;TZID=America/Chicago:20251125T190000
DTSTAMP:20260420T220629
CREATED:20250227T214713Z
LAST-MODIFIED:20251231T161900Z
UID:10019068-1764093600-1764097200@www.wlcnonline.com
SUMMARY:Alcoholics Anonymous meetings by Land of Lincoln Recovery Group at Hope on 5th in Lincoln
DESCRIPTION:Meetings are free to attend and take place at 6 PM on Tuesdays\, Wednesdays\, Fridays and Saturdays as well as at 9 AM on Saturdays and Sundays. \nEvent codes
URL:https://www.wlcnonline.com/event/alcoholics-anonymous-meetings-by-land-of-lincoln-recovery-group-at-hope-on-5th-in-lincoln/2025-11-25/
LOCATION:Hope on 5th in Lincoln\, 200 5th Street\, Lincoln\, 62656\, United States
ORGANIZER;CN="Logan Mason Recovery Oriented Systems of Care (ROSC)":MAILTO:jedavis@chestnut.org
END:VEVENT
BEGIN:VEVENT
DTSTART;TZID=America/Chicago:20251125T170000
DTEND;TZID=America/Chicago:20251125T203000
DTSTAMP:20260420T220629
CREATED:20250220T233455Z
LAST-MODIFIED:20251231T163935Z
UID:10018886-1764090000-1764102600@www.wlcnonline.com
SUMMARY:Tuesday night bingo (meal @ 5 PM\, bingo @ 6:30 PM) at Oasis Senior Center in Lincoln﻿
DESCRIPTION:Bingo takes place on Tuesday evenings from 6:30 PM to 8:30 PM and is open to the public. Doors open at 5 PM for a meal\, snack and beverages. \nEvent codes ccgc ccbin ccfb ccsoc
URL:https://www.wlcnonline.com/event/tuesday-night-bingo-meal-5-pm-bingo-630-pm-at-oasis-senior-center-in-lincoln/2025-11-25/
LOCATION:Oasis Senior Center\, 2810 Woodlawn Road\, Lincoln\, IL\, 62656\, United States
ORGANIZER;CN="Oasis Senior Center":MAILTO:nancy@oasisseniorcenter.com
END:VEVENT
BEGIN:VEVENT
DTSTART;TZID=America/Chicago:20251125T170000
DTEND;TZID=America/Chicago:20251125T200000
DTSTAMP:20260420T220629
CREATED:20251120T204640Z
LAST-MODIFIED:20251120T204640Z
UID:10021136-1764090000-1764100800@www.wlcnonline.com
SUMMARY:Fundraiser for Lexy Boyer to help defray medical and related expenses at Culver’s of Lincoln
DESCRIPTION:Purchase food from Culver’s of Lincoln and help support a worthy cause whether dining in\, carrying out\, using the drive-thru or ordering through DoorDash. During the hours of the fundraiser\, a portion of all proceeds will be donated to the organization. Donations will also be accepted. \nThe event will benefit Lexy Boyer to help with medical expenses. For those who would like to donate but can not attend\, an account has been set up at CEFCU in the name of Lexy Boyer. Donations to that account can be made at any CEFCU branch; simply mention the FBO account for Lexy Boyer. \nEvent codes ccfb\, ccfdd
URL:https://www.wlcnonline.com/event/fundraiser-for-lexy-boyer-to-help-defray-medical-and-related-expenses-at-culvers-of-lincoln/
LOCATION:Culver’s of Lincoln\, 2530 Woodlawn Road\, Lincoln\, IL\, 62656\, United States
ORGANIZER;CN="Culver's of Lincoln":MAILTO:lincolnculvers@comcast.net
END:VEVENT
BEGIN:VEVENT
DTSTART;TZID=America/Chicago:20251125T170000
DTEND;TZID=America/Chicago:20251125T180000
DTSTAMP:20260420T220629
CREATED:20251120T204757Z
LAST-MODIFIED:20251219T003107Z
UID:10021137-1764090000-1764093600@www.wlcnonline.com
SUMMARY:Lego club event at Mt. Pulaski Public Library
DESCRIPTION:Participants do not need to bring any Legos or other supplies to participate in this event. \nEvent codes ccaca ccsoc ccfk
URL:https://www.wlcnonline.com/event/lego-club-event-at-mt-pulaski-public-library-2/2025-11-25/
LOCATION:Mt. Pulaski Public Library\, 320 N. Washington Street\, Mt. Pulaski\, IL\, 62548\, United States
ORGANIZER;CN="Mt. Pulaski Public Library District":MAILTO:mtpulaskipubliclibrary@gmail.com
END:VEVENT
BEGIN:VEVENT
DTSTART;TZID=America/Chicago:20251124T190000
DTEND;TZID=America/Chicago:20251124T200000
DTSTAMP:20260420T220629
CREATED:20250227T220659Z
LAST-MODIFIED:20251231T163725Z
UID:10019367-1764010800-1764014400@www.wlcnonline.com
SUMMARY:Alcoholics Anonymous meetings at Trinity Episcopal Church in Lincoln
DESCRIPTION:Meetings are free to attend and take place at the following times: \n\nMondays at 7 PM\nWednesdays at 6 PM\nFridays at 11 AM\nSundays at 6 PM\n\nEvent codes
URL:https://www.wlcnonline.com/event/alcoholics-anonymous-meetings-at-trinity-episcopal-church-in-lincoln/2025-11-24/
LOCATION:Trinity Episcopal Church in Lincoln\, 402 Pekin Street\, Lincoln\, 62656\, United States
ORGANIZER;CN="Logan Mason Recovery Oriented Systems of Care (ROSC)":MAILTO:jedavis@chestnut.org
END:VEVENT
BEGIN:VEVENT
DTSTART;TZID=America/Chicago:20251124T180000
DTEND;TZID=America/Chicago:20251124T200000
DTSTAMP:20260420T220629
CREATED:20250725T024845Z
LAST-MODIFIED:20251231T163623Z
UID:10020585-1764007200-1764014400@www.wlcnonline.com
SUMMARY:Music bingo at Copper & Oak Bourbon & Craft Beer Bar in Lincoln
DESCRIPTION:Music bingo is like regular bingo\, except of numbers being called\, segments of songs are played; if you can identify the song played and it is on your bingo card\, cross it off and continue doing so until someone gets bingo. \nMusic bingo is free to play. \nEvent codes ccbin ccsoc ccfb
URL:https://www.wlcnonline.com/event/music-bingo-at-copper-oak-bourbon-craft-beer-bar-in-lincoln/2025-11-24/
LOCATION:Copper & Oak in Lincoln\, 227 N. Kickapoo Street\, Lincoln\, IL\, 62656\, United States
END:VEVENT
BEGIN:VEVENT
DTSTART;TZID=America/Chicago:20251124T180000
DTEND;TZID=America/Chicago:20251124T190000
DTSTAMP:20260420T220629
CREATED:20250227T215503Z
LAST-MODIFIED:20251231T163530Z
UID:10019260-1764007200-1764010800@www.wlcnonline.com
SUMMARY:Co-Dependents Anonymous (CoDA) meetings by Land of Lincoln Recovery Group at Hope on 5th in Lincoln
DESCRIPTION:Meetings are free to attend and take place at 6 PM Mondays. \nEvent codes
URL:https://www.wlcnonline.com/event/co-dependents-anonymous-coda-meetings-by-land-of-lincoln-recovery-group-at-hope-on-5th-in-lincoln/2025-11-24/
LOCATION:Hope on 5th in Lincoln\, 200 5th Street\, Lincoln\, 62656\, United States
ORGANIZER;CN="Logan Mason Recovery Oriented Systems of Care (ROSC)":MAILTO:jedavis@chestnut.org
END:VEVENT
BEGIN:VEVENT
DTSTART;TZID=America/Chicago:20251124T100000
DTEND;TZID=America/Chicago:20251124T104500
DTSTAMP:20260420T220629
CREATED:20250814T215225Z
LAST-MODIFIED:20260115T152229Z
UID:10020635-1763978400-1763981100@www.wlcnonline.com
SUMMARY:Chair yoga by Silver Fox Fitness at The Villas at Lincoln﻿
DESCRIPTION:Seated and standing poses will be utilized with the goal of increasing flexibility\, balance and strength along with providing relaxation. Participants never get down on the floor. \nEvent codes: ccfs\, cchwf
URL:https://www.wlcnonline.com/event/chair-yoga-by-silver-fox-fitness-at-the-villas-at-lincoln/2025-11-24/
LOCATION:Villas at Lincoln (formerly The Christian Village) in Lincoln\, 1507 7th Street\, Lincoln\, IL\, 62656\, United States
END:VEVENT
BEGIN:VEVENT
DTSTART;TZID=America/Chicago:20251123T180000
DTEND;TZID=America/Chicago:20251123T190000
DTSTAMP:20260420T220629
CREATED:20250227T221038Z
LAST-MODIFIED:20251231T162443Z
UID:10019498-1763920800-1763924400@www.wlcnonline.com
SUMMARY:Alcoholics Anonymous meetings at Trinity Episcopal Church in Lincoln
DESCRIPTION:Meetings are free to attend and take place at the following times: \n\nMondays at 7 PM\nWednesdays at 6 PM\nFridays at 11 AM\nSundays at 6 PM\n\nEvent codes
URL:https://www.wlcnonline.com/event/alcoholics-anonymous-meetings-at-trinity-episcopal-church-in-lincoln-4/2025-11-23/
LOCATION:Trinity Episcopal Church in Lincoln\, 402 Pekin Street\, Lincoln\, 62656\, United States
ORGANIZER;CN="Logan Mason Recovery Oriented Systems of Care (ROSC)":MAILTO:jedavis@chestnut.org
END:VEVENT
BEGIN:VEVENT
DTSTART;TZID=America/Chicago:20251123T170000
DTEND;TZID=America/Chicago:20251123T180000
DTSTAMP:20260420T220629
CREATED:20250227T215139Z
LAST-MODIFIED:20251231T162319Z
UID:10019673-1763917200-1763920800@www.wlcnonline.com
SUMMARY:Narcotics Anonymous meetings by Land of Lincoln Recovery Group at Hope on 5th in Lincoln
DESCRIPTION:Meetings are free to attend and take place at 6 PM Thursdays as well as at 5 PM on Sundays. \nEvent codes
URL:https://www.wlcnonline.com/event/narcotics-anonymous-meetings-by-land-of-lincoln-recovery-group-at-hope-on-5th-in-lincoln/2025-11-23/
LOCATION:Hope on 5th in Lincoln\, 200 5th Street\, Lincoln\, 62656\, United States
ORGANIZER;CN="Logan Mason Recovery Oriented Systems of Care (ROSC)":MAILTO:jedavis@chestnut.org
END:VEVENT
BEGIN:VEVENT
DTSTART;TZID=America/Chicago:20251123T160000
DTEND;TZID=America/Chicago:20251123T180000
DTSTAMP:20260420T220629
CREATED:20251028T175140Z
LAST-MODIFIED:20251028T175140Z
UID:10021015-1763913600-1763920800@www.wlcnonline.com
SUMMARY:Free Thanksgiving community dinner at Open Arms Christian Fellowship in Lincoln
DESCRIPTION:Open Arms Christian Fellowship invites all members of the community to a community Thanksgiving dinner. The event is completely free for attendees to enjoy a delicious Thanksgiving meal with friends and family. The meal is available as dine-in only. \nEvent codes ccfre ccfb ccrel
URL:https://www.wlcnonline.com/event/free-thanksgiving-community-dinner-at-open-arms-christian-fellowship-in-lincoln/
LOCATION:Open Arms Christian Fellowship\, 1321 State Route 10\, Lincoln\, IL\, 62656\, United States
ORGANIZER;CN="Open Arms Christian Fellowship":MAILTO:office@oacflincoln.com
END:VEVENT
BEGIN:VEVENT
DTSTART;TZID=America/Chicago:20251123T150000
DTEND;TZID=America/Chicago:20251123T180000
DTSTAMP:20260420T220629
CREATED:20250529T160206Z
LAST-MODIFIED:20251231T202325Z
UID:10021066-1763910000-1763920800@www.wlcnonline.com
SUMMARY:Live music by Deuces Wild acoustic duo at The Thirsty Barrel in Mason City
DESCRIPTION:Deuces Wild blends the diverse styles of the acoustic duo to create a unique sound to appeal to audiences of all ages. \nEvent codes ccsoc ccfb ccent cclm
URL:https://www.wlcnonline.com/event/live-music-by-deuces-wild-acoustic-duo-at-the-thirsty-barrel-in-mason-city/2025-11-23/
LOCATION:The Thirsty Barrel in Mason City\, 118 S. Tonica Street\, Mason City\, IL\, 62664\, United States
ORGANIZER;CN="The Thirsty Barrel in Mason City":MAILTO:thirstybarrelbar@gmail.com
END:VEVENT
BEGIN:VEVENT
DTSTART;TZID=America/Chicago:20251123T140000
DTEND;TZID=America/Chicago:20251123T160000
DTSTAMP:20260420T220629
CREATED:20251113T211305Z
LAST-MODIFIED:20251113T211305Z
UID:10021073-1763906400-1763913600@www.wlcnonline.com
SUMMARY:"Friends"giving trivia event at Spirited Republic in Lincoln
DESCRIPTION:Questions will be about the TV show Friends. \nThere will be prizes for the winning teams. Reservations are required; tickets cost $5 per person\, and no more than 6 people per table. \nReservations can be made by e-mailing TwinCityTrivia@gmail.com \nEvent codes ccfb ccgc cctriv
URL:https://www.wlcnonline.com/event/friendsgiving-trivia-event-at-spirited-republic-in-lincoln-2/
LOCATION:Spirited Republic in Lincoln\, 509 Pulaski Street\, Lincoln\, IL\, 62656\, United States
ORGANIZER;CN="Twin City Trivia":MAILTO:twincitytrivia@gmail.com
END:VEVENT
BEGIN:VEVENT
DTSTART;TZID=America/Chicago:20251123T140000
DTEND;TZID=America/Chicago:20251123T160000
DTSTAMP:20260420T220629
CREATED:20240607T073345Z
LAST-MODIFIED:20251231T163021Z
UID:10020364-1763906400-1763913600@www.wlcnonline.com
SUMMARY:Xtreme Bar Bingo at The Next Stop Saloon in Mt. Pulaski
DESCRIPTION:Games take place every Sunday from 2 PM to 4 PM. \nEvent codes ccfb ccbin
URL:https://www.wlcnonline.com/event/xtreme-bar-bingo-at-the-next-stop-saloon-in-mt-pulaski/2025-11-23/
LOCATION:The Next Stop Saloon in Mt. Pulaski\, 100 E. Cooke Street\, Mt. Pulaski\, IL\, 62548\, United States
END:VEVENT
BEGIN:VEVENT
DTSTART;TZID=America/Chicago:20251123T120000
DTEND;TZID=America/Chicago:20251123T160000
DTSTAMP:20260420T220629
CREATED:20251120T203938Z
LAST-MODIFIED:20251120T203938Z
UID:10021135-1763899200-1763913600@www.wlcnonline.com
SUMMARY:Merry market vendor sale at Clinton Eagles Lodge in Clinton
DESCRIPTION:The Clinton Eagles Merry Market will celebrate the season as attendees can shop small with a selection of local artisans\, vendors\, and small businesses. \nEvent codes ccvs cclbep ccchr
URL:https://www.wlcnonline.com/event/merry-market-vendor-sale-at-clinton-eagles-lodge-in-clinton/
LOCATION:Eagles Lodge in Clinton\, 220 N Center Street\, Clinton\, IL\, 61727\, United States
END:VEVENT
BEGIN:VEVENT
DTSTART;TZID=America/Chicago:20251123T100000
DTEND;TZID=America/Chicago:20251123T170000
DTSTAMP:20260420T220629
CREATED:20251120T203708Z
LAST-MODIFIED:20251120T203708Z
UID:10021134-1763892000-1763917200@www.wlcnonline.com
SUMMARY:4th annual Christmas extravaganza at Wapella Farmers & Merchants Bank Building in Wapella
DESCRIPTION:In addition to the items from vendors\, a food truck will be on site at the event. \nEvent codes ccvs ccchr cclbep
URL:https://www.wlcnonline.com/event/4th-annual-christmas-extravaganza-at-wapella-farmers-merchants-bank-building-in-wapella/
LOCATION:Wapella Farmers and Merchants Bank Building\, 318 Main Street\, Wapella\, IL\, 61777\, United States
END:VEVENT
BEGIN:VEVENT
DTSTART;TZID=America/Chicago:20251123T090000
DTEND;TZID=America/Chicago:20251123T100000
DTSTAMP:20260420T220629
CREATED:20250227T214918Z
LAST-MODIFIED:20251231T162155Z
UID:10019167-1763888400-1763892000@www.wlcnonline.com
SUMMARY:Alcoholics Anonymous meetings by Land of Lincoln Recovery Group at Hope on 5th in Lincoln
DESCRIPTION:Meetings are free to attend and take place at 6 PM on Tuesdays\, Wednesdays\, Fridays and Saturdays as well as at 9 AM on Saturdays and Sundays. \nEvent codes
URL:https://www.wlcnonline.com/event/alcoholics-anonymous-meetings-by-land-of-lincoln-recovery-group-at-hope-on-5th-in-lincoln-2/2025-11-23/
LOCATION:Hope on 5th in Lincoln\, 200 5th Street\, Lincoln\, 62656\, United States
ORGANIZER;CN="Logan Mason Recovery Oriented Systems of Care (ROSC)":MAILTO:jedavis@chestnut.org
END:VEVENT
BEGIN:VEVENT
DTSTART;TZID=America/Chicago:20251122T190000
DTEND;TZID=America/Chicago:20251122T203000
DTSTAMP:20260420T220630
CREATED:20251120T202256Z
LAST-MODIFIED:20251120T202256Z
UID:10021131-1763838000-1763843400@www.wlcnonline.com
SUMMARY:Headline comedy performance by Kathy Brennan at Mason City Limits Comedy Club in Mason City
DESCRIPTION:After retiring from state government\, Kathy Brennan started hitting the comedy stage in the Springfield area with her funny and often ridiculous observations. \nTickets are general admission and cost $13.50; click here to purchase tickets online. \nEvent codes: ccent\, cclc
URL:https://www.wlcnonline.com/event/headline-comedy-performance-by-kathy-brennan-at-mason-city-limits-comedy-club-in-mason-city/
LOCATION:Mason City Limits Comedy Club\, 114 E. Chestnut Street\, Mason City\, IL\, 62664\, United States
ORGANIZER;CN="Mason City Limits Comedy Club":MAILTO:mclimits@hotmail.com
END:VEVENT
BEGIN:VEVENT
DTSTART;TZID=America/Chicago:20251122T180000
DTEND;TZID=America/Chicago:20251122T210000
DTSTAMP:20260420T220630
CREATED:20251120T203411Z
LAST-MODIFIED:20251120T203411Z
UID:10021133-1763834400-1763845200@www.wlcnonline.com
SUMMARY:Live music by Gary Lohrenz and Sydney Worth at Spirited Republic in Lincoln
DESCRIPTION:Sydney Worth and Gary Lorenz will provide music from 6 PM to 9 PM. \nEvent codes cclm ccent ccfb
URL:https://www.wlcnonline.com/event/live-music-by-gary-lohrenz-and-sydney-worth-at-spirited-republic-in-lincoln/
LOCATION:Spirited Republic in Lincoln\, 509 Pulaski Street\, Lincoln\, IL\, 62656\, United States
ORGANIZER;CN="Spirited Republic/Limerick Brewing Company":MAILTO:spiritedrepublic@gmail.com
END:VEVENT
BEGIN:VEVENT
DTSTART;TZID=America/Chicago:20251122T180000
DTEND;TZID=America/Chicago:20251122T190000
DTSTAMP:20260420T220630
CREATED:20250227T214713Z
LAST-MODIFIED:20251231T161900Z
UID:10019067-1763834400-1763838000@www.wlcnonline.com
SUMMARY:Alcoholics Anonymous meetings by Land of Lincoln Recovery Group at Hope on 5th in Lincoln
DESCRIPTION:Meetings are free to attend and take place at 6 PM on Tuesdays\, Wednesdays\, Fridays and Saturdays as well as at 9 AM on Saturdays and Sundays. \nEvent codes
URL:https://www.wlcnonline.com/event/alcoholics-anonymous-meetings-by-land-of-lincoln-recovery-group-at-hope-on-5th-in-lincoln/2025-11-22/
LOCATION:Hope on 5th in Lincoln\, 200 5th Street\, Lincoln\, 62656\, United States
ORGANIZER;CN="Logan Mason Recovery Oriented Systems of Care (ROSC)":MAILTO:jedavis@chestnut.org
END:VEVENT
BEGIN:VEVENT
DTSTART;TZID=America/Chicago:20251122T110000
DTEND;TZID=America/Chicago:20251122T130000
DTSTAMP:20260420T220630
CREATED:20251120T202616Z
LAST-MODIFIED:20251120T202616Z
UID:10021132-1763809200-1763816400@www.wlcnonline.com
SUMMARY:Pokeman Game Challenge at The Epicenter Gaming in Lincoln
DESCRIPTION:Pokemon TCG NOVEMBER Challenge!\nCost: $10 per player\nRegistration: 10:30am-11:30\nEvent Start: 11:30\nPlayers must have a Pokémon Trainer Club account with a Player ID attached\, and must have opted in to the Play! Pokémon program in order to earn points and prizes. \nAll participants will receive 1 Play! Point just for playing. League Challenge events consist of Swiss round\n**Players need to bring their own legal 60-card deck with a filled out Deck Sheet for check -in** \nEvent codes ccfk ccgc
URL:https://www.wlcnonline.com/event/pokeman-game-challenge-at-the-epicenter-gaming-in-lincoln/
LOCATION:Epicenter Gaming\, 414 Pulaski Street\, Lincoln\, IL\, 62656\, United States
ORGANIZER;CN="Epicenter Gaming":MAILTO:lincolnsportscards@gmail.com
END:VEVENT
BEGIN:VEVENT
DTSTART;TZID=America/Chicago:20251122T090000
DTEND;TZID=America/Chicago:20251122T100000
DTSTAMP:20260420T220630
CREATED:20250227T214918Z
LAST-MODIFIED:20251231T162155Z
UID:10019166-1763802000-1763805600@www.wlcnonline.com
SUMMARY:Alcoholics Anonymous meetings by Land of Lincoln Recovery Group at Hope on 5th in Lincoln
DESCRIPTION:Meetings are free to attend and take place at 6 PM on Tuesdays\, Wednesdays\, Fridays and Saturdays as well as at 9 AM on Saturdays and Sundays. \nEvent codes
URL:https://www.wlcnonline.com/event/alcoholics-anonymous-meetings-by-land-of-lincoln-recovery-group-at-hope-on-5th-in-lincoln-2/2025-11-22/
LOCATION:Hope on 5th in Lincoln\, 200 5th Street\, Lincoln\, 62656\, United States
ORGANIZER;CN="Logan Mason Recovery Oriented Systems of Care (ROSC)":MAILTO:jedavis@chestnut.org
END:VEVENT
BEGIN:VEVENT
DTSTART;TZID=America/Chicago:20251122T080000
DTEND;TZID=America/Chicago:20251122T160000
DTSTAMP:20260420T220630
CREATED:20251114T041545Z
LAST-MODIFIED:20251114T042507Z
UID:10021078-1763798400-1763827200@www.wlcnonline.com
SUMMARY:2025 Christmas on Vinegar Hill
DESCRIPTION:A day of shopping and dining in Mt. Pulaski\, Chestnut\, Elkhart and Lake Fork. Look for the green Christmas tree signs in front of participating locations. \nClick here for Page 1 of the event map.\nClick here for Page 2 of the event map. \nEvent codes ccfb ccvs ccchr
URL:https://www.wlcnonline.com/event/2025-christmas-on-vinegar-hill/
LOCATION:Mt. Pulaski\, Elkhart\, Chestnut and Lake Fork\, IL
ORGANIZER;CN="City of Mt. Pulaski":MAILTO:mpcovh@gmail.com
END:VEVENT
BEGIN:VEVENT
DTSTART;TZID=America/Chicago:20251122T080000
DTEND;TZID=America/Chicago:20251122T100000
DTSTAMP:20260420T220630
CREATED:20250717T144857Z
LAST-MODIFIED:20260416T222931Z
UID:10021072-1763798400-1763805600@www.wlcnonline.com
SUMMARY:Precision Church: Faith + Fitness workout session at Precision Movement in Lincoln
DESCRIPTION:This event mixes faith and fitness to strengthen both bodies and spirits. The free event is open to the public; attendees do not have to be a Precision Fitness member to come break a sweat\, share positive energy and connect with others. \nThe event starts with prayer\, a group workout session suitable for all fitness levels\, followed by a time of fellowship and reflection. \nEvent codes cchwf ccrel
URL:https://www.wlcnonline.com/event/precision-church-faith-fitness-workout-session-at-precision-movement-in-lincoln-8/2025-11-22/
LOCATION:Precision Movement in Lincoln\, 1417 N. Kickapoo Street\, Lincoln\, IL\, 62656\, United States
ORGANIZER;CN="Precision Movement in Lincoln":MAILTO:ashley@precision-movement.com
END:VEVENT
BEGIN:VEVENT
DTSTART;TZID=America/Chicago:20251121T180000
DTEND;TZID=America/Chicago:20251121T190000
DTSTAMP:20260420T220630
CREATED:20251231T161511Z
LAST-MODIFIED:20251231T161511Z
UID:10021497-1763748000-1763751600@www.wlcnonline.com
SUMMARY:Veterans recovery group meetings by Never Alone at Hope on 5th in Lincoln
DESCRIPTION:Meetings are free to attend and take place at 6 PM on the first and third Fridays of the month. \nEvent codes
URL:https://www.wlcnonline.com/event/veterans-recovery-group-meetings-by-never-alone-at-hope-on-5th-in-lincoln-3/2025-11-21/
LOCATION:Hope on 5th in Lincoln\, 200 5th Street\, Lincoln\, 62656\, United States
ORGANIZER;CN="Logan Mason Recovery Oriented Systems of Care (ROSC)":MAILTO:jedavis@chestnut.org
END:VEVENT
BEGIN:VEVENT
DTSTART;TZID=America/Chicago:20251121T180000
DTEND;TZID=America/Chicago:20251121T190000
DTSTAMP:20260420T220630
CREATED:20250227T220016Z
LAST-MODIFIED:20250227T220016Z
UID:10019284-1763748000-1763751600@www.wlcnonline.com
SUMMARY:Veterans recovery group meetings by Never Alone at Hope on 5th in Lincoln
DESCRIPTION:Meetings are free to attend and take place at 6 PM on the first and third Fridays of the month. \nEvent codes
URL:https://www.wlcnonline.com/event/veterans-recovery-group-meetings-by-never-alone-at-hope-on-5th-in-lincoln-2/2025-11-21/
LOCATION:Hope on 5th in Lincoln\, 200 5th Street\, Lincoln\, 62656\, United States
ORGANIZER;CN="Logan Mason Recovery Oriented Systems of Care (ROSC)":MAILTO:jedavis@chestnut.org
END:VEVENT
BEGIN:VEVENT
DTSTART;TZID=America/Chicago:20251121T180000
DTEND;TZID=America/Chicago:20251121T190000
DTSTAMP:20260420T220630
CREATED:20250227T214713Z
LAST-MODIFIED:20251231T161900Z
UID:10019066-1763748000-1763751600@www.wlcnonline.com
SUMMARY:Alcoholics Anonymous meetings by Land of Lincoln Recovery Group at Hope on 5th in Lincoln
DESCRIPTION:Meetings are free to attend and take place at 6 PM on Tuesdays\, Wednesdays\, Fridays and Saturdays as well as at 9 AM on Saturdays and Sundays. \nEvent codes
URL:https://www.wlcnonline.com/event/alcoholics-anonymous-meetings-by-land-of-lincoln-recovery-group-at-hope-on-5th-in-lincoln/2025-11-21/
LOCATION:Hope on 5th in Lincoln\, 200 5th Street\, Lincoln\, 62656\, United States
ORGANIZER;CN="Logan Mason Recovery Oriented Systems of Care (ROSC)":MAILTO:jedavis@chestnut.org
END:VEVENT
END:VCALENDAR